Workbook
Name Slicer_Account_Name: #N/A
Name Slicer_Account_Type: #N/A
Name Slicer_Category: #N/A
Name Slicer_Month_Name: #N/A
Name Slicer_Product_Name: #N/A
Name Slicer_Region: #N/A
Name Slicer_Season: #N/A

Sheet ONEPAGE
B2: TOPLINE | W2: CHANNEL
D4: Sell-In | J4: Sell-Out | P4: Sell-Through | R4: Returns | Y4: Sell-In | AE4: Sell-Out | AK4: Sell-Through | AM4: Returns
D5: Units | E5: vs LY | F5: Mix | G5: Value | H5: vs LY | I5: Mix | J5: Units | K5: vs LY | L5: Mix | M5: Value | N5: vs LY | O5: Mix | P5: Units | Q5: vs LY | R5: Units | S5: vs LY | T5: Mix | U5: As a percentage of Sell-Out vs LY (ppts) | Y5: Units | Z5: vs LY | AA5: Mix | AB5: Value | AC5: vs LY | AD5: Mix | AE5: Units | AF5: vs LY | AG5: Mix | AH5: Value | AI5: vs LY | AJ5: Mix | AK5: Units | AL5: vs LY | AM5: Units | AN5: vs LY | AO5: Mix | AP5: As a percentage of Sell-Out vs LY (ppts)
B7: TOTAL | D7: =IFERROR(_xlfn.XLOOKUP($B7,PIVOT!$B:$B,PIVOT!F:F,0),0) -> 400799 | E7: =IFERROR(_xlfn.XLOOKUP($B7,PIVOT!$B:$B,PIVOT!Q:Q,0),0) -> 0.01177121 | F7: =IFERROR(D7/D$7,0) -> 1 | G7: =IFERROR(_xlfn.XLOOKUP($B7,PIVOT!$B:$B,PIVOT!H:H,0),0) -> 204070580 | H7: =IFERROR(_xlfn.XLOOKUP($B7,PIVOT!$B:$B,PIVOT!R:R,0),0) -> 0.039315524 | I7: =IFERROR(G7/G$7,0) -> 1 | J7: =IFERROR(_xlfn.XLOOKUP($B7,PIVOT!$B:$B,PIVOT!J:J,0),0) -> 380418 | K7: =IFERROR(_xlfn.XLOOKUP($B7,PIVOT!$B:$B,PIVOT!S:S,0),0) -> 0.084086848 | L7: =IFERROR(J7/J$7,0) -> 1 | M7: =IFERROR(_xlfn.XLOOKUP($B7,PIVOT!$B:$B,PIVOT!L:L,0),0) -> 475972780 | N7: =IFERROR(_xlfn.XLOOKUP($B7,PIVOT!$B:$B,PIVOT!T:T,0),0) -> 0.11995269 | O7: =IFERROR(M7/M$7,0) -> 1 | P7: =IFERROR(_xlfn.XLOOKUP($B7,PIVOT!$B:$B,PIVOT!AA:AA,0),0) -> 0.8770828 | Q7: =IFERROR(_xlfn.XLOOKUP($B7,PIVOT!$B:$B,PIVOT!AB:AB,0),0) -> -0.87518627 | R7: =IFERROR(_xlfn.XLOOKUP($B7,PIVOT!$B:$B,PIVOT!P:P,0),0) -> 13165 | S7: =IFERROR(_xlfn.XLOOKUP($B7,PIVOT!$B:$B,PIVOT!V:V,0),0) -> 0.070934678 | T7: =IFERROR(R7/R$7,0) -> 1 | U7: =IFERROR(_xlfn.XLOOKUP($B7,PIVOT!$B:$B,PIVOT!Y:Y,0),0) -> -0.042500519 | W7: DACH | Y7: =IFERROR(_xlfn.XLOOKUP($W7,PIVOT!$B:$B,PIVOT!F:F,0),0) -> 82705 | Z7: =IFERROR(_xlfn.XLOOKUP($W7,PIVOT!$B:$B,PIVOT!Q:Q,0),0) -> 0.011533475 | AA7: =IFERROR(Y7/D$7,0) -> 0.20635032 | AB7: =IFERROR(_xlfn.XLOOKUP($W7,PIVOT!$B:$B,PIVOT!H:H,0),0) -> 41048180 | AC7: =IFERROR(_xlfn.XLOOKUP($W7,PIVOT!$B:$B,PIVOT!R:R,0),0) -> 0.041162359 | AD7: =IFERROR(AB7/G$7,0) -> 0.20114698 | AE7: =IFERROR(_xlfn.XLOOKUP($W7,PIVOT!$B:$B,PIVOT!J:J,0),0) -> 76217 | AF7: =IFERROR(_xlfn.XLOOKUP($W7,PIVOT!$B:$B,PIVOT!S:S,0),0) -> 0.043182503 | AG7: =IFERROR(AE7/J$7,0) -> 0.20035067 | AH7: =IFERROR(_xlfn.XLOOKUP($W7,PIVOT!$B:$B,PIVOT!L:L,0),0) -> 91877120 | AI7: =IFERROR(_xlfn.XLOOKUP($W7,PIVOT!$B:$B,PIVOT!T:T,0),0) -> 0.071555389 | AJ7: =IFERROR(AH7/M$7,0) -> 0.1930302 | AK7: =IFERROR(_xlfn.XLOOKUP($W7,PIVOT!$B:$B,PIVOT!AA:AA,0),0) -> 0.8603147 | AL7: =IFERROR(_xlfn.XLOOKUP($W7,PIVOT!$B:$B,PIVOT!AB:AB,0),0) -> -3.32789 | AM7: =IFERROR(_xlfn.XLOOKUP($W7,PIVOT!$B:$B,PIVOT!P:P,0),0) -> 2930 | AN7: =IFERROR(_xlfn.XLOOKUP($W7,PIVOT!$B:$B,PIVOT!V:V,0),0) -> 0.041592606 | AO7: =IFERROR(AM7/R$7,0) -> 0.22255982 | AP7: =IFERROR(_xlfn.XLOOKUP($W7,PIVOT!$B:$B,PIVOT!Y:Y,0),0) -> -0.0058679555
W8: FRANCE AND BENELUX | Y8: =IFERROR(_xlfn.XLOOKUP($W8,PIVOT!$B:$B,PIVOT!F:F,0),0) -> 81631 | Z8: =IFERROR(_xlfn.XLOOKUP($W8,PIVOT!$B:$B,PIVOT!Q:Q,0),0) -> 0.034993851 | AA8: =IFERROR(Y8/D$7,0) -> 0.20367067 | AB8: =IFERROR(_xlfn.XLOOKUP($W8,PIVOT!$B:$B,PIVOT!H:H,0),0) -> 41334010 | AC8: =IFERROR(_xlfn.XLOOKUP($W8,PIVOT!$B:$B,PIVOT!R:R,0),0) -> 0.070230666 | AD8: =IFERROR(AB8/G$7,0) -> 0.20254762 | AE8: =IFERROR(_xlfn.XLOOKUP($W8,PIVOT!$B:$B,PIVOT!J:J,0),0) -> 80250 | AF8: =IFERROR(_xlfn.XLOOKUP($W8,PIVOT!$B:$B,PIVOT!S:S,0),0) -> 0.12905722 | AG8: =IFERROR(AE8/J$7,0) -> 0.21095216 | AH8: =IFERROR(_xlfn.XLOOKUP($W8,PIVOT!$B:$B,PIVOT!L:L,0),0) -> 100357300 | AI8: =IFERROR(_xlfn.XLOOKUP($W8,PIVOT!$B:$B,PIVOT!T:T,0),0) -> 0.1792597 | AJ8: =IFERROR(AH8/M$7,0) -> 0.21084672 | AK8: =IFERROR(_xlfn.XLOOKUP($W8,PIVOT!$B:$B,PIVOT!AA:AA,0),0) -> 0.91957052 | AL8: =IFERROR(_xlfn.XLOOKUP($W8,PIVOT!$B:$B,PIVOT!AB:AB,0),0) -> 1.8390115 | AM8: =IFERROR(_xlfn.XLOOKUP($W8,PIVOT!$B:$B,PIVOT!P:P,0),0) -> 2433 | AN8: =IFERROR(_xlfn.XLOOKUP($W8,PIVOT!$B:$B,PIVOT!V:V,0),0) -> 0.12847866 | AO8: =IFERROR(AM8/R$7,0) -> 0.1848082 | AP8: =IFERROR(_xlfn.XLOOKUP($W8,PIVOT!$B:$B,PIVOT!Y:Y,0),0) -> -0.0015543496
B9: WHOLESALE | D9: =IFERROR(_xlfn.XLOOKUP($B9,PIVOT!$B:$B,PIVOT!F:F,0),0) -> 298377 | E9: =IFERROR(_xlfn.XLOOKUP($B9,PIVOT!$B:$B,PIVOT!Q:Q,0),0) -> 0.0013759913 | F9: =IFERROR(D9/D$7,0) -> 0.74445545 | G9: =IFERROR(_xlfn.XLOOKUP($B9,PIVOT!$B:$B,PIVOT!H:H,0),0) -> 146216810 | H9: =IFERROR(_xlfn.XLOOKUP($B9,PIVOT!$B:$B,PIVOT!R:R,0),0) -> 0.055507462 | I9: =IFERROR(G9/G$7,0) -> 0.71650117 | J9: =IFERROR(_xlfn.XLOOKUP($B9,PIVOT!$B:$B,PIVOT!J:J,0),0) -> 293051 | K9: =IFERROR(_xlfn.XLOOKUP($B9,PIVOT!$B:$B,PIVOT!S:S,0),0) -> 0.070728882 | L9: =IFERROR(J9/J$7,0) -> 0.77033947 | M9: =IFERROR(_xlfn.XLOOKUP($B9,PIVOT!$B:$B,PIVOT!L:L,0),0) -> 352227630 | N9: =IFERROR(_xlfn.XLOOKUP($B9,PIVOT!$B:$B,PIVOT!T:T,0),0) -> 0.12836572 | O9: =IFERROR(M9/M$7,0) -> 0.74001633 | P9: =IFERROR(_xlfn.XLOOKUP($B9,PIVOT!$B:$B,PIVOT!AA:AA,0),0) -> 0.93001358 | Q9: =IFERROR(_xlfn.XLOOKUP($B9,PIVOT!$B:$B,PIVOT!AB:AB,0),0) -> 1.147898 | R9: =IFERROR(_xlfn.XLOOKUP($B9,PIVOT!$B:$B,PIVOT!P:P,0),0) -> 8041 | S9: =IFERROR(_xlfn.XLOOKUP($B9,PIVOT!$B:$B,PIVOT!V:V,0),0) -> 0.065456473 | T9: =IFERROR(R9/R$7,0) -> 0.61078618 | U9: =IFERROR(_xlfn.XLOOKUP($B9,PIVOT!$B:$B,PIVOT!Y:Y,0),0) -> -0.01357814 | W9: SOUTHERN EUROPE | Y9: =IFERROR(_xlfn.XLOOKUP($W9,PIVOT!$B:$B,PIVOT!F:F,0),0) -> 75121 | Z9: =IFERROR(_xlfn.XLOOKUP($W9,PIVOT!$B:$B,PIVOT!Q:Q,0),0) -> 0.02346081 | AA9: =IFERROR(Y9/D$7,0) -> 0.18742811 | AB9: =IFERROR(_xlfn.XLOOKUP($W9,PIVOT!$B:$B,PIVOT!H:H,0),0) -> 37334350 | AC9: =IFERROR(_xlfn.XLOOKUP($W9,PIVOT!$B:$B,PIVOT!R:R,0),0) -> 0.061130841 | AD9: =IFERROR(AB9/G$7,0) -> 0.18294822 | AE9: =IFERROR(_xlfn.XLOOKUP($W9,PIVOT!$B:$B,PIVOT!J:J,0),0) -> 73123 | AF9: =IFERROR(_xlfn.XLOOKUP($W9,PIVOT!$B:$B,PIVOT!S:S,0),0) -> 0.12866779 | AG9: =IFERROR(AE9/J$7,0) -> 0.19221751 | AH9: =IFERROR(_xlfn.XLOOKUP($W9,PIVOT!$B:$B,PIVOT!L:L,0),0) -> 89280690 | AI9: =IFERROR(_xlfn.XLOOKUP($W9,PIVOT!$B:$B,PIVOT!T:T,0),0) -> 0.17926483 | AJ9: =IFERROR(AH9/M$7,0) -> 0.1875752 | AK9: =IFERROR(_xlfn.XLOOKUP($W9,PIVOT!$B:$B,PIVOT!AA:AA,0),0) -> 0.8921138 | AL9: =IFERROR(_xlfn.XLOOKUP($W9,PIVOT!$B:$B,PIVOT!AB:AB,0),0) -> 0.94451021 | AM9: =IFERROR(_xlfn.XLOOKUP($W9,PIVOT!$B:$B,PIVOT!P:P,0),0) -> 2111 | AN9: =IFERROR(_xlfn.XLOOKUP($W9,PIVOT!$B:$B,PIVOT!V:V,0),0) -> 0.19468025 | AO9: =IFERROR(AM9/R$7,0) -> 0.16034941 | AP9: =IFERROR(_xlfn.XLOOKUP($W9,PIVOT!$B:$B,PIVOT!Y:Y,0),0) -> 0.15951755
B10: FRANCHISE | D10: =IFERROR(_xlfn.XLOOKUP($B10,PIVOT!$B:$B,PIVOT!F:F,0),0) -> 102422 | E10: =IFERROR(_xlfn.XLOOKUP($B10,PIVOT!$B:$B,PIVOT!Q:Q,0),0) -> 0.043323249 | F10: =IFERROR(D10/D$7,0) -> 0.25554455 | G10: =IFERROR(_xlfn.XLOOKUP($B10,PIVOT!$B:$B,PIVOT!H:H,0),0) -> 57853770 | H10: =IFERROR(_xlfn.XLOOKUP($B10,PIVOT!$B:$B,PIVOT!R:R,0),0) -> 0.00052452777 | I10: =IFERROR(G10/G$7,0) -> 0.28349883 | J10: =IFERROR(_xlfn.XLOOKUP($B10,PIVOT!$B:$B,PIVOT!J:J,0),0) -> 87367 | K10: =IFERROR(_xlfn.XLOOKUP($B10,PIVOT!$B:$B,PIVOT!S:S,0),0) -> 0.13143309 | L10: =IFERROR(J10/J$7,0) -> 0.22966053 | M10: =IFERROR(_xlfn.XLOOKUP($B10,PIVOT!$B:$B,PIVOT!L:L,0),0) -> 123745150 | N10: =IFERROR(_xlfn.XLOOKUP($B10,PIVOT!$B:$B,PIVOT!T:T,0),0) -> 0.096678357 | O10: =IFERROR(M10/M$7,0) -> 0.25998367 | P10: =IFERROR(_xlfn.XLOOKUP($B10,PIVOT!$B:$B,PIVOT!AA:AA,0),0) -> 0.73648495 | Q10: =IFERROR(_xlfn.XLOOKUP($B10,PIVOT!$B:$B,PIVOT!AB:AB,0),0) -> -5.0097374 | R10: =IFERROR(_xlfn.XLOOKUP($B10,PIVOT!$B:$B,PIVOT!P:P,0),0) -> 5124 | S10: =IFERROR(_xlfn.XLOOKUP($B10,PIVOT!$B:$B,PIVOT!V:V,0),0) -> 0.079646018 | T10: =IFERROR(R10/R$7,0) -> 0.38921382 | U10: =IFERROR(_xlfn.XLOOKUP($B10,PIVOT!$B:$B,PIVOT!Y:Y,0),0) -> -0.28132066 | W10: UK AND IRELAND | Y10: =IFERROR(_xlfn.XLOOKUP($W10,PIVOT!$B:$B,PIVOT!F:F,0),0) -> 74401 | Z10: =IFERROR(_xlfn.XLOOKUP($W10,PIVOT!$B:$B,PIVOT!Q:Q,0),0) -> 0.044547088 | AA10: =IFERROR(Y10/D$7,0) -> 0.1856317 | AB10: =IFERROR(_xlfn.XLOOKUP($W10,PIVOT!$B:$B,PIVOT!H:H,0),0) -> 37436190 | AC10: =IFERROR(_xlfn.XLOOKUP($W10,PIVOT!$B:$B,PIVOT!R:R,0),0) -> 0.09181545 | AD10: =IFERROR(AB10/G$7,0) -> 0.18344727 | AE10: =IFERROR(_xlfn.XLOOKUP($W10,PIVOT!$B:$B,PIVOT!J:J,0),0) -> 72761 | AF10: =IFERROR(_xlfn.XLOOKUP($W10,PIVOT!$B:$B,PIVOT!S:S,0),0) -> 0.12048601 | AG10: =IFERROR(AE10/J$7,0) -> 0.19126592 | AH10: =IFERROR(_xlfn.XLOOKUP($W10,PIVOT!$B:$B,PIVOT!L:L,0),0) -> 90383910 | AI10: =IFERROR(_xlfn.XLOOKUP($W10,PIVOT!$B:$B,PIVOT!T:T,0),0) -> 0.18418463 | AJ10: =IFERROR(AH10/M$7,0) -> 0.18989302 | AK10: =IFERROR(_xlfn.XLOOKUP($W10,PIVOT!$B:$B,PIVOT!AA:AA,0),0) -> 0.92454796 | AL10: =IFERROR(_xlfn.XLOOKUP($W10,PIVOT!$B:$B,PIVOT!AB:AB,0),0) -> 1.2869969 | AM10: =IFERROR(_xlfn.XLOOKUP($W10,PIVOT!$B:$B,PIVOT!P:P,0),0) -> 2146 | AN10: =IFERROR(_xlfn.XLOOKUP($W10,PIVOT!$B:$B,PIVOT!V:V,0),0) -> 0.07676869 | AO10: =IFERROR(AM10/R$7,0) -> 0.16300798 | AP10: =IFERROR(_xlfn.XLOOKUP($W10,PIVOT!$B:$B,PIVOT!Y:Y,0),0) -> -0.11974632
W11: IBERIA | Y11: =IFERROR(_xlfn.XLOOKUP($W11,PIVOT!$B:$B,PIVOT!F:F,0),0) -> 47610 | Z11: =IFERROR(_xlfn.XLOOKUP($W11,PIVOT!$B:$B,PIVOT!Q:Q,0),0) -> -0.027454345 | AA11: =IFERROR(Y11/D$7,0) -> 0.11878772 | AB11: =IFERROR(_xlfn.XLOOKUP($W11,PIVOT!$B:$B,PIVOT!H:H,0),0) -> 25738720 | AC11: =IFERROR(_xlfn.XLOOKUP($W11,PIVOT!$B:$B,PIVOT!R:R,0),0) -> -0.021134506 | AD11: =IFERROR(AB11/G$7,0) -> 0.12612656 | AE11: =IFERROR(_xlfn.XLOOKUP($W11,PIVOT!$B:$B,PIVOT!J:J,0),0) -> 42272 | AF11: =IFERROR(_xlfn.XLOOKUP($W11,PIVOT!$B:$B,PIVOT!S:S,0),0) -> 0.06577919 | AG11: =IFERROR(AE11/J$7,0) -> 0.11111987 | AH11: =IFERROR(_xlfn.XLOOKUP($W11,PIVOT!$B:$B,PIVOT!L:L,0),0) -> 55987170 | AI11: =IFERROR(_xlfn.XLOOKUP($W11,PIVOT!$B:$B,PIVOT!T:T,0),0) -> 0.060984186 | AJ11: =IFERROR(AH11/M$7,0) -> 0.11762683 | AK11: =IFERROR(_xlfn.XLOOKUP($W11,PIVOT!$B:$B,PIVOT!AA:AA,0),0) -> 0.77614571 | AL11: =IFERROR(_xlfn.XLOOKUP($W11,PIVOT!$B:$B,PIVOT!AB:AB,0),0) -> -3.4063874 | AM11: =IFERROR(_xlfn.XLOOKUP($W11,PIVOT!$B:$B,PIVOT!P:P,0),0) -> 2470 | AN11: =IFERROR(_xlfn.XLOOKUP($W11,PIVOT!$B:$B,PIVOT!V:V,0),0) -> 0.013541239 | AO11: =IFERROR(AM11/R$7,0) -> 0.18761869 | AP11: =IFERROR(_xlfn.XLOOKUP($W11,PIVOT!$B:$B,PIVOT!Y:Y,0),0) -> -0.30115416
B12: WOMEN'S FOOTWEAR | D12: =IFERROR(_xlfn.XLOOKUP($B12,PIVOT!$B:$B,PIVOT!F:F,0),0) -> 175157 | E12: =IFERROR(_xlfn.XLOOKUP($B12,PIVOT!$B:$B,PIVOT!Q:Q,0),0) -> 0.23940901 | F12: =IFERROR(D12/D$7,0) -> 0.43701955 | G12: =IFERROR(_xlfn.XLOOKUP($B12,PIVOT!$B:$B,PIVOT!H:H,0),0) -> 105052050 | H12: =IFERROR(_xlfn.XLOOKUP($B12,PIVOT!$B:$B,PIVOT!R:R,0),0) -> 0.14889071 | I12: =IFERROR(G12/G$7,0) -> 0.51478292 | J12: =IFERROR(_xlfn.XLOOKUP($B12,PIVOT!$B:$B,PIVOT!J:J,0),0) -> 163562 | K12: =IFERROR(_xlfn.XLOOKUP($B12,PIVOT!$B:$B,PIVOT!S:S,0),0) -> 0.32062462 | L12: =IFERROR(J12/J$7,0) -> 0.42995337 | M12: =IFERROR(_xlfn.XLOOKUP($B12,PIVOT!$B:$B,PIVOT!L:L,0),0) -> 246911400 | N12: =IFERROR(_xlfn.XLOOKUP($B12,PIVOT!$B:$B,PIVOT!T:T,0),0) -> 0.23115513 | O12: =IFERROR(M12/M$7,0) -> 0.51875109 | P12: =IFERROR(_xlfn.XLOOKUP($B12,PIVOT!$B:$B,PIVOT!AA:AA,0),0) -> 0.86985332 | Q12: =IFERROR(_xlfn.XLOOKUP($B12,PIVOT!$B:$B,PIVOT!AB:AB,0),0) -> -0.6522071 | R12: =IFERROR(_xlfn.XLOOKUP($B12,PIVOT!$B:$B,PIVOT!P:P,0),0) -> 5920 | S12: =IFERROR(_xlfn.XLOOKUP($B12,PIVOT!$B:$B,PIVOT!V:V,0),0) -> 0.28863735 | T12: =IFERROR(R12/R$7,0) -> 0.44967717 | U12: =IFERROR(_xlfn.XLOOKUP($B12,PIVOT!$B:$B,PIVOT!Y:Y,0),0) -> -0.089843294 | W12: NORDICS AND BALTICS | Y12: =IFERROR(_xlfn.XLOOKUP($W12,PIVOT!$B:$B,PIVOT!F:F,0),0) -> 39331 | Z12: =IFERROR(_xlfn.XLOOKUP($W12,PIVOT!$B:$B,PIVOT!Q:Q,0),0) -> -0.061805257 | AA12: =IFERROR(Y12/D$7,0) -> 0.098131482 | AB12: =IFERROR(_xlfn.XLOOKUP($W12,PIVOT!$B:$B,PIVOT!H:H,0),0) -> 21179130 | AC12: =IFERROR(_xlfn.XLOOKUP($W12,PIVOT!$B:$B,PIVOT!R:R,0),0) -> -0.060292395 | AD12: =IFERROR(AB12/G$7,0) -> 0.10378336 | AE12: =IFERROR(_xlfn.XLOOKUP($W12,PIVOT!$B:$B,PIVOT!J:J,0),0) -> 35795 | AF12: =IFERROR(_xlfn.XLOOKUP($W12,PIVOT!$B:$B,PIVOT!S:S,0),0) -> -0.042530427 | AG12: =IFERROR(AE12/J$7,0) -> 0.094093865 | AH12: =IFERROR(_xlfn.XLOOKUP($W12,PIVOT!$B:$B,PIVOT!L:L,0),0) -> 48086590 | AI12: =IFERROR(_xlfn.XLOOKUP($W12,PIVOT!$B:$B,PIVOT!T:T,0),0) -> -0.02552499 | AJ12: =IFERROR(AH12/M$7,0) -> 0.10102803 | AK12: =IFERROR(_xlfn.XLOOKUP($W12,PIVOT!$B:$B,PIVOT!AA:AA,0),0) -> 0.83748625 | AL12: =IFERROR(_xlfn.XLOOKUP($W12,PIVOT!$B:$B,PIVOT!AB:AB,0),0) -> -5.4288947 | AM12: =IFERROR(_xlfn.XLOOKUP($W12,PIVOT!$B:$B,PIVOT!P:P,0),0) -> 1075 | AN12: =IFERROR(_xlfn.XLOOKUP($W12,PIVOT!$B:$B,PIVOT!V:V,0),0) -> -0.046140195 | AO12: =IFERROR(AM12/R$7,0) -> 0.081655906 | AP12: =IFERROR(_xlfn.XLOOKUP($W12,PIVOT!$B:$B,PIVOT!Y:Y,0),0) -> -0.0113653
B13: MEN'S FOOTWEAR | D13: =IFERROR(_xlfn.XLOOKUP($B13,PIVOT!$B:$B,PIVOT!F:F,0),0) -> 140850 | E13: =IFERROR(_xlfn.XLOOKUP($B13,PIVOT!$B:$B,PIVOT!Q:Q,0),0) -> 0.0074819032 | F13: =IFERROR(D13/D$7,0) -> 0.35142303 | G13: =IFERROR(_xlfn.XLOOKUP($B13,PIVOT!$B:$B,PIVOT!H:H,0),0) -> 76607880 | H13: =IFERROR(_xlfn.XLOOKUP($B13,PIVOT!$B:$B,PIVOT!R:R,0),0) -> 0.010664581 | I13: =IFERROR(G13/G$7,0) -> 0.37539894 | J13: =IFERROR(_xlfn.XLOOKUP($B13,PIVOT!$B:$B,PIVOT!J:J,0),0) -> 131768 | K13: =IFERROR(_xlfn.XLOOKUP($B13,PIVOT!$B:$B,PIVOT!S:S,0),0) -> 0.088568903 | L13: =IFERROR(J13/J$7,0) -> 0.34637688 | M13: =IFERROR(_xlfn.XLOOKUP($B13,PIVOT!$B:$B,PIVOT!L:L,0),0) -> 176308800 | N13: =IFERROR(_xlfn.XLOOKUP($B13,PIVOT!$B:$B,PIVOT!T:T,0),0) -> 0.094333275 | O13: =IFERROR(M13/M$7,0) -> 0.37041782 | P13: =IFERROR(_xlfn.XLOOKUP($B13,PIVOT!$B:$B,PIVOT!AA:AA,0),0) -> 0.85123097 | Q13: =IFERROR(_xlfn.XLOOKUP($B13,PIVOT!$B:$B,PIVOT!AB:AB,0),0) -> -1.4602629 | R13: =IFERROR(_xlfn.XLOOKUP($B13,PIVOT!$B:$B,PIVOT!P:P,0),0) -> 4956 | S13: =IFERROR(_xlfn.XLOOKUP($B13,PIVOT!$B:$B,PIVOT!V:V,0),0) -> 0.03035343 | T13: =IFERROR(R13/R$7,0) -> 0.37645272 | U13: =IFERROR(_xlfn.XLOOKUP($B13,PIVOT!$B:$B,PIVOT!Y:Y,0),0) -> -0.21250715
B14: LEATHER GOODS | D14: =IFERROR(_xlfn.XLOOKUP($B14,PIVOT!$B:$B,PIVOT!F:F,0),0) -> 84792 | E14: =IFERROR(_xlfn.XLOOKUP($B14,PIVOT!$B:$B,PIVOT!Q:Q,0),0) -> -0.26273596 | F14: =IFERROR(D14/D$7,0) -> 0.21155741 | G14: =IFERROR(_xlfn.XLOOKUP($B14,PIVOT!$B:$B,PIVOT!H:H,0),0) -> 22410650 | H14: =IFERROR(_xlfn.XLOOKUP($B14,PIVOT!$B:$B,PIVOT!R:R,0),0) -> -0.23023485 | I14: =IFERROR(G14/G$7,0) -> 0.10981813 | J14: =IFERROR(_xlfn.XLOOKUP($B14,PIVOT!$B:$B,PIVOT!J:J,0),0) -> 85088 | K14: =IFERROR(_xlfn.XLOOKUP($B14,PIVOT!$B:$B,PIVOT!S:S,0),0) -> -0.19737388 | L14: =IFERROR(J14/J$7,0) -> 0.22366975 | M14: =IFERROR(_xlfn.XLOOKUP($B14,PIVOT!$B:$B,PIVOT!L:L,0),0) -> 52752580 | N14: =IFERROR(_xlfn.XLOOKUP($B14,PIVOT!$B:$B,PIVOT!T:T,0),0) -> -0.16702489 | O14: =IFERROR(M14/M$7,0) -> 0.11083109 | P14: =IFERROR(_xlfn.XLOOKUP($B14,PIVOT!$B:$B,PIVOT!AA:AA,0),0) -> 0.93606161 | Q14: =IFERROR(_xlfn.XLOOKUP($B14,PIVOT!$B:$B,PIVOT!AB:AB,0),0) -> 1.4290267 | R14: =IFERROR(_xlfn.XLOOKUP($B14,PIVOT!$B:$B,PIVOT!P:P,0),0) -> 2289 | S14: =IFERROR(_xlfn.XLOOKUP($B14,PIVOT!$B:$B,PIVOT!V:V,0),0) -> -0.20768432 | T14: =IFERROR(R14/R$7,0) -> 0.17387011 | U14: =IFERROR(_xlfn.XLOOKUP($B14,PIVOT!$B:$B,PIVOT!Y:Y,0),0) -> -0.035007115 | W14: ALPENROSE SCHUHHAUS | Y14: =IFERROR(_xlfn.XLOOKUP($W14,PIVOT!$B:$B,PIVOT!F:F,0),0) -> 65180 | Z14: =IFERROR(_xlfn.XLOOKUP($W14,PIVOT!$B:$B,PIVOT!Q:Q,0),0) -> -0.0062509529 | AA14: =IFERROR(Y14/D$7,0) -> 0.16262516 | AB14: =IFERROR(_xlfn.XLOOKUP($W14,PIVOT!$B:$B,PIVOT!H:H,0),0) -> 31044040 | AC14: =IFERROR(_xlfn.XLOOKUP($W14,PIVOT!$B:$B,PIVOT!R:R,0),0) -> 0.04320154 | AD14: =IFERROR(AB14/G$7,0) -> 0.15212403 | AE14: =IFERROR(_xlfn.XLOOKUP($W14,PIVOT!$B:$B,PIVOT!J:J,0),0) -> 64235 | AF14: =IFERROR(_xlfn.XLOOKUP($W14,PIVOT!$B:$B,PIVOT!S:S,0),0) -> 0.048375251 | AG14: =IFERROR(AE14/J$7,0) -> 0.16885373 | AH14: =IFERROR(_xlfn.XLOOKUP($W14,PIVOT!$B:$B,PIVOT!L:L,0),0) -> 74643080 | AI14: =IFERROR(_xlfn.XLOOKUP($W14,PIVOT!$B:$B,PIVOT!T:T,0),0) -> 0.094049971 | AJ14: =IFERROR(AH14/M$7,0) -> 0.15682216 | AK14: =IFERROR(_xlfn.XLOOKUP($W14,PIVOT!$B:$B,PIVOT!AA:AA,0),0) -> 0.94518835 | AL14: =IFERROR(_xlfn.XLOOKUP($W14,PIVOT!$B:$B,PIVOT!AB:AB,0),0) -> 1.1036799 | AM14: =IFERROR(_xlfn.XLOOKUP($W14,PIVOT!$B:$B,PIVOT!P:P,0),0) -> 1611 | AN14: =IFERROR(_xlfn.XLOOKUP($W14,PIVOT!$B:$B,PIVOT!V:V,0),0) -> 0.046783626 | AO14: =IFERROR(AM14/R$7,0) -> 0.12236992 | AP14: =IFERROR(_xlfn.XLOOKUP($W14,PIVOT!$B:$B,PIVOT!Y:Y,0),0) -> -0.0038133591
W15: CASA LOMBARDI | Y15: =IFERROR(_xlfn.XLOOKUP($W15,PIVOT!$B:$B,PIVOT!F:F,0),0) -> 61240 | Z15: =IFERROR(_xlfn.XLOOKUP($W15,PIVOT!$B:$B,PIVOT!Q:Q,0),0) -> 0.028155063 | AA15: =IFERROR(Y15/D$7,0) -> 0.15279479 | AB15: =IFERROR(_xlfn.XLOOKUP($W15,PIVOT!$B:$B,PIVOT!H:H,0),0) -> 29612350 | AC15: =IFERROR(_xlfn.XLOOKUP($W15,PIVOT!$B:$B,PIVOT!R:R,0),0) -> 0.09073085 | AD15: =IFERROR(AB15/G$7,0) -> 0.14510837 | AE15: =IFERROR(_xlfn.XLOOKUP($W15,PIVOT!$B:$B,PIVOT!J:J,0),0) -> 60919 | AF15: =IFERROR(_xlfn.XLOOKUP($W15,PIVOT!$B:$B,PIVOT!S:S,0),0) -> 0.11925847 | AG15: =IFERROR(AE15/J$7,0) -> 0.16013701 | AH15: =IFERROR(_xlfn.XLOOKUP($W15,PIVOT!$B:$B,PIVOT!L:L,0),0) -> 72066430 | AI15: =IFERROR(_xlfn.XLOOKUP($W15,PIVOT!$B:$B,PIVOT!T:T,0),0) -> 0.18382004 | AJ15: =IFERROR(AH15/M$7,0) -> 0.15140872 | AK15: =IFERROR(_xlfn.XLOOKUP($W15,PIVOT!$B:$B,PIVOT!AA:AA,0),0) -> 0.93604892 | AL15: =IFERROR(_xlfn.XLOOKUP($W15,PIVOT!$B:$B,PIVOT!AB:AB,0),0) -> 2.2260162 | AM15: =IFERROR(_xlfn.XLOOKUP($W15,PIVOT!$B:$B,PIVOT!P:P,0),0) -> 1563 | AN15: =IFERROR(_xlfn.XLOOKUP($W15,PIVOT!$B:$B,PIVOT!V:V,0),0) -> 0.20788253 | AO15: =IFERROR(AM15/R$7,0) -> 0.11872389 | AP15: =IFERROR(_xlfn.XLOOKUP($W15,PIVOT!$B:$B,PIVOT!Y:Y,0),0) -> 0.18824922
B16: ETOILE PUMP 100 | D16: =IFERROR(_xlfn.XLOOKUP($B16,PIVOT!$B:$B,PIVOT!F:F,0),0) -> 41055 | E16: =IFERROR(_xlfn.XLOOKUP($B16,PIVOT!$B:$B,PIVOT!Q:Q,0),0) -> -0.31501935 | F16: =IFERROR(D16/D$7,0) -> 0.10243289 | G16: =IFERROR(_xlfn.XLOOKUP($B16,PIVOT!$B:$B,PIVOT!H:H,0),0) -> 25454100 | H16: =IFERROR(_xlfn.XLOOKUP($B16,PIVOT!$B:$B,PIVOT!R:R,0),0) -> -0.31501935 | I16: =IFERROR(G16/G$7,0) -> 0.12473185 | J16: =IFERROR(_xlfn.XLOOKUP($B16,PIVOT!$B:$B,PIVOT!J:J,0),0) -> 40216 | K16: =IFERROR(_xlfn.XLOOKUP($B16,PIVOT!$B:$B,PIVOT!S:S,0),0) -> -0.22885467 | L16: =IFERROR(J16/J$7,0) -> 0.10571529 | M16: =IFERROR(_xlfn.XLOOKUP($B16,PIVOT!$B:$B,PIVOT!L:L,0),0) -> 62334800 | N16: =IFERROR(_xlfn.XLOOKUP($B16,PIVOT!$B:$B,PIVOT!T:T,0),0) -> -0.22885467 | O16: =IFERROR(M16/M$7,0) -> 0.13096295 | P16: =IFERROR(_xlfn.XLOOKUP($B16,PIVOT!$B:$B,PIVOT!AA:AA,0),0) -> 0.85845412 | Q16: =IFERROR(_xlfn.XLOOKUP($B16,PIVOT!$B:$B,PIVOT!AB:AB,0),0) -> -1.1657336 | R16: =IFERROR(_xlfn.XLOOKUP($B16,PIVOT!$B:$B,PIVOT!P:P,0),0) -> 1548 | S16: =IFERROR(_xlfn.XLOOKUP($B16,PIVOT!$B:$B,PIVOT!V:V,0),0) -> -0.22328149 | T16: =IFERROR(R16/R$7,0) -> 0.1175845 | U16: =IFERROR(_xlfn.XLOOKUP($B16,PIVOT!$B:$B,PIVOT!Y:Y,0),0) -> 0.027619259 | W16: LE COMPTOIR DE LA MODE | Y16: =IFERROR(_xlfn.XLOOKUP($W16,PIVOT!$B:$B,PIVOT!F:F,0),0) -> 59905 | Z16: =IFERROR(_xlfn.XLOOKUP($W16,PIVOT!$B:$B,PIVOT!Q:Q,0),0) -> 0.0091302663 | AA16: =IFERROR(Y16/D$7,0) -> 0.14946395 | AB16: =IFERROR(_xlfn.XLOOKUP($W16,PIVOT!$B:$B,PIVOT!H:H,0),0) -> 28790290 | AC16: =IFERROR(_xlfn.XLOOKUP($W16,PIVOT!$B:$B,PIVOT!R:R,0),0) -> 0.068715605 | AD16: =IFERROR(AB16/G$7,0) -> 0.14108006 | AE16: =IFERROR(_xlfn.XLOOKUP($W16,PIVOT!$B:$B,PIVOT!J:J,0),0) -> 58834 | AF16: =IFERROR(_xlfn.XLOOKUP($W16,PIVOT!$B:$B,PIVOT!S:S,0),0) -> 0.086661003 | AG16: =IFERROR(AE16/J$7,0) -> 0.15465619 | AH16: =IFERROR(_xlfn.XLOOKUP($W16,PIVOT!$B:$B,PIVOT!L:L,0),0) -> 69515920 | AI16: =IFERROR(_xlfn.XLOOKUP($W16,PIVOT!$B:$B,PIVOT!T:T,0),0) -> 0.15859114 | AJ16: =IFERROR(AH16/M$7,0) -> 0.1460502 | AK16: =IFERROR(_xlfn.XLOOKUP($W16,PIVOT!$B:$B,PIVOT!AA:AA,0),0) -> 0.92722058 | AL16: =IFERROR(_xlfn.XLOOKUP($W16,PIVOT!$B:$B,PIVOT!AB:AB,0),0) -> 1.5170983 | AM16: =IFERROR(_xlfn.XLOOKUP($W16,PIVOT!$B:$B,PIVOT!P:P,0),0) -> 1774 | AN16: =IFERROR(_xlfn.XLOOKUP($W16,PIVOT!$B:$B,PIVOT!V:V,0),0) -> 0.059737157 | AO16: =IFERROR(AM16/R$7,0) -> 0.13475123 | AP16: =IFERROR(_xlfn.XLOOKUP($W16,PIVOT!$B:$B,PIVOT!Y:Y,0),0) -> -0.076606245
B17: CAMBON SLINGBACK | D17: =IFERROR(_xlfn.XLOOKUP($B17,PIVOT!$B:$B,PIVOT!F:F,0),0) -> 34575 | E17: =IFERROR(_xlfn.XLOOKUP($B17,PIVOT!$B:$B,PIVOT!Q:Q,0),0) -> -0.30993533 | F17: =IFERROR(D17/D$7,0) -> 0.086265185 | G17: =IFERROR(_xlfn.XLOOKUP($B17,PIVOT!$B:$B,PIVOT!H:H,0),0) -> 22128000 | H17: =IFERROR(_xlfn.XLOOKUP($B17,PIVOT!$B:$B,PIVOT!R:R,0),0) -> -0.30993533 | I17: =IFERROR(G17/G$7,0) -> 0.10843307 | J17: =IFERROR(_xlfn.XLOOKUP($B17,PIVOT!$B:$B,PIVOT!J:J,0),0) -> 33607 | K17: =IFERROR(_xlfn.XLOOKUP($B17,PIVOT!$B:$B,PIVOT!S:S,0),0) -> -0.23516158 | L17: =IFERROR(J17/J$7,0) -> 0.088342297 | M17: =IFERROR(_xlfn.XLOOKUP($B17,PIVOT!$B:$B,PIVOT!L:L,0),0) -> 53771200 | N17: =IFERROR(_xlfn.XLOOKUP($B17,PIVOT!$B:$B,PIVOT!T:T,0),0) -> -0.23516158 | O17: =IFERROR(M17/M$7,0) -> 0.11297117 | P17: =IFERROR(_xlfn.XLOOKUP($B17,PIVOT!$B:$B,PIVOT!AA:AA,0),0) -> 0.86046035 | Q17: =IFERROR(_xlfn.XLOOKUP($B17,PIVOT!$B:$B,PIVOT!AB:AB,0),0) -> -1.6515537 | R17: =IFERROR(_xlfn.XLOOKUP($B17,PIVOT!$B:$B,PIVOT!P:P,0),0) -> 1336 | S17: =IFERROR(_xlfn.XLOOKUP($B17,PIVOT!$B:$B,PIVOT!V:V,0),0) -> -0.20570749 | T17: =IFERROR(R17/R$7,0) -> 0.1014812 | U17: =IFERROR(_xlfn.XLOOKUP($B17,PIVOT!$B:$B,PIVOT!Y:Y,0),0) -> 0.14741507 | W17: HARTWELL & VANE | Y17: =IFERROR(_xlfn.XLOOKUP($W17,PIVOT!$B:$B,PIVOT!F:F,0),0) -> 55380 | Z17: =IFERROR(_xlfn.XLOOKUP($W17,PIVOT!$B:$B,PIVOT!Q:Q,0),0) -> -0.0099930281 | AA17: =IFERROR(Y17/D$7,0) -> 0.138174 | AB17: =IFERROR(_xlfn.XLOOKUP($W17,PIVOT!$B:$B,PIVOT!H:H,0),0) -> 26646090 | AC17: =IFERROR(_xlfn.XLOOKUP($W17,PIVOT!$B:$B,PIVOT!R:R,0),0) -> 0.059281141 | AD17: =IFERROR(AB17/G$7,0) -> 0.13057291 | AE17: =IFERROR(_xlfn.XLOOKUP($W17,PIVOT!$B:$B,PIVOT!J:J,0),0) -> 54061 | AF17: =IFERROR(_xlfn.XLOOKUP($W17,PIVOT!$B:$B,PIVOT!S:S,0),0) -> 0.04013468 | AG17: =IFERROR(AE17/J$7,0) -> 0.14210947 | AH17: =IFERROR(_xlfn.XLOOKUP($W17,PIVOT!$B:$B,PIVOT!L:L,0),0) -> 63919690 | AI17: =IFERROR(_xlfn.XLOOKUP($W17,PIVOT!$B:$B,PIVOT!T:T,0),0) -> 0.11826066 | AJ17: =IFERROR(AH17/M$7,0) -> 0.13429274 | AK17: =IFERROR(_xlfn.XLOOKUP($W17,PIVOT!$B:$B,PIVOT!AA:AA,0),0) -> 0.93605638 | AL17: =IFERROR(_xlfn.XLOOKUP($W17,PIVOT!$B:$B,PIVOT!AB:AB,0),0) -> 0.69192813 | AM17: =IFERROR(_xlfn.XLOOKUP($W17,PIVOT!$B:$B,PIVOT!P:P,0),0) -> 1595 | AN17: =IFERROR(_xlfn.XLOOKUP($W17,PIVOT!$B:$B,PIVOT!V:V,0),0) -> 0.0031446541 | AO17: =IFERROR(AM17/R$7,0) -> 0.12115458 | AP17: =IFERROR(_xlfn.XLOOKUP($W17,PIVOT!$B:$B,PIVOT!Y:Y,0),0) -> -0.10879218
B18: CAMBON CARD HOLDER | D18: =IFERROR(_xlfn.XLOOKUP($B18,PIVOT!$B:$B,PIVOT!F:F,0),0) -> 33270 | E18: =IFERROR(_xlfn.XLOOKUP($B18,PIVOT!$B:$B,PIVOT!Q:Q,0),0) -> -0.31745446 | F18: =IFERROR(D18/D$7,0) -> 0.083009189 | G18: =IFERROR(_xlfn.XLOOKUP($B18,PIVOT!$B:$B,PIVOT!H:H,0),0) -> 6321300 | H18: =IFERROR(_xlfn.XLOOKUP($B18,PIVOT!$B:$B,PIVOT!R:R,0),0) -> -0.31745446 | I18: =IFERROR(G18/G$7,0) -> 0.030976048 | J18: =IFERROR(_xlfn.XLOOKUP($B18,PIVOT!$B:$B,PIVOT!J:J,0),0) -> 33815 | K18: =IFERROR(_xlfn.XLOOKUP($B18,PIVOT!$B:$B,PIVOT!S:S,0),0) -> -0.24139091 | L18: =IFERROR(J18/J$7,0) -> 0.088889064 | M18: =IFERROR(_xlfn.XLOOKUP($B18,PIVOT!$B:$B,PIVOT!L:L,0),0) -> 15216750 | N18: =IFERROR(_xlfn.XLOOKUP($B18,PIVOT!$B:$B,PIVOT!T:T,0),0) -> -0.24139091 | O18: =IFERROR(M18/M$7,0) -> 0.03196979 | P18: =IFERROR(_xlfn.XLOOKUP($B18,PIVOT!$B:$B,PIVOT!AA:AA,0),0) -> 0.93344559 | Q18: =IFERROR(_xlfn.XLOOKUP($B18,PIVOT!$B:$B,PIVOT!AB:AB,0),0) -> 1.8974067 | R18: =IFERROR(_xlfn.XLOOKUP($B18,PIVOT!$B:$B,PIVOT!P:P,0),0) -> 945 | S18: =IFERROR(_xlfn.XLOOKUP($B18,PIVOT!$B:$B,PIVOT!V:V,0),0) -> -0.22093982 | T18: =IFERROR(R18/R$7,0) -> 0.071781238 | U18: =IFERROR(_xlfn.XLOOKUP($B18,PIVOT!$B:$B,PIVOT!Y:Y,0),0) -> 0.073361464 | W18: CASA SERRANO | Y18: =IFERROR(_xlfn.XLOOKUP($W18,PIVOT!$B:$B,PIVOT!F:F,0),0) -> 30272 | Z18: =IFERROR(_xlfn.XLOOKUP($W18,PIVOT!$B:$B,PIVOT!Q:Q,0),0) -> -0.002767163 | AA18: =IFERROR(Y18/D$7,0) -> 0.075529131 | AB18: =IFERROR(_xlfn.XLOOKUP($W18,PIVOT!$B:$B,PIVOT!H:H,0),0) -> 16114710 | AC18: =IFERROR(_xlfn.XLOOKUP($W18,PIVOT!$B:$B,PIVOT!R:R,0),0) -> 0.037945764 | AD18: =IFERROR(AB18/G$7,0) -> 0.078966356 | AE18: =IFERROR(_xlfn.XLOOKUP($W18,PIVOT!$B:$B,PIVOT!J:J,0),0) -> 29939 | AF18: =IFERROR(_xlfn.XLOOKUP($W18,PIVOT!$B:$B,PIVOT!S:S,0),0) -> 0.12097499 | AG18: =IFERROR(AE18/J$7,0) -> 0.078700272 | AH18: =IFERROR(_xlfn.XLOOKUP($W18,PIVOT!$B:$B,PIVOT!L:L,0),0) -> 38895780 | AI18: =IFERROR(_xlfn.XLOOKUP($W18,PIVOT!$B:$B,PIVOT!T:T,0),0) -> 0.14265696 | AJ18: =IFERROR(AH18/M$7,0) -> 0.081718497 | AK18: =IFERROR(_xlfn.XLOOKUP($W18,PIVOT!$B:$B,PIVOT!AA:AA,0),0) -> 0.90428295 | AL18: =IFERROR(_xlfn.XLOOKUP($W18,PIVOT!$B:$B,PIVOT!AB:AB,0),0) -> 2.4456889 | AM18: =IFERROR(_xlfn.XLOOKUP($W18,PIVOT!$B:$B,PIVOT!P:P,0),0) -> 869 | AN18: =IFERROR(_xlfn.XLOOKUP($W18,PIVOT!$B:$B,PIVOT!V:V,0),0) -> 0.070197044 | AO18: =IFERROR(AM18/R$7,0) -> 0.066008355 | AP18: =IFERROR(_xlfn.XLOOKUP($W18,PIVOT!$B:$B,PIVOT!Y:Y,0),0) -> -0.137719
B19: RIVE LOAFER | D19: =IFERROR(_xlfn.XLOOKUP($B19,PIVOT!$B:$B,PIVOT!F:F,0),0) -> 33193 | E19: =IFERROR(_xlfn.XLOOKUP($B19,PIVOT!$B:$B,PIVOT!Q:Q,0),0) -> -0.31683372 | F19: =IFERROR(D19/D$7,0) -> 0.082817073 | G19: =IFERROR(_xlfn.XLOOKUP($B19,PIVOT!$B:$B,PIVOT!H:H,0),0) -> 15932640 | H19: =IFERROR(_xlfn.XLOOKUP($B19,PIVOT!$B:$B,PIVOT!R:R,0),0) -> -0.31683372 | I19: =IFERROR(G19/G$7,0) -> 0.078074164 | J19: =IFERROR(_xlfn.XLOOKUP($B19,PIVOT!$B:$B,PIVOT!J:J,0),0) -> 32832 | K19: =IFERROR(_xlfn.XLOOKUP($B19,PIVOT!$B:$B,PIVOT!S:S,0),0) -> -0.21640135 | L19: =IFERROR(J19/J$7,0) -> 0.086305064 | M19: =IFERROR(_xlfn.XLOOKUP($B19,PIVOT!$B:$B,PIVOT!L:L,0),0) -> 38741760 | N19: =IFERROR(_xlfn.XLOOKUP($B19,PIVOT!$B:$B,PIVOT!T:T,0),0) -> -0.21640135 | O19: =IFERROR(M19/M$7,0) -> 0.081394907 | P19: =IFERROR(_xlfn.XLOOKUP($B19,PIVOT!$B:$B,PIVOT!AA:AA,0),0) -> 0.859724 | Q19: =IFERROR(_xlfn.XLOOKUP($B19,PIVOT!$B:$B,PIVOT!AB:AB,0),0) -> -0.2626007 | R19: =IFERROR(_xlfn.XLOOKUP($B19,PIVOT!$B:$B,PIVOT!P:P,0),0) -> 1322 | S19: =IFERROR(_xlfn.XLOOKUP($B19,PIVOT!$B:$B,PIVOT!V:V,0),0) -> -0.21867612 | T19: =IFERROR(R19/R$7,0) -> 0.10041777 | U19: =IFERROR(_xlfn.XLOOKUP($B19,PIVOT!$B:$B,PIVOT!Y:Y,0),0) -> -0.011723082 | W19: NORDKAPP TRADING HOUSE | Y19: =IFERROR(_xlfn.XLOOKUP($W19,PIVOT!$B:$B,PIVOT!F:F,0),0) -> 26400 | Z19: =IFERROR(_xlfn.XLOOKUP($W19,PIVOT!$B:$B,PIVOT!Q:Q,0),0) -> -0.027839152 | AA19: =IFERROR(Y19/D$7,0) -> 0.065868428 | AB19: =IFERROR(_xlfn.XLOOKUP($W19,PIVOT!$B:$B,PIVOT!H:H,0),0) -> 14009330 | AC19: =IFERROR(_xlfn.XLOOKUP($W19,PIVOT!$B:$B,PIVOT!R:R,0),0) -> 0.00063998309 | AD19: =IFERROR(AB19/G$7,0) -> 0.068649435 | AE19: =IFERROR(_xlfn.XLOOKUP($W19,PIVOT!$B:$B,PIVOT!J:J,0),0) -> 25063 | AF19: =IFERROR(_xlfn.XLOOKUP($W19,PIVOT!$B:$B,PIVOT!S:S,0),0) -> -0.0042115301 | AG19: =IFERROR(AE19/J$7,0) -> 0.065882792 | AH19: =IFERROR(_xlfn.XLOOKUP($W19,PIVOT!$B:$B,PIVOT!L:L,0),0) -> 33186730 | AI19: =IFERROR(_xlfn.XLOOKUP($W19,PIVOT!$B:$B,PIVOT!T:T,0),0) -> 0.041816134 | AJ19: =IFERROR(AH19/M$7,0) -> 0.069724008 | AK19: =IFERROR(_xlfn.XLOOKUP($W19,PIVOT!$B:$B,PIVOT!AA:AA,0),0) -> 0.90320372 | AL19: =IFERROR(_xlfn.XLOOKUP($W19,PIVOT!$B:$B,PIVOT!AB:AB,0),0) -> -2.3626447 | AM19: =IFERROR(_xlfn.XLOOKUP($W19,PIVOT!$B:$B,PIVOT!P:P,0),0) -> 629 | AN19: =IFERROR(_xlfn.XLOOKUP($W19,PIVOT!$B:$B,PIVOT!V:V,0),0) -> -0.014106583 | AO19: =IFERROR(AM19/R$7,0) -> 0.0477782 | AP19: =IFERROR(_xlfn.XLOOKUP($W19,PIVOT!$B:$B,PIVOT!Y:Y,0),0) -> -0.0251887
B20: LUMIERE SNEAKER | C20: NEW | D20: =IFERROR(_xlfn.XLOOKUP($B20,PIVOT!$B:$B,PIVOT!F:F,0),0) -> 32150 | E20: =IFERROR(_xlfn.XLOOKUP($B20,PIVOT!$B:$B,PIVOT!Q:Q,0),0) -> 0 | F20: =IFERROR(D20/D$7,0) -> 0.080214771 | G20: =IFERROR(_xlfn.XLOOKUP($B20,PIVOT!$B:$B,PIVOT!H:H,0),0) -> 15753500 | H20: =IFERROR(_xlfn.XLOOKUP($B20,PIVOT!$B:$B,PIVOT!R:R,0),0) -> 0 | I20: =IFERROR(G20/G$7,0) -> 0.077196331 | J20: =IFERROR(_xlfn.XLOOKUP($B20,PIVOT!$B:$B,PIVOT!J:J,0),0) -> 27350 | K20: =IFERROR(_xlfn.XLOOKUP($B20,PIVOT!$B:$B,PIVOT!S:S,0),0) -> 0 | L20: =IFERROR(J20/J$7,0) -> 0.0718946 | M20: =IFERROR(_xlfn.XLOOKUP($B20,PIVOT!$B:$B,PIVOT!L:L,0),0) -> 33367000 | N20: =IFERROR(_xlfn.XLOOKUP($B20,PIVOT!$B:$B,PIVOT!T:T,0),0) -> 0 | O20: =IFERROR(M20/M$7,0) -> 0.070102748 | P20: =IFERROR(_xlfn.XLOOKUP($B20,PIVOT!$B:$B,PIVOT!AA:AA,0),0) -> 0.85069984 | Q20: =IFERROR(_xlfn.XLOOKUP($B20,PIVOT!$B:$B,PIVOT!AB:AB,0),0) -> 85.069984 | R20: =IFERROR(_xlfn.XLOOKUP($B20,PIVOT!$B:$B,PIVOT!P:P,0),0) -> 996 | S20: =IFERROR(_xlfn.XLOOKUP($B20,PIVOT!$B:$B,PIVOT!V:V,0),0) -> 0 | T20: =IFERROR(R20/R$7,0) -> 0.075655146 | U20: =IFERROR(_xlfn.XLOOKUP($B20,PIVOT!$B:$B,PIVOT!Y:Y,0),0) -> 3.6416819 | W20: MAISON DOREE | Y20: =IFERROR(_xlfn.XLOOKUP($W20,PIVOT!$B:$B,PIVOT!F:F,0),0) -> 21726 | Z20: =IFERROR(_xlfn.XLOOKUP($W20,PIVOT!$B:$B,PIVOT!Q:Q,0),0) -> 0.11369694 | AA20: =IFERROR(Y20/D$7,0) -> 0.054206722 | AB20: =IFERROR(_xlfn.XLOOKUP($W20,PIVOT!$B:$B,PIVOT!H:H,0),0) -> 12543720 | AC20: =IFERROR(_xlfn.XLOOKUP($W20,PIVOT!$B:$B,PIVOT!R:R,0),0) -> 0.073724325 | AD20: =IFERROR(AB20/G$7,0) -> 0.061467557 | AE20: =IFERROR(_xlfn.XLOOKUP($W20,PIVOT!$B:$B,PIVOT!J:J,0),0) -> 21416 | AF20: =IFERROR(_xlfn.XLOOKUP($W20,PIVOT!$B:$B,PIVOT!S:S,0),0) -> 0.26459994 | AG20: =IFERROR(AE20/J$7,0) -> 0.056295969 | AH20: =IFERROR(_xlfn.XLOOKUP($W20,PIVOT!$B:$B,PIVOT!L:L,0),0) -> 30841380 | AI20: =IFERROR(_xlfn.XLOOKUP($W20,PIVOT!$B:$B,PIVOT!T:T,0),0) -> 0.22866388 | AJ20: =IFERROR(AH20/M$7,0) -> 0.064796521 | AK20: =IFERROR(_xlfn.XLOOKUP($W20,PIVOT!$B:$B,PIVOT!AA:AA,0),0) -> 0.89918965 | AL20: =IFERROR(_xlfn.XLOOKUP($W20,PIVOT!$B:$B,PIVOT!AB:AB,0),0) -> 3.1084262 | AM20: =IFERROR(_xlfn.XLOOKUP($W20,PIVOT!$B:$B,PIVOT!P:P,0),0) -> 659 | AN20: =IFERROR(_xlfn.XLOOKUP($W20,PIVOT!$B:$B,PIVOT!V:V,0),0) -> 0.36721992 | AO20: =IFERROR(AM20/R$7,0) -> 0.050056969 | AP20: =IFERROR(_xlfn.XLOOKUP($W20,PIVOT!$B:$B,PIVOT!Y:Y,0),0) -> 0.23096203
B21: VASSEUR OXFORD | D21: =IFERROR(_xlfn.XLOOKUP($B21,PIVOT!$B:$B,PIVOT!F:F,0),0) -> 32022 | E21: =IFERROR(_xlfn.XLOOKUP($B21,PIVOT!$B:$B,PIVOT!Q:Q,0),0) -> -0.3119615 | F21: =IFERROR(D21/D$7,0) -> 0.079895409 | G21: =IFERROR(_xlfn.XLOOKUP($B21,PIVOT!$B:$B,PIVOT!H:H,0),0) -> 18892980 | H21: =IFERROR(_xlfn.XLOOKUP($B21,PIVOT!$B:$B,PIVOT!R:R,0),0) -> -0.3119615 | I21: =IFERROR(G21/G$7,0) -> 0.092580616 | J21: =IFERROR(_xlfn.XLOOKUP($B21,PIVOT!$B:$B,PIVOT!J:J,0),0) -> 31999 | K21: =IFERROR(_xlfn.XLOOKUP($B21,PIVOT!$B:$B,PIVOT!S:S,0),0) -> -0.2091983 | L21: =IFERROR(J21/J$7,0) -> 0.084115368 | M21: =IFERROR(_xlfn.XLOOKUP($B21,PIVOT!$B:$B,PIVOT!L:L,0),0) -> 46398550 | N21: =IFERROR(_xlfn.XLOOKUP($B21,PIVOT!$B:$B,PIVOT!T:T,0),0) -> -0.2091983 | O21: =IFERROR(M21/M$7,0) -> 0.09748152 | P21: =IFERROR(_xlfn.XLOOKUP($B21,PIVOT!$B:$B,PIVOT!AA:AA,0),0) -> 0.87668493 | Q21: =IFERROR(_xlfn.XLOOKUP($B21,PIVOT!$B:$B,PIVOT!AB:AB,0),0) -> 0.72579746 | R21: =IFERROR(_xlfn.XLOOKUP($B21,PIVOT!$B:$B,PIVOT!P:P,0),0) -> 1298 | S21: =IFERROR(_xlfn.XLOOKUP($B21,PIVOT!$B:$B,PIVOT!V:V,0),0) -> -0.18824265 | T21: =IFERROR(R21/R$7,0) -> 0.098594759 | U21: =IFERROR(_xlfn.XLOOKUP($B21,PIVOT!$B:$B,PIVOT!Y:Y,0),0) -> 0.10471603 | W21: BELGRAVE MAISON | Y21: =IFERROR(_xlfn.XLOOKUP($W21,PIVOT!$B:$B,PIVOT!F:F,0),0) -> 19021 | Z21: =IFERROR(_xlfn.XLOOKUP($W21,PIVOT!$B:$B,PIVOT!Q:Q,0),0) -> 0.24409706 | AA21: =IFERROR(Y21/D$7,0) -> 0.047457703 | AB21: =IFERROR(_xlfn.XLOOKUP($W21,PIVOT!$B:$B,PIVOT!H:H,0),0) -> 10790100 | AC21: =IFERROR(_xlfn.XLOOKUP($W21,PIVOT!$B:$B,PIVOT!R:R,0),0) -> 0.18142282 | AD21: =IFERROR(AB21/G$7,0) -> 0.052874354 | AE21: =IFERROR(_xlfn.XLOOKUP($W21,PIVOT!$B:$B,PIVOT!J:J,0),0) -> 18700 | AF21: =IFERROR(_xlfn.XLOOKUP($W21,PIVOT!$B:$B,PIVOT!S:S,0),0) -> 0.4426786 | AG21: =IFERROR(AE21/J$7,0) -> 0.049156454 | AH21: =IFERROR(_xlfn.XLOOKUP($W21,PIVOT!$B:$B,PIVOT!L:L,0),0) -> 26464220 | AI21: =IFERROR(_xlfn.XLOOKUP($W21,PIVOT!$B:$B,PIVOT!T:T,0),0) -> 0.38079426 | AJ21: =IFERROR(AH21/M$7,0) -> 0.05560028 | AK21: =IFERROR(_xlfn.XLOOKUP($W21,PIVOT!$B:$B,PIVOT!AA:AA,0),0) -> 0.89281451 | AL21: =IFERROR(_xlfn.XLOOKUP($W21,PIVOT!$B:$B,PIVOT!AB:AB,0),0) -> 4.5015443 | AM21: =IFERROR(_xlfn.XLOOKUP($W21,PIVOT!$B:$B,PIVOT!P:P,0),0) -> 551 | AN21: =IFERROR(_xlfn.XLOOKUP($W21,PIVOT!$B:$B,PIVOT!V:V,0),0) -> 0.36724566 | AO21: =IFERROR(AM21/R$7,0) -> 0.041853399 | AP21: =IFERROR(_xlfn.XLOOKUP($W21,PIVOT!$B:$B,PIVOT!Y:Y,0),0) -> -0.16256404
B22: NOCTURNE DERBY | D22: =IFERROR(_xlfn.XLOOKUP($B22,PIVOT!$B:$B,PIVOT!F:F,0),0) -> 29909 | E22: =IFERROR(_xlfn.XLOOKUP($B22,PIVOT!$B:$B,PIVOT!Q:Q,0),0) -> -0.33053541 | F22: =IFERROR(D22/D$7,0) -> 0.07462344 | G22: =IFERROR(_xlfn.XLOOKUP($B22,PIVOT!$B:$B,PIVOT!H:H,0),0) -> 16749040 | H22: =IFERROR(_xlfn.XLOOKUP($B22,PIVOT!$B:$B,PIVOT!R:R,0),0) -> -0.33053541 | I22: =IFERROR(G22/G$7,0) -> 0.082074741 | J22: =IFERROR(_xlfn.XLOOKUP($B22,PIVOT!$B:$B,PIVOT!J:J,0),0) -> 29554 | K22: =IFERROR(_xlfn.XLOOKUP($B22,PIVOT!$B:$B,PIVOT!S:S,0),0) -> -0.23601489 | L22: =IFERROR(J22/J$7,0) -> 0.077688227 | M22: =IFERROR(_xlfn.XLOOKUP($B22,PIVOT!$B:$B,PIVOT!L:L,0),0) -> 40488980 | N22: =IFERROR(_xlfn.XLOOKUP($B22,PIVOT!$B:$B,PIVOT!T:T,0),0) -> -0.23601489 | O22: =IFERROR(M22/M$7,0) -> 0.085065747 | P22: =IFERROR(_xlfn.XLOOKUP($B22,PIVOT!$B:$B,PIVOT!AA:AA,0),0) -> 0.85957769 | Q22: =IFERROR(_xlfn.XLOOKUP($B22,PIVOT!$B:$B,PIVOT!AB:AB,0),0) -> -0.63010856 | R22: =IFERROR(_xlfn.XLOOKUP($B22,PIVOT!$B:$B,PIVOT!P:P,0),0) -> 1134 | S22: =IFERROR(_xlfn.XLOOKUP($B22,PIVOT!$B:$B,PIVOT!V:V,0),0) -> -0.25345622 | T22: =IFERROR(R22/R$7,0) -> 0.086137486 | U22: =IFERROR(_xlfn.XLOOKUP($B22,PIVOT!$B:$B,PIVOT!Y:Y,0),0) -> -0.089643981 | W22: KONIGSALLEE BOUTIQUE | Y22: =IFERROR(_xlfn.XLOOKUP($W22,PIVOT!$B:$B,PIVOT!F:F,0),0) -> 17525 | Z22: =IFERROR(_xlfn.XLOOKUP($W22,PIVOT!$B:$B,PIVOT!Q:Q,0),0) -> 0.083663121 | AA22: =IFERROR(Y22/D$7,0) -> 0.043725159 | AB22: =IFERROR(_xlfn.XLOOKUP($W22,PIVOT!$B:$B,PIVOT!H:H,0),0) -> 10004140 | AC22: =IFERROR(_xlfn.XLOOKUP($W22,PIVOT!$B:$B,PIVOT!R:R,0),0) -> 0.034884984 | AD22: =IFERROR(AB22/G$7,0) -> 0.049022941 | AE22: =IFERROR(_xlfn.XLOOKUP($W22,PIVOT!$B:$B,PIVOT!J:J,0),0) -> 11982 | AF22: =IFERROR(_xlfn.XLOOKUP($W22,PIVOT!$B:$B,PIVOT!S:S,0),0) -> 0.016198796 | AG22: =IFERROR(AE22/J$7,0) -> 0.031496932 | AH22: =IFERROR(_xlfn.XLOOKUP($W22,PIVOT!$B:$B,PIVOT!L:L,0),0) -> 17234040 | AI22: =IFERROR(_xlfn.XLOOKUP($W22,PIVOT!$B:$B,PIVOT!T:T,0),0) -> -0.016065825 | AJ22: =IFERROR(AH22/M$7,0) -> 0.036208037 | AK22: =IFERROR(_xlfn.XLOOKUP($W22,PIVOT!$B:$B,PIVOT!AA:AA,0),0) -> 0.58074835 | AL22: =IFERROR(_xlfn.XLOOKUP($W22,PIVOT!$B:$B,PIVOT!AB:AB,0),0) -> -14.835133 | AM22: =IFERROR(_xlfn.XLOOKUP($W22,PIVOT!$B:$B,PIVOT!P:P,0),0) -> 1319 | AN22: =IFERROR(_xlfn.XLOOKUP($W22,PIVOT!$B:$B,PIVOT!V:V,0),0) -> 0.035321821 | AO22: =IFERROR(AM22/R$7,0) -> 0.1001899 | AP22: =IFERROR(_xlfn.XLOOKUP($W22,PIVOT!$B:$B,PIVOT!Y:Y,0),0) -> 0.20332778
B23: FAUBOURG SNEAKER | C23: NEW | D23: =IFERROR(_xlfn.XLOOKUP($B23,PIVOT!$B:$B,PIVOT!F:F,0),0) -> 29626 | E23: =IFERROR(_xlfn.XLOOKUP($B23,PIVOT!$B:$B,PIVOT!Q:Q,0),0) -> 0 | F23: =IFERROR(D23/D$7,0) -> 0.07391735 | G23: =IFERROR(_xlfn.XLOOKUP($B23,PIVOT!$B:$B,PIVOT!H:H,0),0) -> 13924220 | H23: =IFERROR(_xlfn.XLOOKUP($B23,PIVOT!$B:$B,PIVOT!R:R,0),0) -> 0 | I23: =IFERROR(G23/G$7,0) -> 0.068232373 | J23: =IFERROR(_xlfn.XLOOKUP($B23,PIVOT!$B:$B,PIVOT!J:J,0),0) -> 23144 | K23: =IFERROR(_xlfn.XLOOKUP($B23,PIVOT!$B:$B,PIVOT!S:S,0),0) -> 0 | L23: =IFERROR(J23/J$7,0) -> 0.060838341 | M23: =IFERROR(_xlfn.XLOOKUP($B23,PIVOT!$B:$B,PIVOT!L:L,0),0) -> 26615600 | N23: =IFERROR(_xlfn.XLOOKUP($B23,PIVOT!$B:$B,PIVOT!T:T,0),0) -> 0 | O23: =IFERROR(M23/M$7,0) -> 0.055918324 | P23: =IFERROR(_xlfn.XLOOKUP($B23,PIVOT!$B:$B,PIVOT!AA:AA,0),0) -> 0.7812057 | Q23: =IFERROR(_xlfn.XLOOKUP($B23,PIVOT!$B:$B,PIVOT!AB:AB,0),0) -> 78.12057 | R23: =IFERROR(_xlfn.XLOOKUP($B23,PIVOT!$B:$B,PIVOT!P:P,0),0) -> 814 | S23: =IFERROR(_xlfn.XLOOKUP($B23,PIVOT!$B:$B,PIVOT!V:V,0),0) -> 0 | T23: =IFERROR(R23/R$7,0) -> 0.061830611 | U23: =IFERROR(_xlfn.XLOOKUP($B23,PIVOT!$B:$B,PIVOT!Y:Y,0),0) -> 3.5171103 | W23: BOUTIQUE ALMENDRA | Y23: =IFERROR(_xlfn.XLOOKUP($W23,PIVOT!$B:$B,PIVOT!F:F,0),0) -> 17338 | Z23: =IFERROR(_xlfn.XLOOKUP($W23,PIVOT!$B:$B,PIVOT!Q:Q,0),0) -> -0.06774922 | AA23: =IFERROR(Y23/D$7,0) -> 0.043258591 | AB23: =IFERROR(_xlfn.XLOOKUP($W23,PIVOT!$B:$B,PIVOT!H:H,0),0) -> 9624010 | AC23: =IFERROR(_xlfn.XLOOKUP($W23,PIVOT!$B:$B,PIVOT!R:R,0),0) -> -0.10631116 | AD23: =IFERROR(AB23/G$7,0) -> 0.047160203 | AE23: =IFERROR(_xlfn.XLOOKUP($W23,PIVOT!$B:$B,PIVOT!J:J,0),0) -> 12333 | AF23: =IFERROR(_xlfn.XLOOKUP($W23,PIVOT!$B:$B,PIVOT!S:S,0),0) -> -0.04801235 | AG23: =IFERROR(AE23/J$7,0) -> 0.032419602 | AH23: =IFERROR(_xlfn.XLOOKUP($W23,PIVOT!$B:$B,PIVOT!L:L,0),0) -> 17091390 | AI23: =IFERROR(_xlfn.XLOOKUP($W23,PIVOT!$B:$B,PIVOT!T:T,0),0) -> -0.087452721 | AJ23: =IFERROR(AH23/M$7,0) -> 0.035908335 | AK23: =IFERROR(_xlfn.XLOOKUP($W23,PIVOT!$B:$B,PIVOT!AA:AA,0),0) -> 0.57749579 | AL23: =IFERROR(_xlfn.XLOOKUP($W23,PIVOT!$B:$B,PIVOT!AB:AB,0),0) -> -11.908449 | AM23: =IFERROR(_xlfn.XLOOKUP($W23,PIVOT!$B:$B,PIVOT!P:P,0),0) -> 1601 | AN23: =IFERROR(_xlfn.XLOOKUP($W23,PIVOT!$B:$B,PIVOT!V:V,0),0) -> -0.014769231 | AO23: =IFERROR(AM23/R$7,0) -> 0.12161033 | AP23: =IFERROR(_xlfn.XLOOKUP($W23,PIVOT!$B:$B,PIVOT!Y:Y,0),0) -> 0.4380124
B24: VOLTIGE SANDAL | C24: NEW | D24: =IFERROR(_xlfn.XLOOKUP($B24,PIVOT!$B:$B,PIVOT!F:F,0),0) -> 28681 | E24: =IFERROR(_xlfn.XLOOKUP($B24,PIVOT!$B:$B,PIVOT!Q:Q,0),0) -> 0 | F24: =IFERROR(D24/D$7,0) -> 0.07155956 | G24: =IFERROR(_xlfn.XLOOKUP($B24,PIVOT!$B:$B,PIVOT!H:H,0),0) -> 16061360 | H24: =IFERROR(_xlfn.XLOOKUP($B24,PIVOT!$B:$B,PIVOT!R:R,0),0) -> 0 | I24: =IFERROR(G24/G$7,0) -> 0.078704927 | J24: =IFERROR(_xlfn.XLOOKUP($B24,PIVOT!$B:$B,PIVOT!J:J,0),0) -> 24479 | K24: =IFERROR(_xlfn.XLOOKUP($B24,PIVOT!$B:$B,PIVOT!S:S,0),0) -> 0 | L24: =IFERROR(J24/J$7,0) -> 0.064347639 | M24: =IFERROR(_xlfn.XLOOKUP($B24,PIVOT!$B:$B,PIVOT!L:L,0),0) -> 34270600 | N24: =IFERROR(_xlfn.XLOOKUP($B24,PIVOT!$B:$B,PIVOT!T:T,0),0) -> 0 | O24: =IFERROR(M24/M$7,0) -> 0.072001176 | P24: =IFERROR(_xlfn.XLOOKUP($B24,PIVOT!$B:$B,PIVOT!AA:AA,0),0) -> 0.85349186 | Q24: =IFERROR(_xlfn.XLOOKUP($B24,PIVOT!$B:$B,PIVOT!AB:AB,0),0) -> 85.349186 | R24: =IFERROR(_xlfn.XLOOKUP($B24,PIVOT!$B:$B,PIVOT!P:P,0),0) -> 914 | S24: =IFERROR(_xlfn.XLOOKUP($B24,PIVOT!$B:$B,PIVOT!V:V,0),0) -> 0 | T24: =IFERROR(R24/R$7,0) -> 0.06942651 | U24: =IFERROR(_xlfn.XLOOKUP($B24,PIVOT!$B:$B,PIVOT!Y:Y,0),0) -> 3.7338127 | W24: ATELIER DEL SUD | Y24: =IFERROR(_xlfn.XLOOKUP($W24,PIVOT!$B:$B,PIVOT!F:F,0),0) -> 13881 | Z24: =IFERROR(_xlfn.XLOOKUP($W24,PIVOT!$B:$B,PIVOT!Q:Q,0),0) -> 0.0032523851 | AA24: =IFERROR(Y24/D$7,0) -> 0.03463332 | AB24: =IFERROR(_xlfn.XLOOKUP($W24,PIVOT!$B:$B,PIVOT!H:H,0),0) -> 7722000 | AC24: =IFERROR(_xlfn.XLOOKUP($W24,PIVOT!$B:$B,PIVOT!R:R,0),0) -> -0.038889981 | AD24: =IFERROR(AB24/G$7,0) -> 0.037839849 | AE24: =IFERROR(_xlfn.XLOOKUP($W24,PIVOT!$B:$B,PIVOT!J:J,0),0) -> 12204 | AF24: =IFERROR(_xlfn.XLOOKUP($W24,PIVOT!$B:$B,PIVOT!S:S,0),0) -> 0.17810599 | AG24: =IFERROR(AE24/J$7,0) -> 0.032080501 | AH24: =IFERROR(_xlfn.XLOOKUP($W24,PIVOT!$B:$B,PIVOT!L:L,0),0) -> 17214260 | AI24: =IFERROR(_xlfn.XLOOKUP($W24,PIVOT!$B:$B,PIVOT!T:T,0),0) -> 0.16056929 | AJ24: =IFERROR(AH24/M$7,0) -> 0.03616648 | AK24: =IFERROR(_xlfn.XLOOKUP($W24,PIVOT!$B:$B,PIVOT!AA:AA,0),0) -> 0.72277169 | AL24: =IFERROR(_xlfn.XLOOKUP($W24,PIVOT!$B:$B,PIVOT!AB:AB,0),0) -> -2.5927355 | AM24: =IFERROR(_xlfn.XLOOKUP($W24,PIVOT!$B:$B,PIVOT!P:P,0),0) -> 548 | AN24: =IFERROR(_xlfn.XLOOKUP($W24,PIVOT!$B:$B,PIVOT!V:V,0),0) -> 0.15856237 | AO24: =IFERROR(AM24/R$7,0) -> 0.041625522 | AP24: =IFERROR(_xlfn.XLOOKUP($W24,PIVOT!$B:$B,PIVOT!Y:Y,0),0) -> -0.075746768
B25: ETOILE ZIP WALLET | D25: =IFERROR(_xlfn.XLOOKUP($B25,PIVOT!$B:$B,PIVOT!F:F,0),0) -> 24137 | E25: =IFERROR(_xlfn.XLOOKUP($B25,PIVOT!$B:$B,PIVOT!Q:Q,0),0) -> -0.27891136 | F25: =IFERROR(D25/D$7,0) -> 0.060222206 | G25: =IFERROR(_xlfn.XLOOKUP($B25,PIVOT!$B:$B,PIVOT!H:H,0),0) -> 6275620 | H25: =IFERROR(_xlfn.XLOOKUP($B25,PIVOT!$B:$B,PIVOT!R:R,0),0) -> -0.27891136 | I25: =IFERROR(G25/G$7,0) -> 0.030752203 | J25: =IFERROR(_xlfn.XLOOKUP($B25,PIVOT!$B:$B,PIVOT!J:J,0),0) -> 24164 | K25: =IFERROR(_xlfn.XLOOKUP($B25,PIVOT!$B:$B,PIVOT!S:S,0),0) -> -0.21892879 | L25: =IFERROR(J25/J$7,0) -> 0.063519602 | M25: =IFERROR(_xlfn.XLOOKUP($B25,PIVOT!$B:$B,PIVOT!L:L,0),0) -> 14740040 | N25: =IFERROR(_xlfn.XLOOKUP($B25,PIVOT!$B:$B,PIVOT!T:T,0),0) -> -0.21892879 | O25: =IFERROR(M25/M$7,0) -> 0.030968242 | P25: =IFERROR(_xlfn.XLOOKUP($B25,PIVOT!$B:$B,PIVOT!AA:AA,0),0) -> 0.93513932 | Q25: =IFERROR(_xlfn.XLOOKUP($B25,PIVOT!$B:$B,PIVOT!AB:AB,0),0) -> 1.0901874 | R25: =IFERROR(_xlfn.XLOOKUP($B25,PIVOT!$B:$B,PIVOT!P:P,0),0) -> 665 | S25: =IFERROR(_xlfn.XLOOKUP($B25,PIVOT!$B:$B,PIVOT!V:V,0),0) -> -0.20168067 | T25: =IFERROR(R25/R$7,0) -> 0.050512723 | U25: =IFERROR(_xlfn.XLOOKUP($B25,PIVOT!$B:$B,PIVOT!Y:Y,0),0) -> 0.059459041 | W25: STUREPLAN ATELIER | Y25: =IFERROR(_xlfn.XLOOKUP($W25,PIVOT!$B:$B,PIVOT!F:F,0),0) -> 12931 | Z25: =IFERROR(_xlfn.XLOOKUP($W25,PIVOT!$B:$B,PIVOT!Q:Q,0),0) -> -0.12427198 | AA25: =IFERROR(Y25/D$7,0) -> 0.032263055 | AB25: =IFERROR(_xlfn.XLOOKUP($W25,PIVOT!$B:$B,PIVOT!H:H,0),0) -> 7169800 | AC25: =IFERROR(_xlfn.XLOOKUP($W25,PIVOT!$B:$B,PIVOT!R:R,0),0) -> -0.16021191 | AD25: =IFERROR(AB25/G$7,0) -> 0.035133923 | AE25: =IFERROR(_xlfn.XLOOKUP($W25,PIVOT!$B:$B,PIVOT!J:J,0),0) -> 10732 | AF25: =IFERROR(_xlfn.XLOOKUP($W25,PIVOT!$B:$B,PIVOT!S:S,0),0) -> -0.12148003 | AG25: =IFERROR(AE25/J$7,0) -> 0.028211073 | AH25: =IFERROR(_xlfn.XLOOKUP($W25,PIVOT!$B:$B,PIVOT!L:L,0),0) -> 14899860 | AI25: =IFERROR(_xlfn.XLOOKUP($W25,PIVOT!$B:$B,PIVOT!T:T,0),0) -> -0.14816373 | AJ25: =IFERROR(AH25/M$7,0) -> 0.031304017 | AK25: =IFERROR(_xlfn.XLOOKUP($W25,PIVOT!$B:$B,PIVOT!AA:AA,0),0) -> 0.71584845 | AL25: =IFERROR(_xlfn.XLOOKUP($W25,PIVOT!$B:$B,PIVOT!AB:AB,0),0) -> -11.145752 | AM25: =IFERROR(_xlfn.XLOOKUP($W25,PIVOT!$B:$B,PIVOT!P:P,0),0) -> 446 | AN25: =IFERROR(_xlfn.XLOOKUP($W25,PIVOT!$B:$B,PIVOT!V:V,0),0) -> -0.08793456 | AO25: =IFERROR(AM25/R$7,0) -> 0.033877706 | AP25: =IFERROR(_xlfn.XLOOKUP($W25,PIVOT!$B:$B,PIVOT!Y:Y,0),0) -> 0.1528488
B26: AURORE ANKLE BOOT | D26: =IFERROR(_xlfn.XLOOKUP($B26,PIVOT!$B:$B,PIVOT!F:F,0),0) -> 22159 | E26: =IFERROR(_xlfn.XLOOKUP($B26,PIVOT!$B:$B,PIVOT!Q:Q,0),0) -> -0.29166001 | F26: =IFERROR(D26/D$7,0) -> 0.055287064 | G26: =IFERROR(_xlfn.XLOOKUP($B26,PIVOT!$B:$B,PIVOT!H:H,0),0) -> 15732890 | H26: =IFERROR(_xlfn.XLOOKUP($B26,PIVOT!$B:$B,PIVOT!R:R,0),0) -> -0.29166001 | I26: =IFERROR(G26/G$7,0) -> 0.077095336 | J26: =IFERROR(_xlfn.XLOOKUP($B26,PIVOT!$B:$B,PIVOT!J:J,0),0) -> 22510 | K26: =IFERROR(_xlfn.XLOOKUP($B26,PIVOT!$B:$B,PIVOT!S:S,0),0) -> -0.18915025 | L26: =IFERROR(J26/J$7,0) -> 0.059171753 | M26: =IFERROR(_xlfn.XLOOKUP($B26,PIVOT!$B:$B,PIVOT!L:L,0),0) -> 40067800 | N26: =IFERROR(_xlfn.XLOOKUP($B26,PIVOT!$B:$B,PIVOT!T:T,0),0) -> -0.18915025 | O26: =IFERROR(M26/M$7,0) -> 0.084180864 | P26: =IFERROR(_xlfn.XLOOKUP($B26,PIVOT!$B:$B,PIVOT!AA:AA,0),0) -> 0.9090542 | Q26: =IFERROR(_xlfn.XLOOKUP($B26,PIVOT!$B:$B,PIVOT!AB:AB,0),0) -> 2.1639306 | R26: =IFERROR(_xlfn.XLOOKUP($B26,PIVOT!$B:$B,PIVOT!P:P,0),0) -> 700 | S26: =IFERROR(_xlfn.XLOOKUP($B26,PIVOT!$B:$B,PIVOT!V:V,0),0) -> -0.2383025 | T26: =IFERROR(R26/R$7,0) -> 0.053171288 | U26: =IFERROR(_xlfn.XLOOKUP($B26,PIVOT!$B:$B,PIVOT!Y:Y,0),0) -> -0.20067047
B27: VOLTIGE BELT | D27: =IFERROR(_xlfn.XLOOKUP($B27,PIVOT!$B:$B,PIVOT!F:F,0),0) -> 21798 | E27: =IFERROR(_xlfn.XLOOKUP($B27,PIVOT!$B:$B,PIVOT!Q:Q,0),0) -> -0.3352647 | F27: =IFERROR(D27/D$7,0) -> 0.054386363 | G27: =IFERROR(_xlfn.XLOOKUP($B27,PIVOT!$B:$B,PIVOT!H:H,0),0) -> 7411320 | H27: =IFERROR(_xlfn.XLOOKUP($B27,PIVOT!$B:$B,PIVOT!R:R,0),0) -> -0.3352647 | I27: =IFERROR(G27/G$7,0) -> 0.036317435 | J27: =IFERROR(_xlfn.XLOOKUP($B27,PIVOT!$B:$B,PIVOT!J:J,0),0) -> 21830 | K27: =IFERROR(_xlfn.XLOOKUP($B27,PIVOT!$B:$B,PIVOT!S:S,0),0) -> -0.2842623 | L27: =IFERROR(J27/J$7,0) -> 0.057384246 | M27: =IFERROR(_xlfn.XLOOKUP($B27,PIVOT!$B:$B,PIVOT!L:L,0),0) -> 17464000 | N27: =IFERROR(_xlfn.XLOOKUP($B27,PIVOT!$B:$B,PIVOT!T:T,0),0) -> -0.2842623 | O27: =IFERROR(M27/M$7,0) -> 0.036691174 | P27: =IFERROR(_xlfn.XLOOKUP($B27,PIVOT!$B:$B,PIVOT!AA:AA,0),0) -> 0.9390459 | Q27: =IFERROR(_xlfn.XLOOKUP($B27,PIVOT!$B:$B,PIVOT!AB:AB,0),0) -> 0.89409948 | R27: =IFERROR(_xlfn.XLOOKUP($B27,PIVOT!$B:$B,PIVOT!P:P,0),0) -> 554 | S27: =IFERROR(_xlfn.XLOOKUP($B27,PIVOT!$B:$B,PIVOT!V:V,0),0) -> -0.34282325 | T27: =IFERROR(R27/R$7,0) -> 0.042081276 | U27: =IFERROR(_xlfn.XLOOKUP($B27,PIVOT!$B:$B,PIVOT!Y:Y,0),0) -> -0.2261424
B28: SOIREE MULE | C28: NEW | D28: =IFERROR(_xlfn.XLOOKUP($B28,PIVOT!$B:$B,PIVOT!F:F,0),0) -> 16537 | E28: =IFERROR(_xlfn.XLOOKUP($B28,PIVOT!$B:$B,PIVOT!Q:Q,0),0) -> 0 | F28: =IFERROR(D28/D$7,0) -> 0.041260083 | G28: =IFERROR(_xlfn.XLOOKUP($B28,PIVOT!$B:$B,PIVOT!H:H,0),0) -> 9922200 | H28: =IFERROR(_xlfn.XLOOKUP($B28,PIVOT!$B:$B,PIVOT!R:R,0),0) -> 0 | I28: =IFERROR(G28/G$7,0) -> 0.048621413 | J28: =IFERROR(_xlfn.XLOOKUP($B28,PIVOT!$B:$B,PIVOT!J:J,0),0) -> 15400 | K28: =IFERROR(_xlfn.XLOOKUP($B28,PIVOT!$B:$B,PIVOT!S:S,0),0) -> 0 | L28: =IFERROR(J28/J$7,0) -> 0.040481786 | M28: =IFERROR(_xlfn.XLOOKUP($B28,PIVOT!$B:$B,PIVOT!L:L,0),0) -> 23100000 | N28: =IFERROR(_xlfn.XLOOKUP($B28,PIVOT!$B:$B,PIVOT!T:T,0),0) -> 0 | O28: =IFERROR(M28/M$7,0) -> 0.048532187 | P28: =IFERROR(_xlfn.XLOOKUP($B28,PIVOT!$B:$B,PIVOT!AA:AA,0),0) -> 0.93124509 | Q28: =IFERROR(_xlfn.XLOOKUP($B28,PIVOT!$B:$B,PIVOT!AB:AB,0),0) -> 93.124509 | R28: =IFERROR(_xlfn.XLOOKUP($B28,PIVOT!$B:$B,PIVOT!P:P,0),0) -> 426 | S28: =IFERROR(_xlfn.XLOOKUP($B28,PIVOT!$B:$B,PIVOT!V:V,0),0) -> 0 | T28: =IFERROR(R28/R$7,0) -> 0.032358526 | U28: =IFERROR(_xlfn.XLOOKUP($B28,PIVOT!$B:$B,PIVOT!Y:Y,0),0) -> 2.7662338
B29: BASTILLE BOOT | C29: NEW | D29: =IFERROR(_xlfn.XLOOKUP($B29,PIVOT!$B:$B,PIVOT!F:F,0),0) -> 16100 | E29: =IFERROR(_xlfn.XLOOKUP($B29,PIVOT!$B:$B,PIVOT!Q:Q,0),0) -> 0 | F29: =IFERROR(D29/D$7,0) -> 0.040169761 | G29: =IFERROR(_xlfn.XLOOKUP($B29,PIVOT!$B:$B,PIVOT!H:H,0),0) -> 11109000 | H29: =IFERROR(_xlfn.XLOOKUP($B29,PIVOT!$B:$B,PIVOT!R:R,0),0) -> 0 | I29: =IFERROR(G29/G$7,0) -> 0.054437048 | J29: =IFERROR(_xlfn.XLOOKUP($B29,PIVOT!$B:$B,PIVOT!J:J,0),0) -> 14239 | K29: =IFERROR(_xlfn.XLOOKUP($B29,PIVOT!$B:$B,PIVOT!S:S,0),0) -> 0 | L29: =IFERROR(J29/J$7,0) -> 0.03742988 | M29: =IFERROR(_xlfn.XLOOKUP($B29,PIVOT!$B:$B,PIVOT!L:L,0),0) -> 24063910 | N29: =IFERROR(_xlfn.XLOOKUP($B29,PIVOT!$B:$B,PIVOT!T:T,0),0) -> 0 | O29: =IFERROR(M29/M$7,0) -> 0.050557324 | P29: =IFERROR(_xlfn.XLOOKUP($B29,PIVOT!$B:$B,PIVOT!AA:AA,0),0) -> 0.88440994 | Q29: =IFERROR(_xlfn.XLOOKUP($B29,PIVOT!$B:$B,PIVOT!AB:AB,0),0) -> 88.440994 | R29: =IFERROR(_xlfn.XLOOKUP($B29,PIVOT!$B:$B,PIVOT!P:P,0),0) -> 388 | S29: =IFERROR(_xlfn.XLOOKUP($B29,PIVOT!$B:$B,PIVOT!V:V,0),0) -> 0 | T29: =IFERROR(R29/R$7,0) -> 0.029472085 | U29: =IFERROR(_xlfn.XLOOKUP($B29,PIVOT!$B:$B,PIVOT!Y:Y,0),0) -> 2.7249105
B30: RIVE CROSSBODY POUCH | C30: NEW | D30: =IFERROR(_xlfn.XLOOKUP($B30,PIVOT!$B:$B,PIVOT!F:F,0),0) -> 5587 | E30: =IFERROR(_xlfn.XLOOKUP($B30,PIVOT!$B:$B,PIVOT!Q:Q,0),0) -> 0 | F30: =IFERROR(D30/D$7,0) -> 0.013939656 | G30: =IFERROR(_xlfn.XLOOKUP($B30,PIVOT!$B:$B,PIVOT!H:H,0),0) -> 2402410 | H30: =IFERROR(_xlfn.XLOOKUP($B30,PIVOT!$B:$B,PIVOT!R:R,0),0) -> 0 | I30: =IFERROR(G30/G$7,0) -> 0.011772447 | J30: =IFERROR(_xlfn.XLOOKUP($B30,PIVOT!$B:$B,PIVOT!J:J,0),0) -> 5279 | K30: =IFERROR(_xlfn.XLOOKUP($B30,PIVOT!$B:$B,PIVOT!S:S,0),0) -> 0 | L30: =IFERROR(J30/J$7,0) -> 0.013876841 | M30: =IFERROR(_xlfn.XLOOKUP($B30,PIVOT!$B:$B,PIVOT!L:L,0),0) -> 5331790 | N30: =IFERROR(_xlfn.XLOOKUP($B30,PIVOT!$B:$B,PIVOT!T:T,0),0) -> 0 | O30: =IFERROR(M30/M$7,0) -> 0.01120188 | P30: =IFERROR(_xlfn.XLOOKUP($B30,PIVOT!$B:$B,PIVOT!AA:AA,0),0) -> 0.94487202 | Q30: =IFERROR(_xlfn.XLOOKUP($B30,PIVOT!$B:$B,PIVOT!AB:AB,0),0) -> 94.487202 | R30: =IFERROR(_xlfn.XLOOKUP($B30,PIVOT!$B:$B,PIVOT!P:P,0),0) -> 125 | S30: =IFERROR(_xlfn.XLOOKUP($B30,PIVOT!$B:$B,PIVOT!V:V,0),0) -> 0 | T30: =IFERROR(R30/R$7,0) -> 0.0094948728 | U30: =IFERROR(_xlfn.XLOOKUP($B30,PIVOT!$B:$B,PIVOT!Y:Y,0),0) -> 2.3678727
B32: JAN | D32: =IFERROR(_xlfn.XLOOKUP($B32,PIVOT!$B:$B,PIVOT!F:F,0),0) -> 0 | E32: =IFERROR(_xlfn.XLOOKUP($B32,PIVOT!$B:$B,PIVOT!Q:Q,0),0) -> 0 | F32: =IFERROR(D32/D$7,0) -> 0 | G32: =IFERROR(_xlfn.XLOOKUP($B32,PIVOT!$B:$B,PIVOT!H:H,0),0) -> 0 | H32: =IFERROR(_xlfn.XLOOKUP($B32,PIVOT!$B:$B,PIVOT!R:R,0),0) -> 0 | I32: =IFERROR(G32/G$7,0) -> 0 | J32: =IFERROR(_xlfn.XLOOKUP($B32,PIVOT!$B:$B,PIVOT!J:J,0),0) -> 7522 | K32: =IFERROR(_xlfn.XLOOKUP($B32,PIVOT!$B:$B,PIVOT!S:S,0),0) -> 0 | L32: =IFERROR(J32/J$7,0) -> 0.019772987 | M32: =IFERROR(_xlfn.XLOOKUP($B32,PIVOT!$B:$B,PIVOT!L:L,0),0) -> 9449610 | N32: =IFERROR(_xlfn.XLOOKUP($B32,PIVOT!$B:$B,PIVOT!T:T,0),0) -> 0 | O32: =IFERROR(M32/M$7,0) -> 0.019853257 | P32: =IFERROR(_xlfn.XLOOKUP($B32,PIVOT!$B:$B,PIVOT!AA:AA,0),0) -> 0.22841006 | Q32: =IFERROR(_xlfn.XLOOKUP($B32,PIVOT!$B:$B,PIVOT!AB:AB,0),0) -> 22.841006 | R32: =IFERROR(_xlfn.XLOOKUP($B32,PIVOT!$B:$B,PIVOT!P:P,0),0) -> 303 | S32: =IFERROR(_xlfn.XLOOKUP($B32,PIVOT!$B:$B,PIVOT!V:V,0),0) -> 0 | T32: =IFERROR(R32/R$7,0) -> 0.023015572 | U32: =IFERROR(_xlfn.XLOOKUP($B32,PIVOT!$B:$B,PIVOT!Y:Y,0),0) -> 4.028184
B33: FEB | D33: =IFERROR(_xlfn.XLOOKUP($B33,PIVOT!$B:$B,PIVOT!F:F,0),0) -> 46809 | E33: =IFERROR(_xlfn.XLOOKUP($B33,PIVOT!$B:$B,PIVOT!Q:Q,0),0) -> -0.21441638 | F33: =IFERROR(D33/D$7,0) -> 0.11678921 | G33: =IFERROR(_xlfn.XLOOKUP($B33,PIVOT!$B:$B,PIVOT!H:H,0),0) -> 23078990 | H33: =IFERROR(_xlfn.XLOOKUP($B33,PIVOT!$B:$B,PIVOT!R:R,0),0) -> -0.22272419 | I33: =IFERROR(G33/G$7,0) -> 0.11309318 | J33: =IFERROR(_xlfn.XLOOKUP($B33,PIVOT!$B:$B,PIVOT!J:J,0),0) -> 19055 | K33: =IFERROR(_xlfn.XLOOKUP($B33,PIVOT!$B:$B,PIVOT!S:S,0),0) -> 0.091039221 | L33: =IFERROR(J33/J$7,0) -> 0.050089638 | M33: =IFERROR(_xlfn.XLOOKUP($B33,PIVOT!$B:$B,PIVOT!L:L,0),0) -> 22959960 | N33: =IFERROR(_xlfn.XLOOKUP($B33,PIVOT!$B:$B,PIVOT!T:T,0),0) -> 0.098304131 | O33: =IFERROR(M33/M$7,0) -> 0.048237969 | P33: =IFERROR(_xlfn.XLOOKUP($B33,PIVOT!$B:$B,PIVOT!AA:AA,0),0) -> 0.33329153 | Q33: =IFERROR(_xlfn.XLOOKUP($B33,PIVOT!$B:$B,PIVOT!AB:AB,0),0) -> 4.0180849 | R33: =IFERROR(_xlfn.XLOOKUP($B33,PIVOT!$B:$B,PIVOT!P:P,0),0) -> 693 | S33: =IFERROR(_xlfn.XLOOKUP($B33,PIVOT!$B:$B,PIVOT!V:V,0),0) -> 0.18461538 | T33: =IFERROR(R33/R$7,0) -> 0.052639575 | U33: =IFERROR(_xlfn.XLOOKUP($B33,PIVOT!$B:$B,PIVOT!Y:Y,0),0) -> 0.28728447
B34: MAR | D34: =IFERROR(_xlfn.XLOOKUP($B34,PIVOT!$B:$B,PIVOT!F:F,0),0) -> 63742 | E34: =IFERROR(_xlfn.XLOOKUP($B34,PIVOT!$B:$B,PIVOT!Q:Q,0),0) -> 0.01569546 | F34: =IFERROR(D34/D$7,0) -> 0.15903732 | G34: =IFERROR(_xlfn.XLOOKUP($B34,PIVOT!$B:$B,PIVOT!H:H,0),0) -> 31842170 | H34: =IFERROR(_xlfn.XLOOKUP($B34,PIVOT!$B:$B,PIVOT!R:R,0),0) -> 0.061476078 | I34: =IFERROR(G34/G$7,0) -> 0.15603508 | J34: =IFERROR(_xlfn.XLOOKUP($B34,PIVOT!$B:$B,PIVOT!J:J,0),0) -> 36139 | K34: =IFERROR(_xlfn.XLOOKUP($B34,PIVOT!$B:$B,PIVOT!S:S,0),0) -> 0.10052378 | L34: =IFERROR(J34/J$7,0) -> 0.094998134 | M34: =IFERROR(_xlfn.XLOOKUP($B34,PIVOT!$B:$B,PIVOT!L:L,0),0) -> 43984440 | N34: =IFERROR(_xlfn.XLOOKUP($B34,PIVOT!$B:$B,PIVOT!T:T,0),0) -> 0.13332778 | O34: =IFERROR(M34/M$7,0) -> 0.09240957 | P34: =IFERROR(_xlfn.XLOOKUP($B34,PIVOT!$B:$B,PIVOT!AA:AA,0),0) -> 0.43709708 | Q34: =IFERROR(_xlfn.XLOOKUP($B34,PIVOT!$B:$B,PIVOT!AB:AB,0),0) -> 2.5930021 | R34: =IFERROR(_xlfn.XLOOKUP($B34,PIVOT!$B:$B,PIVOT!P:P,0),0) -> 1228 | S34: =IFERROR(_xlfn.XLOOKUP($B34,PIVOT!$B:$B,PIVOT!V:V,0),0) -> 0.063203463 | T34: =IFERROR(R34/R$7,0) -> 0.09327763 | U34: =IFERROR(_xlfn.XLOOKUP($B34,PIVOT!$B:$B,PIVOT!Y:Y,0),0) -> -0.11927549
B35: APR | D35: =IFERROR(_xlfn.XLOOKUP($B35,PIVOT!$B:$B,PIVOT!F:F,0),0) -> 71107 | E35: =IFERROR(_xlfn.XLOOKUP($B35,PIVOT!$B:$B,PIVOT!Q:Q,0),0) -> 0.036288383 | F35: =IFERROR(D35/D$7,0) -> 0.17741312 | G35: =IFERROR(_xlfn.XLOOKUP($B35,PIVOT!$B:$B,PIVOT!H:H,0),0) -> 37523700 | H35: =IFERROR(_xlfn.XLOOKUP($B35,PIVOT!$B:$B,PIVOT!R:R,0),0) -> 0.083972112 | I35: =IFERROR(G35/G$7,0) -> 0.18387609 | J35: =IFERROR(_xlfn.XLOOKUP($B35,PIVOT!$B:$B,PIVOT!J:J,0),0) -> 49108 | K35: =IFERROR(_xlfn.XLOOKUP($B35,PIVOT!$B:$B,PIVOT!S:S,0),0) -> 0.066128262 | L35: =IFERROR(J35/J$7,0) -> 0.12908958 | M35: =IFERROR(_xlfn.XLOOKUP($B35,PIVOT!$B:$B,PIVOT!L:L,0),0) -> 61358090 | N35: =IFERROR(_xlfn.XLOOKUP($B35,PIVOT!$B:$B,PIVOT!T:T,0),0) -> 0.1140618 | O35: =IFERROR(M35/M$7,0) -> 0.12891092 | P35: =IFERROR(_xlfn.XLOOKUP($B35,PIVOT!$B:$B,PIVOT!AA:AA,0),0) -> 0.52110536 | Q35: =IFERROR(_xlfn.XLOOKUP($B35,PIVOT!$B:$B,PIVOT!AB:AB,0),0) -> 1.6468243 | R35: =IFERROR(_xlfn.XLOOKUP($B35,PIVOT!$B:$B,PIVOT!P:P,0),0) -> 1695 | S35: =IFERROR(_xlfn.XLOOKUP($B35,PIVOT!$B:$B,PIVOT!V:V,0),0) -> 0.058052434 | T35: =IFERROR(R35/R$7,0) -> 0.12875047 | U35: =IFERROR(_xlfn.XLOOKUP($B35,PIVOT!$B:$B,PIVOT!Y:Y,0),0) -> -0.026344945
B36: MAY | D36: =IFERROR(_xlfn.XLOOKUP($B36,PIVOT!$B:$B,PIVOT!F:F,0),0) -> 0 | E36: =IFERROR(_xlfn.XLOOKUP($B36,PIVOT!$B:$B,PIVOT!Q:Q,0),0) -> 0 | F36: =IFERROR(D36/D$7,0) -> 0 | G36: =IFERROR(_xlfn.XLOOKUP($B36,PIVOT!$B:$B,PIVOT!H:H,0),0) -> 0 | H36: =IFERROR(_xlfn.XLOOKUP($B36,PIVOT!$B:$B,PIVOT!R:R,0),0) -> 0 | I36: =IFERROR(G36/G$7,0) -> 0 | J36: =IFERROR(_xlfn.XLOOKUP($B36,PIVOT!$B:$B,PIVOT!J:J,0),0) -> 33465 | K36: =IFERROR(_xlfn.XLOOKUP($B36,PIVOT!$B:$B,PIVOT!S:S,0),0) -> 0.062684577 | L36: =IFERROR(J36/J$7,0) -> 0.087969024 | M36: =IFERROR(_xlfn.XLOOKUP($B36,PIVOT!$B:$B,PIVOT!L:L,0),0) -> 42383730 | N36: =IFERROR(_xlfn.XLOOKUP($B36,PIVOT!$B:$B,PIVOT!T:T,0),0) -> 0.10970649 | O36: =IFERROR(M36/M$7,0) -> 0.089046542 | P36: =IFERROR(_xlfn.XLOOKUP($B36,PIVOT!$B:$B,PIVOT!AA:AA,0),0) -> 0.67705392 | Q36: =IFERROR(_xlfn.XLOOKUP($B36,PIVOT!$B:$B,PIVOT!AB:AB,0),0) -> 0.75070507 | R36: =IFERROR(_xlfn.XLOOKUP($B36,PIVOT!$B:$B,PIVOT!P:P,0),0) -> 1190 | S36: =IFERROR(_xlfn.XLOOKUP($B36,PIVOT!$B:$B,PIVOT!V:V,0),0) -> 0.095764273 | T36: =IFERROR(R36/R$7,0) -> 0.090391189 | U36: =IFERROR(_xlfn.XLOOKUP($B36,PIVOT!$B:$B,PIVOT!Y:Y,0),0) -> 0.10734962
B37: JUN | D37: =IFERROR(_xlfn.XLOOKUP($B37,PIVOT!$B:$B,PIVOT!F:F,0),0) -> 0 | E37: =IFERROR(_xlfn.XLOOKUP($B37,PIVOT!$B:$B,PIVOT!Q:Q,0),0) -> 0 | F37: =IFERROR(D37/D$7,0) -> 0 | G37: =IFERROR(_xlfn.XLOOKUP($B37,PIVOT!$B:$B,PIVOT!H:H,0),0) -> 0 | H37: =IFERROR(_xlfn.XLOOKUP($B37,PIVOT!$B:$B,PIVOT!R:R,0),0) -> 0 | I37: =IFERROR(G37/G$7,0) -> 0 | J37: =IFERROR(_xlfn.XLOOKUP($B37,PIVOT!$B:$B,PIVOT!J:J,0),0) -> 24366 | K37: =IFERROR(_xlfn.XLOOKUP($B37,PIVOT!$B:$B,PIVOT!S:S,0),0) -> 0.019242031 | L37: =IFERROR(J37/J$7,0) -> 0.064050597 | M37: =IFERROR(_xlfn.XLOOKUP($B37,PIVOT!$B:$B,PIVOT!L:L,0),0) -> 31342860 | N37: =IFERROR(_xlfn.XLOOKUP($B37,PIVOT!$B:$B,PIVOT!T:T,0),0) -> 0.081000376 | O37: =IFERROR(M37/M$7,0) -> 0.06585011 | P37: =IFERROR(_xlfn.XLOOKUP($B37,PIVOT!$B:$B,PIVOT!AA:AA,0),0) -> 0.79060068 | Q37: =IFERROR(_xlfn.XLOOKUP($B37,PIVOT!$B:$B,PIVOT!AB:AB,0),0) -> -0.41353624 | R37: =IFERROR(_xlfn.XLOOKUP($B37,PIVOT!$B:$B,PIVOT!P:P,0),0) -> 916 | S37: =IFERROR(_xlfn.XLOOKUP($B37,PIVOT!$B:$B,PIVOT!V:V,0),0) -> 0.061413673 | T37: =IFERROR(R37/R$7,0) -> 0.069578428 | U37: =IFERROR(_xlfn.XLOOKUP($B37,PIVOT!$B:$B,PIVOT!Y:Y,0),0) -> 0.14936439
B38: JUL | D38: =IFERROR(_xlfn.XLOOKUP($B38,PIVOT!$B:$B,PIVOT!F:F,0),0) -> 0 | E38: =IFERROR(_xlfn.XLOOKUP($B38,PIVOT!$B:$B,PIVOT!Q:Q,0),0) -> 0 | F38: =IFERROR(D38/D$7,0) -> 0 | G38: =IFERROR(_xlfn.XLOOKUP($B38,PIVOT!$B:$B,PIVOT!H:H,0),0) -> 0 | H38: =IFERROR(_xlfn.XLOOKUP($B38,PIVOT!$B:$B,PIVOT!R:R,0),0) -> 0 | I38: =IFERROR(G38/G$7,0) -> 0 | J38: =IFERROR(_xlfn.XLOOKUP($B38,PIVOT!$B:$B,PIVOT!J:J,0),0) -> 12959 | K38: =IFERROR(_xlfn.XLOOKUP($B38,PIVOT!$B:$B,PIVOT!S:S,0),0) -> 0.016551616 | L38: =IFERROR(J38/J$7,0) -> 0.03406516 | M38: =IFERROR(_xlfn.XLOOKUP($B38,PIVOT!$B:$B,PIVOT!L:L,0),0) -> 16771610 | N38: =IFERROR(_xlfn.XLOOKUP($B38,PIVOT!$B:$B,PIVOT!T:T,0),0) -> 0.057361893 | O38: =IFERROR(M38/M$7,0) -> 0.03523649 | P38: =IFERROR(_xlfn.XLOOKUP($B38,PIVOT!$B:$B,PIVOT!AA:AA,0),0) -> 0.85099026 | Q38: =IFERROR(_xlfn.XLOOKUP($B38,PIVOT!$B:$B,PIVOT!AB:AB,0),0) -> -1.0503568 | R38: =IFERROR(_xlfn.XLOOKUP($B38,PIVOT!$B:$B,PIVOT!P:P,0),0) -> 537 | S38: =IFERROR(_xlfn.XLOOKUP($B38,PIVOT!$B:$B,PIVOT!V:V,0),0) -> 0.11180124 | T38: =IFERROR(R38/R$7,0) -> 0.040789973 | U38: =IFERROR(_xlfn.XLOOKUP($B38,PIVOT!$B:$B,PIVOT!Y:Y,0),0) -> 0.35500864
B39: AUG | D39: =IFERROR(_xlfn.XLOOKUP($B39,PIVOT!$B:$B,PIVOT!F:F,0),0) -> 71620 | E39: =IFERROR(_xlfn.XLOOKUP($B39,PIVOT!$B:$B,PIVOT!Q:Q,0),0) -> 0.16476118 | F39: =IFERROR(D39/D$7,0) -> 0.17869306 | G39: =IFERROR(_xlfn.XLOOKUP($B39,PIVOT!$B:$B,PIVOT!H:H,0),0) -> 37216290 | H39: =IFERROR(_xlfn.XLOOKUP($B39,PIVOT!$B:$B,PIVOT!R:R,0),0) -> 0.22474139 | I39: =IFERROR(G39/G$7,0) -> 0.1823697 | J39: =IFERROR(_xlfn.XLOOKUP($B39,PIVOT!$B:$B,PIVOT!J:J,0),0) -> 27525 | K39: =IFERROR(_xlfn.XLOOKUP($B39,PIVOT!$B:$B,PIVOT!S:S,0),0) -> 0.16814497 | L39: =IFERROR(J39/J$7,0) -> 0.07235462 | M39: =IFERROR(_xlfn.XLOOKUP($B39,PIVOT!$B:$B,PIVOT!L:L,0),0) -> 35166790 | N39: =IFERROR(_xlfn.XLOOKUP($B39,PIVOT!$B:$B,PIVOT!T:T,0),0) -> 0.2311806 | O39: =IFERROR(M39/M$7,0) -> 0.073884036 | P39: =IFERROR(_xlfn.XLOOKUP($B39,PIVOT!$B:$B,PIVOT!AA:AA,0),0) -> 0.73421264 | Q39: =IFERROR(_xlfn.XLOOKUP($B39,PIVOT!$B:$B,PIVOT!AB:AB,0),0) -> -1.0784348 | R39: =IFERROR(_xlfn.XLOOKUP($B39,PIVOT!$B:$B,PIVOT!P:P,0),0) -> 950 | S39: =IFERROR(_xlfn.XLOOKUP($B39,PIVOT!$B:$B,PIVOT!V:V,0),0) -> 0.20253165 | T39: =IFERROR(R39/R$7,0) -> 0.072161033 | U39: =IFERROR(_xlfn.XLOOKUP($B39,PIVOT!$B:$B,PIVOT!Y:Y,0),0) -> 0.09869381
B40: SEP | D40: =IFERROR(_xlfn.XLOOKUP($B40,PIVOT!$B:$B,PIVOT!F:F,0),0) -> 79512 | E40: =IFERROR(_xlfn.XLOOKUP($B40,PIVOT!$B:$B,PIVOT!Q:Q,0),0) -> 0.21570546 | F40: =IFERROR(D40/D$7,0) -> 0.19838373 | G40: =IFERROR(_xlfn.XLOOKUP($B40,PIVOT!$B:$B,PIVOT!H:H,0),0) -> 39913850 | H40: =IFERROR(_xlfn.XLOOKUP($B40,PIVOT!$B:$B,PIVOT!R:R,0),0) -> 0.16902309 | I40: =IFERROR(G40/G$7,0) -> 0.19558846 | J40: =IFERROR(_xlfn.XLOOKUP($B40,PIVOT!$B:$B,PIVOT!J:J,0),0) -> 47923 | K40: =IFERROR(_xlfn.XLOOKUP($B40,PIVOT!$B:$B,PIVOT!S:S,0),0) -> 0.17262895 | L40: =IFERROR(J40/J$7,0) -> 0.12597459 | M40: =IFERROR(_xlfn.XLOOKUP($B40,PIVOT!$B:$B,PIVOT!L:L,0),0) -> 59885080 | N40: =IFERROR(_xlfn.XLOOKUP($B40,PIVOT!$B:$B,PIVOT!T:T,0),0) -> 0.17838574 | O40: =IFERROR(M40/M$7,0) -> 0.12581619 | P40: =IFERROR(_xlfn.XLOOKUP($B40,PIVOT!$B:$B,PIVOT!AA:AA,0),0) -> 0.7056234 | Q40: =IFERROR(_xlfn.XLOOKUP($B40,PIVOT!$B:$B,PIVOT!AB:AB,0),0) -> -1.4652077 | R40: =IFERROR(_xlfn.XLOOKUP($B40,PIVOT!$B:$B,PIVOT!P:P,0),0) -> 1572 | S40: =IFERROR(_xlfn.XLOOKUP($B40,PIVOT!$B:$B,PIVOT!V:V,0),0) -> 0.11173975 | T40: =IFERROR(R40/R$7,0) -> 0.11940752 | U40: =IFERROR(_xlfn.XLOOKUP($B40,PIVOT!$B:$B,PIVOT!Y:Y,0),0) -> -0.17965765
