Workbook
Name Slicer_Account_Name: #N/A
Name Slicer_Account_Type: #N/A
Name Slicer_Category: #N/A
Name Slicer_Month_Name: #N/A
Name Slicer_Product_Name: #N/A
Name Slicer_Region: #N/A
Name Slicer_Season: #N/A

Sheet ONEPAGE
B2: TOPLINE | W2: CHANNEL
D4: Sell-In | J4: Sell-Out | P4: Sell-Through | R4: Returns | Y4: Sell-In | AE4: Sell-Out | AK4: Sell-Through | AM4: Returns
D5: Units | E5: vs LY | F5: Mix | G5: Value | H5: vs LY | I5: Mix | J5: Units | K5: vs LY | L5: Mix | M5: Value | N5: vs LY | O5: Mix | P5: Units | Q5: vs LY | R5: Units | S5: vs LY | T5: Mix | U5: As a percentage of Sell-Out vs LY (ppts) | Y5: Units | Z5: vs LY | AA5: Mix | AB5: Value | AC5: vs LY | AD5: Mix | AE5: Units | AF5: vs LY | AG5: Mix | AH5: Value | AI5: vs LY | AJ5: Mix | AK5: Units | AL5: vs LY | AM5: Units | AN5: vs LY | AO5: Mix | AP5: As a percentage of Sell-Out vs LY (ppts)
B7: TOTAL | D7: =IFERROR(_xlfn.XLOOKUP($B7,PIVOT!$B:$B,PIVOT!F:F,0),0) -> 400799 | E7: =IFERROR(_xlfn.XLOOKUP($B7,PIVOT!$B:$B,PIVOT!Q:Q,0),0) -> 0.01177121 | F7: =IFERROR(D7/D$7,0) -> 1 | G7: =IFERROR(_xlfn.XLOOKUP($B7,PIVOT!$B:$B,PIVOT!H:H,0),0) -> 204070580 | H7: =IFERROR(_xlfn.XLOOKUP($B7,PIVOT!$B:$B,PIVOT!R:R,0),0) -> 0.039315524 | I7: =IFERROR(G7/G$7,0) -> 1 | J7: =IFERROR(_xlfn.XLOOKUP($B7,PIVOT!$B:$B,PIVOT!J:J,0),0) -> 380418 | K7: =IFERROR(_xlfn.XLOOKUP($B7,PIVOT!$B:$B,PIVOT!S:S,0),0) -> 0.084086848 | L7: =IFERROR(J7/J$7,0) -> 1 | M7: =IFERROR(_xlfn.XLOOKUP($B7,PIVOT!$B:$B,PIVOT!L:L,0),0) -> 475972780 | N7: =IFERROR(_xlfn.XLOOKUP($B7,PIVOT!$B:$B,PIVOT!T:T,0),0) -> 0.11995269 | O7: =IFERROR(M7/M$7,0) -> 1 | P7: =IFERROR(_xlfn.XLOOKUP($B7,PIVOT!$B:$B,PIVOT!AA:AA,0),0) -> 0.8770828 | Q7: =IFERROR(_xlfn.XLOOKUP($B7,PIVOT!$B:$B,PIVOT!AB:AB,0),0) -> -0.87518627 | R7: =IFERROR(_xlfn.XLOOKUP($B7,PIVOT!$B:$B,PIVOT!P:P,0),0) -> 13165 | S7: =IFERROR(_xlfn.XLOOKUP($B7,PIVOT!$B:$B,PIVOT!V:V,0),0) -> 0.070934678 | T7: =IFERROR(R7/R$7,0) -> 1 | U7: =IFERROR(_xlfn.XLOOKUP($B7,PIVOT!$B:$B,PIVOT!Y:Y,0),0) -> -0.042500519 | W7: DACH | Y7: =IFERROR(_xlfn.XLOOKUP($W7,PIVOT!$B:$B,PIVOT!F:F,0),0) -> 82705 | Z7: =IFERROR(_xlfn.XLOOKUP($W7,PIVOT!$B:$B,PIVOT!Q:Q,0),0) -> 0.011533475 | AA7: =IFERROR(Y7/D$7,0) -> 0.20635032 | AB7: =IFERROR(_xlfn.XLOOKUP($W7,PIVOT!$B:$B,PIVOT!H:H,0),0) -> 41048180 | AC7: =IFERROR(_xlfn.XLOOKUP($W7,PIVOT!$B:$B,PIVOT!R:R,0),0) -> 0.041162359 | AD7: =IFERROR(AB7/G$7,0) -> 0.20114698 | AE7: =IFERROR(_xlfn.XLOOKUP($W7,PIVOT!$B:$B,PIVOT!J:J,0),0) -> 76217 | AF7: =IFERROR(_xlfn.XLOOKUP($W7,PIVOT!$B:$B,PIVOT!S:S,0),0) -> 0.043182503 | AG7: =IFERROR(AE7/J$7,0) -> 0.20035067 | AH7: =IFERROR(_xlfn.XLOOKUP($W7,PIVOT!$B:$B,PIVOT!L:L,0),0) -> 91877120 | AI7: =IFERROR(_xlfn.XLOOKUP($W7,PIVOT!$B:$B,PIVOT!T:T,0),0) -> 0.071555389 | AJ7: =IFERROR(AH7/M$7,0) -> 0.1930302 | AK7: =IFERROR(_xlfn.XLOOKUP($W7,PIVOT!$B:$B,PIVOT!AA:AA,0),0) -> 0.8603147 | AL7: =IFERROR(_xlfn.XLOOKUP($W7,PIVOT!$B:$B,PIVOT!AB:AB,0),0) -> -3.32789 | AM7: =IFERROR(_xlfn.XLOOKUP($W7,PIVOT!$B:$B,PIVOT!P:P,0),0) -> 2930 | AN7: =IFERROR(_xlfn.XLOOKUP($W7,PIVOT!$B:$B,PIVOT!V:V,0),0) -> 0.041592606 | AO7: =IFERROR(AM7/R$7,0) -> 0.22255982 | AP7: =IFERROR(_xlfn.XLOOKUP($W7,PIVOT!$B:$B,PIVOT!Y:Y,0),0) -> -0.0058679555
W8: FRANCE AND BENELUX | Y8: =IFERROR(_xlfn.XLOOKUP($W8,PIVOT!$B:$B,PIVOT!F:F,0),0) -> 81631 | Z8: =IFERROR(_xlfn.XLOOKUP($W8,PIVOT!$B:$B,PIVOT!Q:Q,0),0) -> 0.034993851 | AA8: =IFERROR(Y8/D$7,0) -> 0.20367067 | AB8: =IFERROR(_xlfn.XLOOKUP($W8,PIVOT!$B:$B,PIVOT!H:H,0),0) -> 41334010 | AC8: =IFERROR(_xlfn.XLOOKUP($W8,PIVOT!$B:$B,PIVOT!R:R,0),0) -> 0.070230666 | AD8: =IFERROR(AB8/G$7,0) -> 0.20254762 | AE8: =IFERROR(_xlfn.XLOOKUP($W8,PIVOT!$B:$B,PIVOT!J:J,0),0) -> 80250 | AF8: =IFERROR(_xlfn.XLOOKUP($W8,PIVOT!$B:$B,PIVOT!S:S,0),0) -> 0.12905722 | AG8: =IFERROR(AE8/J$7,0) -> 0.21095216 | AH8: =IFERROR(_xlfn.XLOOKUP($W8,PIVOT!$B:$B,PIVOT!L:L,0),0) -> 100357300 | AI8: =IFERROR(_xlfn.XLOOKUP($W8,PIVOT!$B:$B,PIVOT!T:T,0),0) -> 0.1792597 | AJ8: =IFERROR(AH8/M$7,0) -> 0.21084672 | AK8: =IFERROR(_xlfn.XLOOKUP($W8,PIVOT!$B:$B,PIVOT!AA:AA,0),0) -> 0.91957052 | AL8: =IFERROR(_xlfn.XLOOKUP($W8,PIVOT!$B:$B,PIVOT!AB:AB,0),0) -> 1.8390115 | AM8: =IFERROR(_xlfn.XLOOKUP($W8,PIVOT!$B:$B,PIVOT!P:P,0),0) -> 2433 | AN8: =IFERROR(_xlfn.XLOOKUP($W8,PIVOT!$B:$B,PIVOT!V:V,0),0) -> 0.12847866 | AO8: =IFERROR(AM8/R$7,0) -> 0.1848082 | AP8: =IFERROR(_xlfn.XLOOKUP($W8,PIVOT!$B:$B,PIVOT!Y:Y,0),0) -> -0.0015543496
B9: WHOLESALE | D9: =IFERROR(_xlfn.XLOOKUP($B9,PIVOT!$B:$B,PIVOT!F:F,0),0) -> 298377 | E9: =IFERROR(_xlfn.XLOOKUP($B9,PIVOT!$B:$B,PIVOT!Q:Q,0),0) -> 0.0013759913 | F9: =IFERROR(D9/D$7,0) -> 0.74445545 | G9: =IFERROR(_xlfn.XLOOKUP($B9,PIVOT!$B:$B,PIVOT!H:H,0),0) -> 146216810 | H9: =IFERROR(_xlfn.XLOOKUP($B9,PIVOT!$B:$B,PIVOT!R:R,0),0) -> 0.055507462 | I9: =IFERROR(G9/G$7,0) -> 0.71650117 | J9: =IFERROR(_xlfn.XLOOKUP($B9,PIVOT!$B:$B,PIVOT!J:J,0),0) -> 293051 | K9: =IFERROR(_xlfn.XLOOKUP($B9,PIVOT!$B:$B,PIVOT!S:S,0),0) -> 0.070728882 | L9: =IFERROR(J9/J$7,0) -> 0.77033947 | M9: =IFERROR(_xlfn.XLOOKUP($B9,PIVOT!$B:$B,PIVOT!L:L,0),0) -> 352227630 | N9: =IFERROR(_xlfn.XLOOKUP($B9,PIVOT!$B:$B,PIVOT!T:T,0),0) -> 0.12836572 | O9: =IFERROR(M9/M$7,0) -> 0.74001633 | P9: =IFERROR(_xlfn.XLOOKUP($B9,PIVOT!$B:$B,PIVOT!AA:AA,0),0) -> 0.93001358 | Q9: =IFERROR(_xlfn.XLOOKUP($B9,PIVOT!$B:$B,PIVOT!AB:AB,0),0) -> 1.147898 | R9: =IFERROR(_xlfn.XLOOKUP($B9,PIVOT!$B:$B,PIVOT!P:P,0),0) -> 8041 | S9: =IFERROR(_xlfn.XLOOKUP($B9,PIVOT!$B:$B,PIVOT!V:V,0),0) -> 0.065456473 | T9: =IFERROR(R9/R$7,0) -> 0.61078618 | U9: =IFERROR(_xlfn.XLOOKUP($B9,PIVOT!$B:$B,PIVOT!Y:Y,0),0) -> -0.01357814 | W9: SOUTHERN EUROPE | Y9: =IFERROR(_xlfn.XLOOKUP($W9,PIVOT!$B:$B,PIVOT!F:F,0),0) -> 75121 | Z9: =IFERROR(_xlfn.XLOOKUP($W9,PIVOT!$B:$B,PIVOT!Q:Q,0),0) -> 0.02346081 | AA9: =IFERROR(Y9/D$7,0) -> 0.18742811 | AB9: =IFERROR(_xlfn.XLOOKUP($W9,PIVOT!$B:$B,PIVOT!H:H,0),0) -> 37334350 | AC9: =IFERROR(_xlfn.XLOOKUP($W9,PIVOT!$B:$B,PIVOT!R:R,0),0) -> 0.061130841 | AD9: =IFERROR(AB9/G$7,0) -> 0.18294822 | AE9: =IFERROR(_xlfn.XLOOKUP($W9,PIVOT!$B:$B,PIVOT!J:J,0),0) -> 73123 | AF9: =IFERROR(_xlfn.XLOOKUP($W9,PIVOT!$B:$B,PIVOT!S:S,0),0) -> 0.12866779 | AG9: =IFERROR(AE9/J$7,0) -> 0.19221751 | AH9: =IFERROR(_xlfn.XLOOKUP($W9,PIVOT!$B:$B,PIVOT!L:L,0),0) -> 89280690 | AI9: =IFERROR(_xlfn.XLOOKUP($W9,PIVOT!$B:$B,PIVOT!T:T,0),0) -> 0.17926483 | AJ9: =IFERROR(AH9/M$7,0) -> 0.1875752 | AK9: =IFERROR(_xlfn.XLOOKUP($W9,PIVOT!$B:$B,PIVOT!AA:AA,0),0) -> 0.8921138 | AL9: =IFERROR(_xlfn.XLOOKUP($W9,PIVOT!$B:$B,PIVOT!AB:AB,0),0) -> 0.94451021 | AM9: =IFERROR(_xlfn.XLOOKUP($W9,PIVOT!$B:$B,PIVOT!P:P,0),0) -> 2111 | AN9: =IFERROR(_xlfn.XLOOKUP($W9,PIVOT!$B:$B,PIVOT!V:V,0),0) -> 0.19468025 | AO9: =IFERROR(AM9/R$7,0) -> 0.16034941 | AP9: =IFERROR(_xlfn.XLOOKUP($W9,PIVOT!$B:$B,PIVOT!Y:Y,0),0) -> 0.15951755
B10: FRANCHISE | D10: =IFERROR(_xlfn.XLOOKUP($B10,PIVOT!$B:$B,PIVOT!F:F,0),0) -> 102422 | E10: =IFERROR(_xlfn.XLOOKUP($B10,PIVOT!$B:$B,PIVOT!Q:Q,0),0) -> 0.043323249 | F10: =IFERROR(D10/D$7,0) -> 0.25554455 | G10: =IFERROR(_xlfn.XLOOKUP($B10,PIVOT!$B:$B,PIVOT!H:H,0),0) -> 57853770 | H10: =IFERROR(_xlfn.XLOOKUP($B10,PIVOT!$B:$B,PIVOT!R:R,0),0) -> 0.00052452777 | I10: =IFERROR(G10/G$7,0) -> 0.28349883 | J10: =IFERROR(_xlfn.XLOOKUP($B10,PIVOT!$B:$B,PIVOT!J:J,0),0) -> 87367 | K10: =IFERROR(_xlfn.XLOOKUP($B10,PIVOT!$B:$B,PIVOT!S:S,0),0) -> 0.13143309 | L10: =IFERROR(J10/J$7,0) -> 0.22966053 | M10: =IFERROR(_xlfn.XLOOKUP($B10,PIVOT!$B:$B,PIVOT!L:L,0),0) -> 123745150 | N10: =IFERROR(_xlfn.XLOOKUP($B10,PIVOT!$B:$B,PIVOT!T:T,0),0) -> 0.096678357 | O10: =IFERROR(M10/M$7,0) -> 0.25998367 | P10: =IFERROR(_xlfn.XLOOKUP($B10,PIVOT!$B:$B,PIVOT!AA:AA,0),0) -> 0.73648495 | Q10: =IFERROR(_xlfn.XLOOKUP($B10,PIVOT!$B:$B,PIVOT!AB:AB,0),0) -> -5.0097374 | R10: =IFERROR(_xlfn.XLOOKUP($B10,PIVOT!$B:$B,PIVOT!P:P,0),0) -> 5124 | S10: =IFERROR(_xlfn.XLOOKUP($B10,PIVOT!$B:$B,PIVOT!V:V,0),0) -> 0.079646018 | T10: =IFERROR(R10/R$7,0) -> 0.38921382 | U10: =IFERROR(_xlfn.XLOOKUP($B10,PIVOT!$B:$B,PIVOT!Y:Y,0),0) -> -0.28132066 | W10: UK AND IRELAND | Y10: =IFERROR(_xlfn.XLOOKUP($W10,PIVOT!$B:$B,PIVOT!F:F,0),0) -> 74401 | Z10: =IFERROR(_xlfn.XLOOKUP($W10,PIVOT!$B:$B,PIVOT!Q:Q,0),0) -> 0.044547088 | AA10: =IFERROR(Y10/D$7,0) -> 0.1856317 | AB10: =IFERROR(_xlfn.XLOOKUP($W10,PIVOT!$B:$B,PIVOT!H:H,0),0) -> 37436190 | AC10: =IFERROR(_xlfn.XLOOKUP($W10,PIVOT!$B:$B,PIVOT!R:R,0),0) -> 0.09181545 | AD10: =IFERROR(AB10/G$7,0) -> 0.18344727 | AE10: =IFERROR(_xlfn.XLOOKUP($W10,PIVOT!$B:$B,PIVOT!J:J,0),0) -> 72761 | AF10: =IFERROR(_xlfn.XLOOKUP($W10,PIVOT!$B:$B,PIVOT!S:S,0),0) -> 0.12048601 | AG10: =IFERROR(AE10/J$7,0) -> 0.19126592 | AH10: =IFERROR(_xlfn.XLOOKUP($W10,PIVOT!$B:$B,PIVOT!L:L,0),0) -> 90383910 | AI10: =IFERROR(_xlfn.XLOOKUP($W10,PIVOT!$B:$B,PIVOT!T:T,0),0) -> 0.18418463 | AJ10: =IFERROR(AH10/M$7,0) -> 0.18989302 | AK10: =IFERROR(_xlfn.XLOOKUP($W10,PIVOT!$B:$B,PIVOT!AA:AA,0),0) -> 0.92454796 | AL10: =IFERROR(_xlfn.XLOOKUP($W10,PIVOT!$B:$B,PIVOT!AB:AB,0),0) -> 1.2869969 | AM10: =IFERROR(_xlfn.XLOOKUP($W10,PIVOT!$B:$B,PIVOT!P:P,0),0) -> 2146 | AN10: =IFERROR(_xlfn.XLOOKUP($W10,PIVOT!$B:$B,PIVOT!V:V,0),0) -> 0.07676869 | AO10: =IFERROR(AM10/R$7,0) -> 0.16300798 | AP10: =IFERROR(_xlfn.XLOOKUP($W10,PIVOT!$B:$B,PIVOT!Y:Y,0),0) -> -0.11974632
W11: IBERIA | Y11: =IFERROR(_xlfn.XLOOKUP($W11,PIVOT!$B:$B,PIVOT!F:F,0),0) -> 47610 | Z11: =IFERROR(_xlfn.XLOOKUP($W11,PIVOT!$B:$B,PIVOT!Q:Q,0),0) -> -0.027454345 | AA11: =IFERROR(Y11/D$7,0) -> 0.11878772 | AB11: =IFERROR(_xlfn.XLOOKUP($W11,PIVOT!$B:$B,PIVOT!H:H,0),0) -> 25738720 | AC11: =IFERROR(_xlfn.XLOOKUP($W11,PIVOT!$B:$B,PIVOT!R:R,0),0) -> -0.021134506 | AD11: =IFERROR(AB11/G$7,0) -> 0.12612656 | AE11: =IFERROR(_xlfn.XLOOKUP($W11,PIVOT!$B:$B,PIVOT!J:J,0),0) -> 42272 | AF11: =IFERROR(_xlfn.XLOOKUP($W11,PIVOT!$B:$B,PIVOT!S:S,0),0) -> 0.06577919 | AG11: =IFERROR(AE11/J$7,0) -> 0.11111987 | AH11: =IFERROR(_xlfn.XLOOKUP($W11,PIVOT!$B:$B,PIVOT!L:L,0),0) -> 55987170 | AI11: =IFERROR(_xlfn.XLOOKUP($W11,PIVOT!$B:$B,PIVOT!T:T,0),0) -> 0.060984186 | AJ11: =IFERROR(AH11/M$7,0) -> 0.11762683 | AK11: =IFERROR(_xlfn.XLOOKUP($W11,PIVOT!$B:$B,PIVOT!AA:AA,0),0) -> 0.77614571 | AL11: =IFERROR(_xlfn.XLOOKUP($W11,PIVOT!$B:$B,PIVOT!AB:AB,0),0) -> -3.4063874 | AM11: =IFERROR(_xlfn.XLOOKUP($W11,PIVOT!$B:$B,PIVOT!P:P,0),0) -> 2470 | AN11: =IFERROR(_xlfn.XLOOKUP($W11,PIVOT!$B:$B,PIVOT!V:V,0),0) -> 0.013541239 | AO11: =IFERROR(AM11/R$7,0) -> 0.18761869 | AP11: =IFERROR(_xlfn.XLOOKUP($W11,PIVOT!$B:$B,PIVOT!Y:Y,0),0) -> -0.30115416
B12: WOMEN'S FOOTWEAR | D12: =IFERROR(_xlfn.XLOOKUP($B12,PIVOT!$B:$B,PIVOT!F:F,0),0) -> 175157 | E12: =IFERROR(_xlfn.XLOOKUP($B12,PIVOT!$B:$B,PIVOT!Q:Q,0),0) -> 0.23940901 | F12: =IFERROR(D12/D$7,0) -> 0.43701955 | G12: =IFERROR(_xlfn.XLOOKUP($B12,PIVOT!$B:$B,PIVOT!H:H,0),0) -> 105052050 | H12: =IFERROR(_xlfn.XLOOKUP($B12,PIVOT!$B:$B,PIVOT!R:R,0),0) -> 0.14889071 | I12: =IFERROR(G12/G$7,0) -> 0.51478292 | J12: =IFERROR(_xlfn.XLOOKUP($B12,PIVOT!$B:$B,PIVOT!J:J,0),0) -> 163562 | K12: =IFERROR(_xlfn.XLOOKUP($B12,PIVOT!$B:$B,PIVOT!S:S,0),0) -> 0.32062462 | L12: =IFERROR(J12/J$7,0) -> 0.42995337 | M12: =IFERROR(_xlfn.XLOOKUP($B12,PIVOT!$B:$B,PIVOT!L:L,0),0) -> 246911400 | N12: =IFERROR(_xlfn.XLOOKUP($B12,PIVOT!$B:$B,PIVOT!T:T,0),0) -> 0.23115513 | O12: =IFERROR(M12/M$7,0) -> 0.51875109 | P12: =IFERROR(_xlfn.XLOOKUP($B12,PIVOT!$B:$B,PIVOT!AA:AA,0),0) -> 0.86985332 | Q12: =IFERROR(_xlfn.XLOOKUP($B12,PIVOT!$B:$B,PIVOT!AB:AB,0),0) -> -0.6522071 | R12: =IFERROR(_xlfn.XLOOKUP($B12,PIVOT!$B:$B,PIVOT!P:P,0),0) -> 5920 | S12: =IFERROR(_xlfn.XLOOKUP($B12,PIVOT!$B:$B,PIVOT!V:V,0),0) -> 0.28863735 | T12: =IFERROR(R12/R$7,0) -> 0.44967717 | U12: =IFERROR(_xlfn.XLOOKUP($B12,PIVOT!$B:$B,PIVOT!Y:Y,0),0) -> -0.089843294 | W12: NORDICS AND BALTICS | Y12: =IFERROR(_xlfn.XLOOKUP($W12,PIVOT!$B:$B,PIVOT!F:F,0),0) -> 39331 | Z12: =IFERROR(_xlfn.XLOOKUP($W12,PIVOT!$B:$B,PIVOT!Q:Q,0),0) -> -0.061805257 | AA12: =IFERROR(Y12/D$7,0) -> 0.098131482 | AB12: =IFERROR(_xlfn.XLOOKUP($W12,PIVOT!$B:$B,PIVOT!H:H,0),0) -> 21179130 | AC12: =IFERROR(_xlfn.XLOOKUP($W12,PIVOT!$B:$B,PIVOT!R:R,0),0) -> -0.060292395 | AD12: =IFERROR(AB12/G$7,0) -> 0.10378336 | AE12: =IFERROR(_xlfn.XLOOKUP($W12,PIVOT!$B:$B,PIVOT!J:J,0),0) -> 35795 | AF12: =IFERROR(_xlfn.XLOOKUP($W12,PIVOT!$B:$B,PIVOT!S:S,0),0) -> -0.042530427 | AG12: =IFERROR(AE12/J$7,0) -> 0.094093865 | AH12: =IFERROR(_xlfn.XLOOKUP($W12,PIVOT!$B:$B,PIVOT!L:L,0),0) -> 48086590 | AI12: =IFERROR(_xlfn.XLOOKUP($W12,PIVOT!$B:$B,PIVOT!T:T,0),0) -> -0.02552499 | AJ12: =IFERROR(AH12/M$7,0) -> 0.10102803 | AK12: =IFERROR(_xlfn.XLOOKUP($W12,PIVOT!$B:$B,PIVOT!AA:AA,0),0) -> 0.83748625 | AL12: =IFERROR(_xlfn.XLOOKUP($W12,PIVOT!$B:$B,PIVOT!AB:AB,0),0) -> -5.4288947 | AM12: =IFERROR(_xlfn.XLOOKUP($W12,PIVOT!$B:$B,PIVOT!P:P,0),0) -> 1075 | AN12: =IFERROR(_xlfn.XLOOKUP($W12,PIVOT!$B:$B,PIVOT!V:V,0),0) -> -0.046140195 | AO12: =IFERROR(AM12/R$7,0) -> 0.081655906 | AP12: =IFERROR(_xlfn.XLOOKUP($W12,PIVOT!$B:$B,PIVOT!Y:Y,0),0) -> -0.0113653
B13: MEN'S FOOTWEAR | D13: =IFERROR(_xlfn.XLOOKUP($B13,PIVOT!$B:$B,PIVOT!F:F,0),0) -> 140850 | E13: =IFERROR(_xlfn.XLOOKUP($B13,PIVOT!$B:$B,PIVOT!Q:Q,0),0) -> 0.0074819032 | F13: =IFERROR(D13/D$7,0) -> 0.35142303 | G13: =IFERROR(_xlfn.XLOOKUP($B13,PIVOT!$B:$B,PIVOT!H:H,0),0) -> 76607880 | H13: =IFERROR(_xlfn.XLOOKUP($B13,PIVOT!$B:$B,PIVOT!R:R,0),0) -> 0.010664581 | I13: =IFERROR(G13/G$7,0) -> 0.37539894 | J13: =IFERROR(_xlfn.XLOOKUP($B13,PIVOT!$B:$B,PIVOT!J:J,0),0) -> 131768 | K13: =IFERROR(_xlfn.XLOOKUP($B13,PIVOT!$B:$B,PIVOT!S:S,0),0) -> 0.088568903 | L13: =IFERROR(J13/J$7,0) -> 0.34637688 | M13: =IFERROR(_xlfn.XLOOKUP($B13,PIVOT!$B:$B,PIVOT!L:L,0),0) -> 176308800 | N13: =IFERROR(_xlfn.XLOOKUP($B13,PIVOT!$B:$B,PIVOT!T:T,0),0) -> 0.094333275 | O13: =IFERROR(M13/M$7,0) -> 0.37041782 | P13: =IFERROR(_xlfn.XLOOKUP($B13,PIVOT!$B:$B,PIVOT!AA:AA,0),0) -> 0.85123097 | Q13: =IFERROR(_xlfn.XLOOKUP($B13,PIVOT!$B:$B,PIVOT!AB:AB,0),0) -> -1.4602629 | R13: =IFERROR(_xlfn.XLOOKUP($B13,PIVOT!$B:$B,PIVOT!P:P,0),0) -> 4956 | S13: =IFERROR(_xlfn.XLOOKUP($B13,PIVOT!$B:$B,PIVOT!V:V,0),0) -> 0.03035343 | T13: =IFERROR(R13/R$7,0) -> 0.37645272 | U13: =IFERROR(_xlfn.XLOOKUP($B13,PIVOT!$B:$B,PIVOT!Y:Y,0),0) -> -0.21250715
B14: LEATHER GOODS | D14: =IFERROR(_xlfn.XLOOKUP($B14,PIVOT!$B:$B,PIVOT!F:F,0),0) -> 84792 | E14: =IFERROR(_xlfn.XLOOKUP($B14,PIVOT!$B:$B,PIVOT!Q:Q,0),0) -> -0.26273596 | F14: =IFERROR(D14/D$7,0) -> 0.21155741 | G14: =IFERROR(_xlfn.XLOOKUP($B14,PIVOT!$B:$B,PIVOT!H:H,0),0) -> 22410650 | H14: =IFERROR(_xlfn.XLOOKUP($B14,PIVOT!$B:$B,PIVOT!R:R,0),0) -> -0.23023485 | I14: =IFERROR(G14/G$7,0) -> 0.10981813 | J14: =IFERROR(_xlfn.XLOOKUP($B14,PIVOT!$B:$B,PIVOT!J:J,0),0) -> 85088 | K14: =IFERROR(_xlfn.XLOOKUP($B14,PIVOT!$B:$B,PIVOT!S:S,0),0) -> -0.19737388 | L14: =IFERROR(J14/J$7,0) -> 0.22366975 | M14: =IFERROR(_xlfn.XLOOKUP($B14,PIVOT!$B:$B,PIVOT!L:L,0),0) -> 52752580 | N14: =IFERROR(_xlfn.XLOOKUP($B14,PIVOT!$B:$B,PIVOT!T:T,0),0) -> -0.16702489 | O14: =IFERROR(M14/M$7,0) -> 0.11083109 | P14: =IFERROR(_xlfn.XLOOKUP($B14,PIVOT!$B:$B,PIVOT!AA:AA,0),0) -> 0.93606161 | Q14: =IFERROR(_xlfn.XLOOKUP($B14,PIVOT!$B:$B,PIVOT!AB:AB,0),0) -> 1.4290267 | R14: =IFERROR(_xlfn.XLOOKUP($B14,PIVOT!$B:$B,PIVOT!P:P,0),0) -> 2289 | S14: =IFERROR(_xlfn.XLOOKUP($B14,PIVOT!$B:$B,PIVOT!V:V,0),0) -> -0.20768432 | T14: =IFERROR(R14/R$7,0) -> 0.17387011 | U14: =IFERROR(_xlfn.XLOOKUP($B14,PIVOT!$B:$B,PIVOT!Y:Y,0),0) -> -0.035007115 | W14: ALPENROSE SCHUHHAUS | Y14: =IFERROR(_xlfn.XLOOKUP($W14,PIVOT!$B:$B,PIVOT!F:F,0),0) -> 65180 | Z14: =IFERROR(_xlfn.XLOOKUP($W14,PIVOT!$B:$B,PIVOT!Q:Q,0),0) -> -0.0062509529 | AA14: =IFERROR(Y14/D$7,0) -> 0.16262516 | AB14: =IFERROR(_xlfn.XLOOKUP($W14,PIVOT!$B:$B,PIVOT!H:H,0),0) -> 31044040 | AC14: =IFERROR(_xlfn.XLOOKUP($W14,PIVOT!$B:$B,PIVOT!R:R,0),0) -> 0.04320154 | AD14: =IFERROR(AB14/G$7,0) -> 0.15212403 | AE14: =IFERROR(_xlfn.XLOOKUP($W14,PIVOT!$B:$B,PIVOT!J:J,0),0) -> 64235 | AF14: =IFERROR(_xlfn.XLOOKUP($W14,PIVOT!$B:$B,PIVOT!S:S,0),0) -> 0.048375251 | AG14: =IFERROR(AE14/J$7,0) -> 0.16885373 | AH14: =IFERROR(_xlfn.XLOOKUP($W14,PIVOT!$B:$B,PIVOT!L:L,0),0) -> 74643080 | AI14: =IFERROR(_xlfn.XLOOKUP($W14,PIVOT!$B:$B,PIVOT!T:T,0),0) -> 0.094049971 | AJ14: =IFERROR(AH14/M$7,0) -> 0.15682216 | AK14: =IFERROR(_xlfn.XLOOKUP($W14,PIVOT!$B:$B,PIVOT!AA:AA,0),0) -> 0.94518835 | AL14: =IFERROR(_xlfn.XLOOKUP($W14,PIVOT!$B:$B,PIVOT!AB:AB,0),0) -> 1.1036799 | AM14: =IFERROR(_xlfn.XLOOKUP($W14,PIVOT!$B:$B,PIVOT!P:P,0),0) -> 1611 | AN14: =IFERROR(_xlfn.XLOOKUP($W14,PIVOT!$B:$B,PIVOT!V:V,0),0) -> 0.046783626 | AO14: =IFERROR(AM14/R$7,0) -> 0.12236992 | AP14: =IFERROR(_xlfn.XLOOKUP($W14,PIVOT!$B:$B,PIVOT!Y:Y,0),0) -> -0.0038133591
W15: CASA LOMBARDI | Y15: =IFERROR(_xlfn.XLOOKUP($W15,PIVOT!$B:$B,PIVOT!F:F,0),0) -> 61240 | Z15: =IFERROR(_xlfn.XLOOKUP($W15,PIVOT!$B:$B,PIVOT!Q:Q,0),0) -> 0.028155063 | AA15: =IFERROR(Y15/D$7,0) -> 0.15279479 | AB15: =IFERROR(_xlfn.XLOOKUP($W15,PIVOT!$B:$B,PIVOT!H:H,0),0) -> 29612350 | AC15: =IFERROR(_xlfn.XLOOKUP($W15,PIVOT!$B:$B,PIVOT!R:R,0),0) -> 0.09073085 | AD15: =IFERROR(AB15/G$7,0) -> 0.14510837 | AE15: =IFERROR(_xlfn.XLOOKUP($W15,PIVOT!$B:$B,PIVOT!J:J,0),0) -> 60919 | AF15: =IFERROR(_xlfn.XLOOKUP($W15,PIVOT!$B:$B,PIVOT!S:S,0),0) -> 0.11925847 | AG15: =IFERROR(AE15/J$7,0) -> 0.16013701 | AH15: =IFERROR(_xlfn.XLOOKUP($W15,PIVOT!$B:$B,PIVOT!L:L,0),0) -> 72066430 | AI15: =IFERROR(_xlfn.XLOOKUP($W15,PIVOT!$B:$B,PIVOT!T:T,0),0) -> 0.18382004 | AJ15: =IFERROR(AH15/M$7,0) -> 0.15140872 | AK15: =IFERROR(_xlfn.XLOOKUP($W15,PIVOT!$B:$B,PIVOT!AA:AA,0),0) -> 0.93604892 | AL15: =IFERROR(_xlfn.XLOOKUP($W15,PIVOT!$B:$B,PIVOT!AB:AB,0),0) -> 2.2260162 | AM15: =IFERROR(_xlfn.XLOOKUP($W15,PIVOT!$B:$B,PIVOT!P:P,0),0) -> 1563 | AN15: =IFERROR(_xlfn.XLOOKUP($W15,PIVOT!$B:$B,PIVOT!V:V,0),0) -> 0.20788253 | AO15: =IFERROR(AM15/R$7,0) -> 0.11872389 | AP15: =IFERROR(_xlfn.XLOOKUP($W15,PIVOT!$B:$B,PIVOT!Y:Y,0),0) -> 0.18824922
B16: ETOILE PUMP 100 | D16: =IFERROR(_xlfn.XLOOKUP($B16,PIVOT!$B:$B,PIVOT!F:F,0),0) -> 41055 | E16: =IFERROR(_xlfn.XLOOKUP($B16,PIVOT!$B:$B,PIVOT!Q:Q,0),0) -> -0.31501935 | F16: =IFERROR(D16/D$7,0) -> 0.10243289 | G16: =IFERROR(_xlfn.XLOOKUP($B16,PIVOT!$B:$B,PIVOT!H:H,0),0) -> 25454100 | H16: =IFERROR(_xlfn.XLOOKUP($B16,PIVOT!$B:$B,PIVOT!R:R,0),0) -> -0.31501935 | I16: =IFERROR(G16/G$7,0) -> 0.12473185 | J16: =IFERROR(_xlfn.XLOOKUP($B16,PIVOT!$B:$B,PIVOT!J:J,0),0) -> 40216 | K16: =IFERROR(_xlfn.XLOOKUP($B16,PIVOT!$B:$B,PIVOT!S:S,0),0) -> -0.22885467 | L16: =IFERROR(J16/J$7,0) -> 0.10571529 | M16: =IFERROR(_xlfn.XLOOKUP($B16,PIVOT!$B:$B,PIVOT!L:L,0),0) -> 62334800 | N16: =IFERROR(_xlfn.XLOOKUP($B16,PIVOT!$B:$B,PIVOT!T:T,0),0) -> -0.22885467 | O16: =IFERROR(M16/M$7,0) -> 0.13096295 | P16: =IFERROR(_xlfn.XLOOKUP($B16,PIVOT!$B:$B,PIVOT!AA:AA,0),0) -> 0.85845412 | Q16: =IFERROR(_xlfn.XLOOKUP($B16,PIVOT!$B:$B,PIVOT!AB:AB,0),0) -> -1.1657336 | R16: =IFERROR(_xlfn.XLOOKUP($B16,PIVOT!$B:$B,PIVOT!P:P,0),0) -> 1548 | S16: =IFERROR(_xlfn.XLOOKUP($B16,PIVOT!$B:$B,PIVOT!V:V,0),0) -> -0.22328149 | T16: =IFERROR(R16/R$7,0) -> 0.1175845 | U16: =IFERROR(_xlfn.XLOOKUP($B16,PIVOT!$B:$B,PIVOT!Y:Y,0),0) -> 0.027619259 | W16: LE COMPTOIR DE LA MODE | Y16: =IFERROR(_xlfn.XLOOKUP($W16,PIVOT!$B:$B,PIVOT!F:F,0),0) -> 59905 | Z16: =IFERROR(_xlfn.XLOOKUP($W16,PIVOT!$B:$B,PIVOT!Q:Q,0),0) -> 0.0091302663 | AA16: =IFERROR(Y16/D$7,0) -> 0.14946395 | AB16: =IFERROR(_xlfn.XLOOKUP($W16,PIVOT!$B:$B,PIVOT!H:H,0),0) -> 28790290 | AC16: =IFERROR(_xlfn.XLOOKUP($W16,PIVOT!$B:$B,PIVOT!R:R,0),0) -> 0.068715605 | AD16: =IFERROR(AB16/G$7,0) -> 0.14108006 | AE16: =IFERROR(_xlfn.XLOOKUP($W16,PIVOT!$B:$B,PIVOT!J:J,0),0) -> 58834 | AF16: =IFERROR(_xlfn.XLOOKUP($W16,PIVOT!$B:$B,PIVOT!S:S,0),0) -> 0.086661003 | AG16: =IFERROR(AE16/J$7,0) -> 0.15465619 | AH16: =IFERROR(_xlfn.XLOOKUP($W16,PIVOT!$B:$B,PIVOT!L:L,0),0) -> 69515920 | AI16: =IFERROR(_xlfn.XLOOKUP($W16,PIVOT!$B:$B,PIVOT!T:T,0),0) -> 0.15859114 | AJ16: =IFERROR(AH16/M$7,0) -> 0.1460502 | AK16: =IFERROR(_xlfn.XLOOKUP($W16,PIVOT!$B:$B,PIVOT!AA:AA,0),0) -> 0.92722058 | AL16: =IFERROR(_xlfn.XLOOKUP($W16,PIVOT!$B:$B,PIVOT!AB:AB,0),0) -> 1.5170983 | AM16: =IFERROR(_xlfn.XLOOKUP($W16,PIVOT!$B:$B,PIVOT!P:P,0),0) -> 1774 | AN16: =IFERROR(_xlfn.XLOOKUP($W16,PIVOT!$B:$B,PIVOT!V:V,0),0) -> 0.059737157 | AO16: =IFERROR(AM16/R$7,0) -> 0.13475123 | AP16: =IFERROR(_xlfn.XLOOKUP($W16,PIVOT!$B:$B,PIVOT!Y:Y,0),0) -> -0.076606245
B17: CAMBON SLINGBACK | D17: =IFERROR(_xlfn.XLOOKUP($B17,PIVOT!$B:$B,PIVOT!F:F,0),0) -> 34575 | E17: =IFERROR(_xlfn.XLOOKUP($B17,PIVOT!$B:$B,PIVOT!Q:Q,0),0) -> -0.30993533 | F17: =IFERROR(D17/D$7,0) -> 0.086265185 | G17: =IFERROR(_xlfn.XLOOKUP($B17,PIVOT!$B:$B,PIVOT!H:H,0),0) -> 22128000 | H17: =IFERROR(_xlfn.XLOOKUP($B17,PIVOT!$B:$B,PIVOT!R:R,0),0) -> -0.30993533 | I17: =IFERROR(G17/G$7,0) -> 0.10843307 | J17: =IFERROR(_xlfn.XLOOKUP($B17,PIVOT!$B:$B,PIVOT!J:J,0),0) -> 33607 | K17: =IFERROR(_xlfn.XLOOKUP($B17,PIVOT!$B:$B,PIVOT!S:S,0),0) -> -0.23516158 | L17: =IFERROR(J17/J$7,0) -> 0.088342297 | M17: =IFERROR(_xlfn.XLOOKUP($B17,PIVOT!$B:$B,PIVOT!L:L,0),0) -> 53771200 | N17: =IFERROR(_xlfn.XLOOKUP($B17,PIVOT!$B:$B,PIVOT!T:T,0),0) -> -0.23516158 | O17: =IFERROR(M17/M$7,0) -> 0.11297117 | P17: =IFERROR(_xlfn.XLOOKUP($B17,PIVOT!$B:$B,PIVOT!AA:AA,0),0) -> 0.86046035 | Q17: =IFERROR(_xlfn.XLOOKUP($B17,PIVOT!$B:$B,PIVOT!AB:AB,0),0) -> -1.6515537 | R17: =IFERROR(_xlfn.XLOOKUP($B17,PIVOT!$B:$B,PIVOT!P:P,0),0) -> 1336 | S17: =IFERROR(_xlfn.XLOOKUP($B17,PIVOT!$B:$B,PIVOT!V:V,0),0) -> -0.20570749 | T17: =IFERROR(R17/R$7,0) -> 0.1014812 | U17: =IFERROR(_xlfn.XLOOKUP($B17,PIVOT!$B:$B,PIVOT!Y:Y,0),0) -> 0.14741507 | W17: HARTWELL & VANE | Y17: =IFERROR(_xlfn.XLOOKUP($W17,PIVOT!$B:$B,PIVOT!F:F,0),0) -> 55380 | Z17: =IFERROR(_xlfn.XLOOKUP($W17,PIVOT!$B:$B,PIVOT!Q:Q,0),0) -> -0.0099930281 | AA17: =IFERROR(Y17/D$7,0) -> 0.138174 | AB17: =IFERROR(_xlfn.XLOOKUP($W17,PIVOT!$B:$B,PIVOT!H:H,0),0) -> 26646090 | AC17: =IFERROR(_xlfn.XLOOKUP($W17,PIVOT!$B:$B,PIVOT!R:R,0),0) -> 0.059281141 | AD17: =IFERROR(AB17/G$7,0) -> 0.13057291 | AE17: =IFERROR(_xlfn.XLOOKUP($W17,PIVOT!$B:$B,PIVOT!J:J,0),0) -> 54061 | AF17: =IFERROR(_xlfn.XLOOKUP($W17,PIVOT!$B:$B,PIVOT!S:S,0),0) -> 0.04013468 | AG17: =IFERROR(AE17/J$7,0) -> 0.14210947 | AH17: =IFERROR(_xlfn.XLOOKUP($W17,PIVOT!$B:$B,PIVOT!L:L,0),0) -> 63919690 | AI17: =IFERROR(_xlfn.XLOOKUP($W17,PIVOT!$B:$B,PIVOT!T:T,0),0) -> 0.11826066 | AJ17: =IFERROR(AH17/M$7,0) -> 0.13429274 | AK17: =IFERROR(_xlfn.XLOOKUP($W17,PIVOT!$B:$B,PIVOT!AA:AA,0),0) -> 0.93605638 | AL17: =IFERROR(_xlfn.XLOOKUP($W17,PIVOT!$B:$B,PIVOT!AB:AB,0),0) -> 0.69192813 | AM17: =IFERROR(_xlfn.XLOOKUP($W17,PIVOT!$B:$B,PIVOT!P:P,0),0) -> 1595 | AN17: =IFERROR(_xlfn.XLOOKUP($W17,PIVOT!$B:$B,PIVOT!V:V,0),0) -> 0.0031446541 | AO17: =IFERROR(AM17/R$7,0) -> 0.12115458 | AP17: =IFERROR(_xlfn.XLOOKUP($W17,PIVOT!$B:$B,PIVOT!Y:Y,0),0) -> -0.10879218
B18: CAMBON CARD HOLDER | D18: =IFERROR(_xlfn.XLOOKUP($B18,PIVOT!$B:$B,PIVOT!F:F,0),0) -> 33270 | E18: =IFERROR(_xlfn.XLOOKUP($B18,PIVOT!$B:$B,PIVOT!Q:Q,0),0) -> -0.31745446 | F18: =IFERROR(D18/D$7,0) -> 0.083009189 | G18: =IFERROR(_xlfn.XLOOKUP($B18,PIVOT!$B:$B,PIVOT!H:H,0),0) -> 6321300 | H18: =IFERROR(_xlfn.XLOOKUP($B18,PIVOT!$B:$B,PIVOT!R:R,0),0) -> -0.31745446 | I18: =IFERROR(G18/G$7,0) -> 0.030976048 | J18: =IFERROR(_xlfn.XLOOKUP($B18,PIVOT!$B:$B,PIVOT!J:J,0),0) -> 33815 | K18: =IFERROR(_xlfn.XLOOKUP($B18,PIVOT!$B:$B,PIVOT!S:S,0),0) -> -0.24139091 | L18: =IFERROR(J18/J$7,0) -> 0.088889064 | M18: =IFERROR(_xlfn.XLOOKUP($B18,PIVOT!$B:$B,PIVOT!L:L,0),0) -> 15216750 | N18: =IFERROR(_xlfn.XLOOKUP($B18,PIVOT!$B:$B,PIVOT!T:T,0),0) -> -0.24139091 | O18: =IFERROR(M18/M$7,0) -> 0.03196979 | P18: =IFERROR(_xlfn.XLOOKUP($B18,PIVOT!$B:$B,PIVOT!AA:AA,0),0) -> 0.93344559 | Q18: =IFERROR(_xlfn.XLOOKUP($B18,PIVOT!$B:$B,PIVOT!AB:AB,0),0) -> 1.8974067 | R18: =IFERROR(_xlfn.XLOOKUP($B18,PIVOT!$B:$B,PIVOT!P:P,0),0) -> 945 | S18: =IFERROR(_xlfn.XLOOKUP($B18,PIVOT!$B:$B,PIVOT!V:V,0),0) -> -0.22093982 | T18: =IFERROR(R18/R$7,0) -> 0.071781238 | U18: =IFERROR(_xlfn.XLOOKUP($B18,PIVOT!$B:$B,PIVOT!Y:Y,0),0) -> 0.073361464 | W18: CASA SERRANO | Y18: =IFERROR(_xlfn.XLOOKUP($W18,PIVOT!$B:$B,PIVOT!F:F,0),0) -> 30272 | Z18: =IFERROR(_xlfn.XLOOKUP($W18,PIVOT!$B:$B,PIVOT!Q:Q,0),0) -> -0.002767163 | AA18: =IFERROR(Y18/D$7,0) -> 0.075529131 | AB18: =IFERROR(_xlfn.XLOOKUP($W18,PIVOT!$B:$B,PIVOT!H:H,0),0) -> 16114710 | AC18: =IFERROR(_xlfn.XLOOKUP($W18,PIVOT!$B:$B,PIVOT!R:R,0),0) -> 0.037945764 | AD18: =IFERROR(AB18/G$7,0) -> 0.078966356 | AE18: =IFERROR(_xlfn.XLOOKUP($W18,PIVOT!$B:$B,PIVOT!J:J,0),0) -> 29939 | AF18: =IFERROR(_xlfn.XLOOKUP($W18,PIVOT!$B:$B,PIVOT!S:S,0),0) -> 0.12097499 | AG18: =IFERROR(AE18/J$7,0) -> 0.078700272 | AH18: =IFERROR(_xlfn.XLOOKUP($W18,PIVOT!$B:$B,PIVOT!L:L,0),0) -> 38895780 | AI18: =IFERROR(_xlfn.XLOOKUP($W18,PIVOT!$B:$B,PIVOT!T:T,0),0) -> 0.14265696 | AJ18: =IFERROR(AH18/M$7,0) -> 0.081718497 | AK18: =IFERROR(_xlfn.XLOOKUP($W18,PIVOT!$B:$B,PIVOT!AA:AA,0),0) -> 0.90428295 | AL18: =IFERROR(_xlfn.XLOOKUP($W18,PIVOT!$B:$B,PIVOT!AB:AB,0),0) -> 2.4456889 | AM18: =IFERROR(_xlfn.XLOOKUP($W18,PIVOT!$B:$B,PIVOT!P:P,0),0) -> 869 | AN18: =IFERROR(_xlfn.XLOOKUP($W18,PIVOT!$B:$B,PIVOT!V:V,0),0) -> 0.070197044 | AO18: =IFERROR(AM18/R$7,0) -> 0.066008355 | AP18: =IFERROR(_xlfn.XLOOKUP($W18,PIVOT!$B:$B,PIVOT!Y:Y,0),0) -> -0.137719
B19: RIVE LOAFER | D19: =IFERROR(_xlfn.XLOOKUP($B19,PIVOT!$B:$B,PIVOT!F:F,0),0) -> 33193 | E19: =IFERROR(_xlfn.XLOOKUP($B19,PIVOT!$B:$B,PIVOT!Q:Q,0),0) -> -0.31683372 | F19: =IFERROR(D19/D$7,0) -> 0.082817073 | G19: =IFERROR(_xlfn.XLOOKUP($B19,PIVOT!$B:$B,PIVOT!H:H,0),0) -> 15932640 | H19: =IFERROR(_xlfn.XLOOKUP($B19,PIVOT!$B:$B,PIVOT!R:R,0),0) -> -0.31683372 | I19: =IFERROR(G19/G$7,0) -> 0.078074164 | J19: =IFERROR(_xlfn.XLOOKUP($B19,PIVOT!$B:$B,PIVOT!J:J,0),0) -> 32832 | K19: =IFERROR(_xlfn.XLOOKUP($B19,PIVOT!$B:$B,PIVOT!S:S,0),0) -> -0.21640135 | L19: =IFERROR(J19/J$7,0) -> 0.086305064 | M19: =IFERROR(_xlfn.XLOOKUP($B19,PIVOT!$B:$B,PIVOT!L:L,0),0) -> 38741760 | N19: =IFERROR(_xlfn.XLOOKUP($B19,PIVOT!$B:$B,PIVOT!T:T,0),0) -> -0.21640135 | O19: =IFERROR(M19/M$7,0) -> 0.081394907 | P19: =IFERROR(_xlfn.XLOOKUP($B19,PIVOT!$B:$B,PIVOT!AA:AA,0),0) -> 0.859724 | Q19: =IFERROR(_xlfn.XLOOKUP($B19,PIVOT!$B:$B,PIVOT!AB:AB,0),0) -> -0.2626007 | R19: =IFERROR(_xlfn.XLOOKUP($B19,PIVOT!$B:$B,PIVOT!P:P,0),0) -> 1322 | S19: =IFERROR(_xlfn.XLOOKUP($B19,PIVOT!$B:$B,PIVOT!V:V,0),0) -> -0.21867612 | T19: =IFERROR(R19/R$7,0) -> 0.10041777 | U19: =IFERROR(_xlfn.XLOOKUP($B19,PIVOT!$B:$B,PIVOT!Y:Y,0),0) -> -0.011723082 | W19: NORDKAPP TRADING HOUSE | Y19: =IFERROR(_xlfn.XLOOKUP($W19,PIVOT!$B:$B,PIVOT!F:F,0),0) -> 26400 | Z19: =IFERROR(_xlfn.XLOOKUP($W19,PIVOT!$B:$B,PIVOT!Q:Q,0),0) -> -0.027839152 | AA19: =IFERROR(Y19/D$7,0) -> 0.065868428 | AB19: =IFERROR(_xlfn.XLOOKUP($W19,PIVOT!$B:$B,PIVOT!H:H,0),0) -> 14009330 | AC19: =IFERROR(_xlfn.XLOOKUP($W19,PIVOT!$B:$B,PIVOT!R:R,0),0) -> 0.00063998309 | AD19: =IFERROR(AB19/G$7,0) -> 0.068649435 | AE19: =IFERROR(_xlfn.XLOOKUP($W19,PIVOT!$B:$B,PIVOT!J:J,0),0) -> 25063 | AF19: =IFERROR(_xlfn.XLOOKUP($W19,PIVOT!$B:$B,PIVOT!S:S,0),0) -> -0.0042115301 | AG19: =IFERROR(AE19/J$7,0) -> 0.065882792 | AH19: =IFERROR(_xlfn.XLOOKUP($W19,PIVOT!$B:$B,PIVOT!L:L,0),0) -> 33186730 | AI19: =IFERROR(_xlfn.XLOOKUP($W19,PIVOT!$B:$B,PIVOT!T:T,0),0) -> 0.041816134 | AJ19: =IFERROR(AH19/M$7,0) -> 0.069724008 | AK19: =IFERROR(_xlfn.XLOOKUP($W19,PIVOT!$B:$B,PIVOT!AA:AA,0),0) -> 0.90320372 | AL19: =IFERROR(_xlfn.XLOOKUP($W19,PIVOT!$B:$B,PIVOT!AB:AB,0),0) -> -2.3626447 | AM19: =IFERROR(_xlfn.XLOOKUP($W19,PIVOT!$B:$B,PIVOT!P:P,0),0) -> 629 | AN19: =IFERROR(_xlfn.XLOOKUP($W19,PIVOT!$B:$B,PIVOT!V:V,0),0) -> -0.014106583 | AO19: =IFERROR(AM19/R$7,0) -> 0.0477782 | AP19: =IFERROR(_xlfn.XLOOKUP($W19,PIVOT!$B:$B,PIVOT!Y:Y,0),0) -> -0.0251887
B20: LUMIERE SNEAKER | C20: NEW | D20: =IFERROR(_xlfn.XLOOKUP($B20,PIVOT!$B:$B,PIVOT!F:F,0),0) -> 32150 | E20: =IFERROR(_xlfn.XLOOKUP($B20,PIVOT!$B:$B,PIVOT!Q:Q,0),0) -> 0 | F20: =IFERROR(D20/D$7,0) -> 0.080214771 | G20: =IFERROR(_xlfn.XLOOKUP($B20,PIVOT!$B:$B,PIVOT!H:H,0),0) -> 15753500 | H20: =IFERROR(_xlfn.XLOOKUP($B20,PIVOT!$B:$B,PIVOT!R:R,0),0) -> 0 | I20: =IFERROR(G20/G$7,0) -> 0.077196331 | J20: =IFERROR(_xlfn.XLOOKUP($B20,PIVOT!$B:$B,PIVOT!J:J,0),0) -> 27350 | K20: =IFERROR(_xlfn.XLOOKUP($B20,PIVOT!$B:$B,PIVOT!S:S,0),0) -> 0 | L20: =IFERROR(J20/J$7,0) -> 0.0718946 | M20: =IFERROR(_xlfn.XLOOKUP($B20,PIVOT!$B:$B,PIVOT!L:L,0),0) -> 33367000 | N20: =IFERROR(_xlfn.XLOOKUP($B20,PIVOT!$B:$B,PIVOT!T:T,0),0) -> 0 | O20: =IFERROR(M20/M$7,0) -> 0.070102748 | P20: =IFERROR(_xlfn.XLOOKUP($B20,PIVOT!$B:$B,PIVOT!AA:AA,0),0) -> 0.85069984 | Q20: =IFERROR(_xlfn.XLOOKUP($B20,PIVOT!$B:$B,PIVOT!AB:AB,0),0) -> 85.069984 | R20: =IFERROR(_xlfn.XLOOKUP($B20,PIVOT!$B:$B,PIVOT!P:P,0),0) -> 996 | S20: =IFERROR(_xlfn.XLOOKUP($B20,PIVOT!$B:$B,PIVOT!V:V,0),0) -> 0 | T20: =IFERROR(R20/R$7,0) -> 0.075655146 | U20: =IFERROR(_xlfn.XLOOKUP($B20,PIVOT!$B:$B,PIVOT!Y:Y,0),0) -> 3.6416819 | W20: MAISON DOREE | Y20: =IFERROR(_xlfn.XLOOKUP($W20,PIVOT!$B:$B,PIVOT!F:F,0),0) -> 21726 | Z20: =IFERROR(_xlfn.XLOOKUP($W20,PIVOT!$B:$B,PIVOT!Q:Q,0),0) -> 0.11369694 | AA20: =IFERROR(Y20/D$7,0) -> 0.054206722 | AB20: =IFERROR(_xlfn.XLOOKUP($W20,PIVOT!$B:$B,PIVOT!H:H,0),0) -> 12543720 | AC20: =IFERROR(_xlfn.XLOOKUP($W20,PIVOT!$B:$B,PIVOT!R:R,0),0) -> 0.073724325 | AD20: =IFERROR(AB20/G$7,0) -> 0.061467557 | AE20: =IFERROR(_xlfn.XLOOKUP($W20,PIVOT!$B:$B,PIVOT!J:J,0),0) -> 21416 | AF20: =IFERROR(_xlfn.XLOOKUP($W20,PIVOT!$B:$B,PIVOT!S:S,0),0) -> 0.26459994 | AG20: =IFERROR(AE20/J$7,0) -> 0.056295969 | AH20: =IFERROR(_xlfn.XLOOKUP($W20,PIVOT!$B:$B,PIVOT!L:L,0),0) -> 30841380 | AI20: =IFERROR(_xlfn.XLOOKUP($W20,PIVOT!$B:$B,PIVOT!T:T,0),0) -> 0.22866388 | AJ20: =IFERROR(AH20/M$7,0) -> 0.064796521 | AK20: =IFERROR(_xlfn.XLOOKUP($W20,PIVOT!$B:$B,PIVOT!AA:AA,0),0) -> 0.89918965 | AL20: =IFERROR(_xlfn.XLOOKUP($W20,PIVOT!$B:$B,PIVOT!AB:AB,0),0) -> 3.1084262 | AM20: =IFERROR(_xlfn.XLOOKUP($W20,PIVOT!$B:$B,PIVOT!P:P,0),0) -> 659 | AN20: =IFERROR(_xlfn.XLOOKUP($W20,PIVOT!$B:$B,PIVOT!V:V,0),0) -> 0.36721992 | AO20: =IFERROR(AM20/R$7,0) -> 0.050056969 | AP20: =IFERROR(_xlfn.XLOOKUP($W20,PIVOT!$B:$B,PIVOT!Y:Y,0),0) -> 0.23096203
B21: VASSEUR OXFORD | D21: =IFERROR(_xlfn.XLOOKUP($B21,PIVOT!$B:$B,PIVOT!F:F,0),0) -> 32022 | E21: =IFERROR(_xlfn.XLOOKUP($B21,PIVOT!$B:$B,PIVOT!Q:Q,0),0) -> -0.3119615 | F21: =IFERROR(D21/D$7,0) -> 0.079895409 | G21: =IFERROR(_xlfn.XLOOKUP($B21,PIVOT!$B:$B,PIVOT!H:H,0),0) -> 18892980 | H21: =IFERROR(_xlfn.XLOOKUP($B21,PIVOT!$B:$B,PIVOT!R:R,0),0) -> -0.3119615 | I21: =IFERROR(G21/G$7,0) -> 0.092580616 | J21: =IFERROR(_xlfn.XLOOKUP($B21,PIVOT!$B:$B,PIVOT!J:J,0),0) -> 31999 | K21: =IFERROR(_xlfn.XLOOKUP($B21,PIVOT!$B:$B,PIVOT!S:S,0),0) -> -0.2091983 | L21: =IFERROR(J21/J$7,0) -> 0.084115368 | M21: =IFERROR(_xlfn.XLOOKUP($B21,PIVOT!$B:$B,PIVOT!L:L,0),0) -> 46398550 | N21: =IFERROR(_xlfn.XLOOKUP($B21,PIVOT!$B:$B,PIVOT!T:T,0),0) -> -0.2091983 | O21: =IFERROR(M21/M$7,0) -> 0.09748152 | P21: =IFERROR(_xlfn.XLOOKUP($B21,PIVOT!$B:$B,PIVOT!AA:AA,0),0) -> 0.87668493 | Q21: =IFERROR(_xlfn.XLOOKUP($B21,PIVOT!$B:$B,PIVOT!AB:AB,0),0) -> 0.72579746 | R21: =IFERROR(_xlfn.XLOOKUP($B21,PIVOT!$B:$B,PIVOT!P:P,0),0) -> 1298 | S21: =IFERROR(_xlfn.XLOOKUP($B21,PIVOT!$B:$B,PIVOT!V:V,0),0) -> -0.18824265 | T21: =IFERROR(R21/R$7,0) -> 0.098594759 | U21: =IFERROR(_xlfn.XLOOKUP($B21,PIVOT!$B:$B,PIVOT!Y:Y,0),0) -> 0.10471603 | W21: BELGRAVE MAISON | Y21: =IFERROR(_xlfn.XLOOKUP($W21,PIVOT!$B:$B,PIVOT!F:F,0),0) -> 19021 | Z21: =IFERROR(_xlfn.XLOOKUP($W21,PIVOT!$B:$B,PIVOT!Q:Q,0),0) -> 0.24409706 | AA21: =IFERROR(Y21/D$7,0) -> 0.047457703 | AB21: =IFERROR(_xlfn.XLOOKUP($W21,PIVOT!$B:$B,PIVOT!H:H,0),0) -> 10790100 | AC21: =IFERROR(_xlfn.XLOOKUP($W21,PIVOT!$B:$B,PIVOT!R:R,0),0) -> 0.18142282 | AD21: =IFERROR(AB21/G$7,0) -> 0.052874354 | AE21: =IFERROR(_xlfn.XLOOKUP($W21,PIVOT!$B:$B,PIVOT!J:J,0),0) -> 18700 | AF21: =IFERROR(_xlfn.XLOOKUP($W21,PIVOT!$B:$B,PIVOT!S:S,0),0) -> 0.4426786 | AG21: =IFERROR(AE21/J$7,0) -> 0.049156454 | AH21: =IFERROR(_xlfn.XLOOKUP($W21,PIVOT!$B:$B,PIVOT!L:L,0),0) -> 26464220 | AI21: =IFERROR(_xlfn.XLOOKUP($W21,PIVOT!$B:$B,PIVOT!T:T,0),0) -> 0.38079426 | AJ21: =IFERROR(AH21/M$7,0) -> 0.05560028 | AK21: =IFERROR(_xlfn.XLOOKUP($W21,PIVOT!$B:$B,PIVOT!AA:AA,0),0) -> 0.89281451 | AL21: =IFERROR(_xlfn.XLOOKUP($W21,PIVOT!$B:$B,PIVOT!AB:AB,0),0) -> 4.5015443 | AM21: =IFERROR(_xlfn.XLOOKUP($W21,PIVOT!$B:$B,PIVOT!P:P,0),0) -> 551 | AN21: =IFERROR(_xlfn.XLOOKUP($W21,PIVOT!$B:$B,PIVOT!V:V,0),0) -> 0.36724566 | AO21: =IFERROR(AM21/R$7,0) -> 0.041853399 | AP21: =IFERROR(_xlfn.XLOOKUP($W21,PIVOT!$B:$B,PIVOT!Y:Y,0),0) -> -0.16256404
B22: NOCTURNE DERBY | D22: =IFERROR(_xlfn.XLOOKUP($B22,PIVOT!$B:$B,PIVOT!F:F,0),0) -> 29909 | E22: =IFERROR(_xlfn.XLOOKUP($B22,PIVOT!$B:$B,PIVOT!Q:Q,0),0) -> -0.33053541 | F22: =IFERROR(D22/D$7,0) -> 0.07462344 | G22: =IFERROR(_xlfn.XLOOKUP($B22,PIVOT!$B:$B,PIVOT!H:H,0),0) -> 16749040 | H22: =IFERROR(_xlfn.XLOOKUP($B22,PIVOT!$B:$B,PIVOT!R:R,0),0) -> -0.33053541 | I22: =IFERROR(G22/G$7,0) -> 0.082074741 | J22: =IFERROR(_xlfn.XLOOKUP($B22,PIVOT!$B:$B,PIVOT!J:J,0),0) -> 29554 | K22: =IFERROR(_xlfn.XLOOKUP($B22,PIVOT!$B:$B,PIVOT!S:S,0),0) -> -0.23601489 | L22: =IFERROR(J22/J$7,0) -> 0.077688227 | M22: =IFERROR(_xlfn.XLOOKUP($B22,PIVOT!$B:$B,PIVOT!L:L,0),0) -> 40488980 | N22: =IFERROR(_xlfn.XLOOKUP($B22,PIVOT!$B:$B,PIVOT!T:T,0),0) -> -0.23601489 | O22: =IFERROR(M22/M$7,0) -> 0.085065747 | P22: =IFERROR(_xlfn.XLOOKUP($B22,PIVOT!$B:$B,PIVOT!AA:AA,0),0) -> 0.85957769 | Q22: =IFERROR(_xlfn.XLOOKUP($B22,PIVOT!$B:$B,PIVOT!AB:AB,0),0) -> -0.63010856 | R22: =IFERROR(_xlfn.XLOOKUP($B22,PIVOT!$B:$B,PIVOT!P:P,0),0) -> 1134 | S22: =IFERROR(_xlfn.XLOOKUP($B22,PIVOT!$B:$B,PIVOT!V:V,0),0) -> -0.25345622 | T22: =IFERROR(R22/R$7,0) -> 0.086137486 | U22: =IFERROR(_xlfn.XLOOKUP($B22,PIVOT!$B:$B,PIVOT!Y:Y,0),0) -> -0.089643981 | W22: KONIGSALLEE BOUTIQUE | Y22: =IFERROR(_xlfn.XLOOKUP($W22,PIVOT!$B:$B,PIVOT!F:F,0),0) -> 17525 | Z22: =IFERROR(_xlfn.XLOOKUP($W22,PIVOT!$B:$B,PIVOT!Q:Q,0),0) -> 0.083663121 | AA22: =IFERROR(Y22/D$7,0) -> 0.043725159 | AB22: =IFERROR(_xlfn.XLOOKUP($W22,PIVOT!$B:$B,PIVOT!H:H,0),0) -> 10004140 | AC22: =IFERROR(_xlfn.XLOOKUP($W22,PIVOT!$B:$B,PIVOT!R:R,0),0) -> 0.034884984 | AD22: =IFERROR(AB22/G$7,0) -> 0.049022941 | AE22: =IFERROR(_xlfn.XLOOKUP($W22,PIVOT!$B:$B,PIVOT!J:J,0),0) -> 11982 | AF22: =IFERROR(_xlfn.XLOOKUP($W22,PIVOT!$B:$B,PIVOT!S:S,0),0) -> 0.016198796 | AG22: =IFERROR(AE22/J$7,0) -> 0.031496932 | AH22: =IFERROR(_xlfn.XLOOKUP($W22,PIVOT!$B:$B,PIVOT!L:L,0),0) -> 17234040 | AI22: =IFERROR(_xlfn.XLOOKUP($W22,PIVOT!$B:$B,PIVOT!T:T,0),0) -> -0.016065825 | AJ22: =IFERROR(AH22/M$7,0) -> 0.036208037 | AK22: =IFERROR(_xlfn.XLOOKUP($W22,PIVOT!$B:$B,PIVOT!AA:AA,0),0) -> 0.58074835 | AL22: =IFERROR(_xlfn.XLOOKUP($W22,PIVOT!$B:$B,PIVOT!AB:AB,0),0) -> -14.835133 | AM22: =IFERROR(_xlfn.XLOOKUP($W22,PIVOT!$B:$B,PIVOT!P:P,0),0) -> 1319 | AN22: =IFERROR(_xlfn.XLOOKUP($W22,PIVOT!$B:$B,PIVOT!V:V,0),0) -> 0.035321821 | AO22: =IFERROR(AM22/R$7,0) -> 0.1001899 | AP22: =IFERROR(_xlfn.XLOOKUP($W22,PIVOT!$B:$B,PIVOT!Y:Y,0),0) -> 0.20332778
B23: FAUBOURG SNEAKER | C23: NEW | D23: =IFERROR(_xlfn.XLOOKUP($B23,PIVOT!$B:$B,PIVOT!F:F,0),0) -> 29626 | E23: =IFERROR(_xlfn.XLOOKUP($B23,PIVOT!$B:$B,PIVOT!Q:Q,0),0) -> 0 | F23: =IFERROR(D23/D$7,0) -> 0.07391735 | G23: =IFERROR(_xlfn.XLOOKUP($B23,PIVOT!$B:$B,PIVOT!H:H,0),0) -> 13924220 | H23: =IFERROR(_xlfn.XLOOKUP($B23,PIVOT!$B:$B,PIVOT!R:R,0),0) -> 0 | I23: =IFERROR(G23/G$7,0) -> 0.068232373 | J23: =IFERROR(_xlfn.XLOOKUP($B23,PIVOT!$B:$B,PIVOT!J:J,0),0) -> 23144 | K23: =IFERROR(_xlfn.XLOOKUP($B23,PIVOT!$B:$B,PIVOT!S:S,0),0) -> 0 | L23: =IFERROR(J23/J$7,0) -> 0.060838341 | M23: =IFERROR(_xlfn.XLOOKUP($B23,PIVOT!$B:$B,PIVOT!L:L,0),0) -> 26615600 | N23: =IFERROR(_xlfn.XLOOKUP($B23,PIVOT!$B:$B,PIVOT!T:T,0),0) -> 0 | O23: =IFERROR(M23/M$7,0) -> 0.055918324 | P23: =IFERROR(_xlfn.XLOOKUP($B23,PIVOT!$B:$B,PIVOT!AA:AA,0),0) -> 0.7812057 | Q23: =IFERROR(_xlfn.XLOOKUP($B23,PIVOT!$B:$B,PIVOT!AB:AB,0),0) -> 78.12057 | R23: =IFERROR(_xlfn.XLOOKUP($B23,PIVOT!$B:$B,PIVOT!P:P,0),0) -> 814 | S23: =IFERROR(_xlfn.XLOOKUP($B23,PIVOT!$B:$B,PIVOT!V:V,0),0) -> 0 | T23: =IFERROR(R23/R$7,0) -> 0.061830611 | U23: =IFERROR(_xlfn.XLOOKUP($B23,PIVOT!$B:$B,PIVOT!Y:Y,0),0) -> 3.5171103 | W23: BOUTIQUE ALMENDRA | Y23: =IFERROR(_xlfn.XLOOKUP($W23,PIVOT!$B:$B,PIVOT!F:F,0),0) -> 17338 | Z23: =IFERROR(_xlfn.XLOOKUP($W23,PIVOT!$B:$B,PIVOT!Q:Q,0),0) -> -0.06774922 | AA23: =IFERROR(Y23/D$7,0) -> 0.043258591 | AB23: =IFERROR(_xlfn.XLOOKUP($W23,PIVOT!$B:$B,PIVOT!H:H,0),0) -> 9624010 | AC23: =IFERROR(_xlfn.XLOOKUP($W23,PIVOT!$B:$B,PIVOT!R:R,0),0) -> -0.10631116 | AD23: =IFERROR(AB23/G$7,0) -> 0.047160203 | AE23: =IFERROR(_xlfn.XLOOKUP($W23,PIVOT!$B:$B,PIVOT!J:J,0),0) -> 12333 | AF23: =IFERROR(_xlfn.XLOOKUP($W23,PIVOT!$B:$B,PIVOT!S:S,0),0) -> -0.04801235 | AG23: =IFERROR(AE23/J$7,0) -> 0.032419602 | AH23: =IFERROR(_xlfn.XLOOKUP($W23,PIVOT!$B:$B,PIVOT!L:L,0),0) -> 17091390 | AI23: =IFERROR(_xlfn.XLOOKUP($W23,PIVOT!$B:$B,PIVOT!T:T,0),0) -> -0.087452721 | AJ23: =IFERROR(AH23/M$7,0) -> 0.035908335 | AK23: =IFERROR(_xlfn.XLOOKUP($W23,PIVOT!$B:$B,PIVOT!AA:AA,0),0) -> 0.57749579 | AL23: =IFERROR(_xlfn.XLOOKUP($W23,PIVOT!$B:$B,PIVOT!AB:AB,0),0) -> -11.908449 | AM23: =IFERROR(_xlfn.XLOOKUP($W23,PIVOT!$B:$B,PIVOT!P:P,0),0) -> 1601 | AN23: =IFERROR(_xlfn.XLOOKUP($W23,PIVOT!$B:$B,PIVOT!V:V,0),0) -> -0.014769231 | AO23: =IFERROR(AM23/R$7,0) -> 0.12161033 | AP23: =IFERROR(_xlfn.XLOOKUP($W23,PIVOT!$B:$B,PIVOT!Y:Y,0),0) -> 0.4380124
B24: VOLTIGE SANDAL | C24: NEW | D24: =IFERROR(_xlfn.XLOOKUP($B24,PIVOT!$B:$B,PIVOT!F:F,0),0) -> 28681 | E24: =IFERROR(_xlfn.XLOOKUP($B24,PIVOT!$B:$B,PIVOT!Q:Q,0),0) -> 0 | F24: =IFERROR(D24/D$7,0) -> 0.07155956 | G24: =IFERROR(_xlfn.XLOOKUP($B24,PIVOT!$B:$B,PIVOT!H:H,0),0) -> 16061360 | H24: =IFERROR(_xlfn.XLOOKUP($B24,PIVOT!$B:$B,PIVOT!R:R,0),0) -> 0 | I24: =IFERROR(G24/G$7,0) -> 0.078704927 | J24: =IFERROR(_xlfn.XLOOKUP($B24,PIVOT!$B:$B,PIVOT!J:J,0),0) -> 24479 | K24: =IFERROR(_xlfn.XLOOKUP($B24,PIVOT!$B:$B,PIVOT!S:S,0),0) -> 0 | L24: =IFERROR(J24/J$7,0) -> 0.064347639 | M24: =IFERROR(_xlfn.XLOOKUP($B24,PIVOT!$B:$B,PIVOT!L:L,0),0) -> 34270600 | N24: =IFERROR(_xlfn.XLOOKUP($B24,PIVOT!$B:$B,PIVOT!T:T,0),0) -> 0 | O24: =IFERROR(M24/M$7,0) -> 0.072001176 | P24: =IFERROR(_xlfn.XLOOKUP($B24,PIVOT!$B:$B,PIVOT!AA:AA,0),0) -> 0.85349186 | Q24: =IFERROR(_xlfn.XLOOKUP($B24,PIVOT!$B:$B,PIVOT!AB:AB,0),0) -> 85.349186 | R24: =IFERROR(_xlfn.XLOOKUP($B24,PIVOT!$B:$B,PIVOT!P:P,0),0) -> 914 | S24: =IFERROR(_xlfn.XLOOKUP($B24,PIVOT!$B:$B,PIVOT!V:V,0),0) -> 0 | T24: =IFERROR(R24/R$7,0) -> 0.06942651 | U24: =IFERROR(_xlfn.XLOOKUP($B24,PIVOT!$B:$B,PIVOT!Y:Y,0),0) -> 3.7338127 | W24: ATELIER DEL SUD | Y24: =IFERROR(_xlfn.XLOOKUP($W24,PIVOT!$B:$B,PIVOT!F:F,0),0) -> 13881 | Z24: =IFERROR(_xlfn.XLOOKUP($W24,PIVOT!$B:$B,PIVOT!Q:Q,0),0) -> 0.0032523851 | AA24: =IFERROR(Y24/D$7,0) -> 0.03463332 | AB24: =IFERROR(_xlfn.XLOOKUP($W24,PIVOT!$B:$B,PIVOT!H:H,0),0) -> 7722000 | AC24: =IFERROR(_xlfn.XLOOKUP($W24,PIVOT!$B:$B,PIVOT!R:R,0),0) -> -0.038889981 | AD24: =IFERROR(AB24/G$7,0) -> 0.037839849 | AE24: =IFERROR(_xlfn.XLOOKUP($W24,PIVOT!$B:$B,PIVOT!J:J,0),0) -> 12204 | AF24: =IFERROR(_xlfn.XLOOKUP($W24,PIVOT!$B:$B,PIVOT!S:S,0),0) -> 0.17810599 | AG24: =IFERROR(AE24/J$7,0) -> 0.032080501 | AH24: =IFERROR(_xlfn.XLOOKUP($W24,PIVOT!$B:$B,PIVOT!L:L,0),0) -> 17214260 | AI24: =IFERROR(_xlfn.XLOOKUP($W24,PIVOT!$B:$B,PIVOT!T:T,0),0) -> 0.16056929 | AJ24: =IFERROR(AH24/M$7,0) -> 0.03616648 | AK24: =IFERROR(_xlfn.XLOOKUP($W24,PIVOT!$B:$B,PIVOT!AA:AA,0),0) -> 0.72277169 | AL24: =IFERROR(_xlfn.XLOOKUP($W24,PIVOT!$B:$B,PIVOT!AB:AB,0),0) -> -2.5927355 | AM24: =IFERROR(_xlfn.XLOOKUP($W24,PIVOT!$B:$B,PIVOT!P:P,0),0) -> 548 | AN24: =IFERROR(_xlfn.XLOOKUP($W24,PIVOT!$B:$B,PIVOT!V:V,0),0) -> 0.15856237 | AO24: =IFERROR(AM24/R$7,0) -> 0.041625522 | AP24: =IFERROR(_xlfn.XLOOKUP($W24,PIVOT!$B:$B,PIVOT!Y:Y,0),0) -> -0.075746768
B25: ETOILE ZIP WALLET | D25: =IFERROR(_xlfn.XLOOKUP($B25,PIVOT!$B:$B,PIVOT!F:F,0),0) -> 24137 | E25: =IFERROR(_xlfn.XLOOKUP($B25,PIVOT!$B:$B,PIVOT!Q:Q,0),0) -> -0.27891136 | F25: =IFERROR(D25/D$7,0) -> 0.060222206 | G25: =IFERROR(_xlfn.XLOOKUP($B25,PIVOT!$B:$B,PIVOT!H:H,0),0) -> 6275620 | H25: =IFERROR(_xlfn.XLOOKUP($B25,PIVOT!$B:$B,PIVOT!R:R,0),0) -> -0.27891136 | I25: =IFERROR(G25/G$7,0) -> 0.030752203 | J25: =IFERROR(_xlfn.XLOOKUP($B25,PIVOT!$B:$B,PIVOT!J:J,0),0) -> 24164 | K25: =IFERROR(_xlfn.XLOOKUP($B25,PIVOT!$B:$B,PIVOT!S:S,0),0) -> -0.21892879 | L25: =IFERROR(J25/J$7,0) -> 0.063519602 | M25: =IFERROR(_xlfn.XLOOKUP($B25,PIVOT!$B:$B,PIVOT!L:L,0),0) -> 14740040 | N25: =IFERROR(_xlfn.XLOOKUP($B25,PIVOT!$B:$B,PIVOT!T:T,0),0) -> -0.21892879 | O25: =IFERROR(M25/M$7,0) -> 0.030968242 | P25: =IFERROR(_xlfn.XLOOKUP($B25,PIVOT!$B:$B,PIVOT!AA:AA,0),0) -> 0.93513932 | Q25: =IFERROR(_xlfn.XLOOKUP($B25,PIVOT!$B:$B,PIVOT!AB:AB,0),0) -> 1.0901874 | R25: =IFERROR(_xlfn.XLOOKUP($B25,PIVOT!$B:$B,PIVOT!P:P,0),0) -> 665 | S25: =IFERROR(_xlfn.XLOOKUP($B25,PIVOT!$B:$B,PIVOT!V:V,0),0) -> -0.20168067 | T25: =IFERROR(R25/R$7,0) -> 0.050512723 | U25: =IFERROR(_xlfn.XLOOKUP($B25,PIVOT!$B:$B,PIVOT!Y:Y,0),0) -> 0.059459041 | W25: STUREPLAN ATELIER | Y25: =IFERROR(_xlfn.XLOOKUP($W25,PIVOT!$B:$B,PIVOT!F:F,0),0) -> 12931 | Z25: =IFERROR(_xlfn.XLOOKUP($W25,PIVOT!$B:$B,PIVOT!Q:Q,0),0) -> -0.12427198 | AA25: =IFERROR(Y25/D$7,0) -> 0.032263055 | AB25: =IFERROR(_xlfn.XLOOKUP($W25,PIVOT!$B:$B,PIVOT!H:H,0),0) -> 7169800 | AC25: =IFERROR(_xlfn.XLOOKUP($W25,PIVOT!$B:$B,PIVOT!R:R,0),0) -> -0.16021191 | AD25: =IFERROR(AB25/G$7,0) -> 0.035133923 | AE25: =IFERROR(_xlfn.XLOOKUP($W25,PIVOT!$B:$B,PIVOT!J:J,0),0) -> 10732 | AF25: =IFERROR(_xlfn.XLOOKUP($W25,PIVOT!$B:$B,PIVOT!S:S,0),0) -> -0.12148003 | AG25: =IFERROR(AE25/J$7,0) -> 0.028211073 | AH25: =IFERROR(_xlfn.XLOOKUP($W25,PIVOT!$B:$B,PIVOT!L:L,0),0) -> 14899860 | AI25: =IFERROR(_xlfn.XLOOKUP($W25,PIVOT!$B:$B,PIVOT!T:T,0),0) -> -0.14816373 | AJ25: =IFERROR(AH25/M$7,0) -> 0.031304017 | AK25: =IFERROR(_xlfn.XLOOKUP($W25,PIVOT!$B:$B,PIVOT!AA:AA,0),0) -> 0.71584845 | AL25: =IFERROR(_xlfn.XLOOKUP($W25,PIVOT!$B:$B,PIVOT!AB:AB,0),0) -> -11.145752 | AM25: =IFERROR(_xlfn.XLOOKUP($W25,PIVOT!$B:$B,PIVOT!P:P,0),0) -> 446 | AN25: =IFERROR(_xlfn.XLOOKUP($W25,PIVOT!$B:$B,PIVOT!V:V,0),0) -> -0.08793456 | AO25: =IFERROR(AM25/R$7,0) -> 0.033877706 | AP25: =IFERROR(_xlfn.XLOOKUP($W25,PIVOT!$B:$B,PIVOT!Y:Y,0),0) -> 0.1528488
B26: AURORE ANKLE BOOT | D26: =IFERROR(_xlfn.XLOOKUP($B26,PIVOT!$B:$B,PIVOT!F:F,0),0) -> 22159 | E26: =IFERROR(_xlfn.XLOOKUP($B26,PIVOT!$B:$B,PIVOT!Q:Q,0),0) -> -0.29166001 | F26: =IFERROR(D26/D$7,0) -> 0.055287064 | G26: =IFERROR(_xlfn.XLOOKUP($B26,PIVOT!$B:$B,PIVOT!H:H,0),0) -> 15732890 | H26: =IFERROR(_xlfn.XLOOKUP($B26,PIVOT!$B:$B,PIVOT!R:R,0),0) -> -0.29166001 | I26: =IFERROR(G26/G$7,0) -> 0.077095336 | J26: =IFERROR(_xlfn.XLOOKUP($B26,PIVOT!$B:$B,PIVOT!J:J,0),0) -> 22510 | K26: =IFERROR(_xlfn.XLOOKUP($B26,PIVOT!$B:$B,PIVOT!S:S,0),0) -> -0.18915025 | L26: =IFERROR(J26/J$7,0) -> 0.059171753 | M26: =IFERROR(_xlfn.XLOOKUP($B26,PIVOT!$B:$B,PIVOT!L:L,0),0) -> 40067800 | N26: =IFERROR(_xlfn.XLOOKUP($B26,PIVOT!$B:$B,PIVOT!T:T,0),0) -> -0.18915025 | O26: =IFERROR(M26/M$7,0) -> 0.084180864 | P26: =IFERROR(_xlfn.XLOOKUP($B26,PIVOT!$B:$B,PIVOT!AA:AA,0),0) -> 0.9090542 | Q26: =IFERROR(_xlfn.XLOOKUP($B26,PIVOT!$B:$B,PIVOT!AB:AB,0),0) -> 2.1639306 | R26: =IFERROR(_xlfn.XLOOKUP($B26,PIVOT!$B:$B,PIVOT!P:P,0),0) -> 700 | S26: =IFERROR(_xlfn.XLOOKUP($B26,PIVOT!$B:$B,PIVOT!V:V,0),0) -> -0.2383025 | T26: =IFERROR(R26/R$7,0) -> 0.053171288 | U26: =IFERROR(_xlfn.XLOOKUP($B26,PIVOT!$B:$B,PIVOT!Y:Y,0),0) -> -0.20067047
B27: VOLTIGE BELT | D27: =IFERROR(_xlfn.XLOOKUP($B27,PIVOT!$B:$B,PIVOT!F:F,0),0) -> 21798 | E27: =IFERROR(_xlfn.XLOOKUP($B27,PIVOT!$B:$B,PIVOT!Q:Q,0),0) -> -0.3352647 | F27: =IFERROR(D27/D$7,0) -> 0.054386363 | G27: =IFERROR(_xlfn.XLOOKUP($B27,PIVOT!$B:$B,PIVOT!H:H,0),0) -> 7411320 | H27: =IFERROR(_xlfn.XLOOKUP($B27,PIVOT!$B:$B,PIVOT!R:R,0),0) -> -0.3352647 | I27: =IFERROR(G27/G$7,0) -> 0.036317435 | J27: =IFERROR(_xlfn.XLOOKUP($B27,PIVOT!$B:$B,PIVOT!J:J,0),0) -> 21830 | K27: =IFERROR(_xlfn.XLOOKUP($B27,PIVOT!$B:$B,PIVOT!S:S,0),0) -> -0.2842623 | L27: =IFERROR(J27/J$7,0) -> 0.057384246 | M27: =IFERROR(_xlfn.XLOOKUP($B27,PIVOT!$B:$B,PIVOT!L:L,0),0) -> 17464000 | N27: =IFERROR(_xlfn.XLOOKUP($B27,PIVOT!$B:$B,PIVOT!T:T,0),0) -> -0.2842623 | O27: =IFERROR(M27/M$7,0) -> 0.036691174 | P27: =IFERROR(_xlfn.XLOOKUP($B27,PIVOT!$B:$B,PIVOT!AA:AA,0),0) -> 0.9390459 | Q27: =IFERROR(_xlfn.XLOOKUP($B27,PIVOT!$B:$B,PIVOT!AB:AB,0),0) -> 0.89409948 | R27: =IFERROR(_xlfn.XLOOKUP($B27,PIVOT!$B:$B,PIVOT!P:P,0),0) -> 554 | S27: =IFERROR(_xlfn.XLOOKUP($B27,PIVOT!$B:$B,PIVOT!V:V,0),0) -> -0.34282325 | T27: =IFERROR(R27/R$7,0) -> 0.042081276 | U27: =IFERROR(_xlfn.XLOOKUP($B27,PIVOT!$B:$B,PIVOT!Y:Y,0),0) -> -0.2261424
B28: SOIREE MULE | C28: NEW | D28: =IFERROR(_xlfn.XLOOKUP($B28,PIVOT!$B:$B,PIVOT!F:F,0),0) -> 16537 | E28: =IFERROR(_xlfn.XLOOKUP($B28,PIVOT!$B:$B,PIVOT!Q:Q,0),0) -> 0 | F28: =IFERROR(D28/D$7,0) -> 0.041260083 | G28: =IFERROR(_xlfn.XLOOKUP($B28,PIVOT!$B:$B,PIVOT!H:H,0),0) -> 9922200 | H28: =IFERROR(_xlfn.XLOOKUP($B28,PIVOT!$B:$B,PIVOT!R:R,0),0) -> 0 | I28: =IFERROR(G28/G$7,0) -> 0.048621413 | J28: =IFERROR(_xlfn.XLOOKUP($B28,PIVOT!$B:$B,PIVOT!J:J,0),0) -> 15400 | K28: =IFERROR(_xlfn.XLOOKUP($B28,PIVOT!$B:$B,PIVOT!S:S,0),0) -> 0 | L28: =IFERROR(J28/J$7,0) -> 0.040481786 | M28: =IFERROR(_xlfn.XLOOKUP($B28,PIVOT!$B:$B,PIVOT!L:L,0),0) -> 23100000 | N28: =IFERROR(_xlfn.XLOOKUP($B28,PIVOT!$B:$B,PIVOT!T:T,0),0) -> 0 | O28: =IFERROR(M28/M$7,0) -> 0.048532187 | P28: =IFERROR(_xlfn.XLOOKUP($B28,PIVOT!$B:$B,PIVOT!AA:AA,0),0) -> 0.93124509 | Q28: =IFERROR(_xlfn.XLOOKUP($B28,PIVOT!$B:$B,PIVOT!AB:AB,0),0) -> 93.124509 | R28: =IFERROR(_xlfn.XLOOKUP($B28,PIVOT!$B:$B,PIVOT!P:P,0),0) -> 426 | S28: =IFERROR(_xlfn.XLOOKUP($B28,PIVOT!$B:$B,PIVOT!V:V,0),0) -> 0 | T28: =IFERROR(R28/R$7,0) -> 0.032358526 | U28: =IFERROR(_xlfn.XLOOKUP($B28,PIVOT!$B:$B,PIVOT!Y:Y,0),0) -> 2.7662338
B29: BASTILLE BOOT | C29: NEW | D29: =IFERROR(_xlfn.XLOOKUP($B29,PIVOT!$B:$B,PIVOT!F:F,0),0) -> 16100 | E29: =IFERROR(_xlfn.XLOOKUP($B29,PIVOT!$B:$B,PIVOT!Q:Q,0),0) -> 0 | F29: =IFERROR(D29/D$7,0) -> 0.040169761 | G29: =IFERROR(_xlfn.XLOOKUP($B29,PIVOT!$B:$B,PIVOT!H:H,0),0) -> 11109000 | H29: =IFERROR(_xlfn.XLOOKUP($B29,PIVOT!$B:$B,PIVOT!R:R,0),0) -> 0 | I29: =IFERROR(G29/G$7,0) -> 0.054437048 | J29: =IFERROR(_xlfn.XLOOKUP($B29,PIVOT!$B:$B,PIVOT!J:J,0),0) -> 14239 | K29: =IFERROR(_xlfn.XLOOKUP($B29,PIVOT!$B:$B,PIVOT!S:S,0),0) -> 0 | L29: =IFERROR(J29/J$7,0) -> 0.03742988 | M29: =IFERROR(_xlfn.XLOOKUP($B29,PIVOT!$B:$B,PIVOT!L:L,0),0) -> 24063910 | N29: =IFERROR(_xlfn.XLOOKUP($B29,PIVOT!$B:$B,PIVOT!T:T,0),0) -> 0 | O29: =IFERROR(M29/M$7,0) -> 0.050557324 | P29: =IFERROR(_xlfn.XLOOKUP($B29,PIVOT!$B:$B,PIVOT!AA:AA,0),0) -> 0.88440994 | Q29: =IFERROR(_xlfn.XLOOKUP($B29,PIVOT!$B:$B,PIVOT!AB:AB,0),0) -> 88.440994 | R29: =IFERROR(_xlfn.XLOOKUP($B29,PIVOT!$B:$B,PIVOT!P:P,0),0) -> 388 | S29: =IFERROR(_xlfn.XLOOKUP($B29,PIVOT!$B:$B,PIVOT!V:V,0),0) -> 0 | T29: =IFERROR(R29/R$7,0) -> 0.029472085 | U29: =IFERROR(_xlfn.XLOOKUP($B29,PIVOT!$B:$B,PIVOT!Y:Y,0),0) -> 2.7249105
B30: RIVE CROSSBODY POUCH | C30: NEW | D30: =IFERROR(_xlfn.XLOOKUP($B30,PIVOT!$B:$B,PIVOT!F:F,0),0) -> 5587 | E30: =IFERROR(_xlfn.XLOOKUP($B30,PIVOT!$B:$B,PIVOT!Q:Q,0),0) -> 0 | F30: =IFERROR(D30/D$7,0) -> 0.013939656 | G30: =IFERROR(_xlfn.XLOOKUP($B30,PIVOT!$B:$B,PIVOT!H:H,0),0) -> 2402410 | H30: =IFERROR(_xlfn.XLOOKUP($B30,PIVOT!$B:$B,PIVOT!R:R,0),0) -> 0 | I30: =IFERROR(G30/G$7,0) -> 0.011772447 | J30: =IFERROR(_xlfn.XLOOKUP($B30,PIVOT!$B:$B,PIVOT!J:J,0),0) -> 5279 | K30: =IFERROR(_xlfn.XLOOKUP($B30,PIVOT!$B:$B,PIVOT!S:S,0),0) -> 0 | L30: =IFERROR(J30/J$7,0) -> 0.013876841 | M30: =IFERROR(_xlfn.XLOOKUP($B30,PIVOT!$B:$B,PIVOT!L:L,0),0) -> 5331790 | N30: =IFERROR(_xlfn.XLOOKUP($B30,PIVOT!$B:$B,PIVOT!T:T,0),0) -> 0 | O30: =IFERROR(M30/M$7,0) -> 0.01120188 | P30: =IFERROR(_xlfn.XLOOKUP($B30,PIVOT!$B:$B,PIVOT!AA:AA,0),0) -> 0.94487202 | Q30: =IFERROR(_xlfn.XLOOKUP($B30,PIVOT!$B:$B,PIVOT!AB:AB,0),0) -> 94.487202 | R30: =IFERROR(_xlfn.XLOOKUP($B30,PIVOT!$B:$B,PIVOT!P:P,0),0) -> 125 | S30: =IFERROR(_xlfn.XLOOKUP($B30,PIVOT!$B:$B,PIVOT!V:V,0),0) -> 0 | T30: =IFERROR(R30/R$7,0) -> 0.0094948728 | U30: =IFERROR(_xlfn.XLOOKUP($B30,PIVOT!$B:$B,PIVOT!Y:Y,0),0) -> 2.3678727
B32: JAN | D32: =IFERROR(_xlfn.XLOOKUP($B32,PIVOT!$B:$B,PIVOT!F:F,0),0) -> 0 | E32: =IFERROR(_xlfn.XLOOKUP($B32,PIVOT!$B:$B,PIVOT!Q:Q,0),0) -> 0 | F32: =IFERROR(D32/D$7,0) -> 0 | G32: =IFERROR(_xlfn.XLOOKUP($B32,PIVOT!$B:$B,PIVOT!H:H,0),0) -> 0 | H32: =IFERROR(_xlfn.XLOOKUP($B32,PIVOT!$B:$B,PIVOT!R:R,0),0) -> 0 | I32: =IFERROR(G32/G$7,0) -> 0 | J32: =IFERROR(_xlfn.XLOOKUP($B32,PIVOT!$B:$B,PIVOT!J:J,0),0) -> 7522 | K32: =IFERROR(_xlfn.XLOOKUP($B32,PIVOT!$B:$B,PIVOT!S:S,0),0) -> 0 | L32: =IFERROR(J32/J$7,0) -> 0.019772987 | M32: =IFERROR(_xlfn.XLOOKUP($B32,PIVOT!$B:$B,PIVOT!L:L,0),0) -> 9449610 | N32: =IFERROR(_xlfn.XLOOKUP($B32,PIVOT!$B:$B,PIVOT!T:T,0),0) -> 0 | O32: =IFERROR(M32/M$7,0) -> 0.019853257 | P32: =IFERROR(_xlfn.XLOOKUP($B32,PIVOT!$B:$B,PIVOT!AA:AA,0),0) -> 0.22841006 | Q32: =IFERROR(_xlfn.XLOOKUP($B32,PIVOT!$B:$B,PIVOT!AB:AB,0),0) -> 22.841006 | R32: =IFERROR(_xlfn.XLOOKUP($B32,PIVOT!$B:$B,PIVOT!P:P,0),0) -> 303 | S32: =IFERROR(_xlfn.XLOOKUP($B32,PIVOT!$B:$B,PIVOT!V:V,0),0) -> 0 | T32: =IFERROR(R32/R$7,0) -> 0.023015572 | U32: =IFERROR(_xlfn.XLOOKUP($B32,PIVOT!$B:$B,PIVOT!Y:Y,0),0) -> 4.028184
B33: FEB | D33: =IFERROR(_xlfn.XLOOKUP($B33,PIVOT!$B:$B,PIVOT!F:F,0),0) -> 46809 | E33: =IFERROR(_xlfn.XLOOKUP($B33,PIVOT!$B:$B,PIVOT!Q:Q,0),0) -> -0.21441638 | F33: =IFERROR(D33/D$7,0) -> 0.11678921 | G33: =IFERROR(_xlfn.XLOOKUP($B33,PIVOT!$B:$B,PIVOT!H:H,0),0) -> 23078990 | H33: =IFERROR(_xlfn.XLOOKUP($B33,PIVOT!$B:$B,PIVOT!R:R,0),0) -> -0.22272419 | I33: =IFERROR(G33/G$7,0) -> 0.11309318 | J33: =IFERROR(_xlfn.XLOOKUP($B33,PIVOT!$B:$B,PIVOT!J:J,0),0) -> 19055 | K33: =IFERROR(_xlfn.XLOOKUP($B33,PIVOT!$B:$B,PIVOT!S:S,0),0) -> 0.091039221 | L33: =IFERROR(J33/J$7,0) -> 0.050089638 | M33: =IFERROR(_xlfn.XLOOKUP($B33,PIVOT!$B:$B,PIVOT!L:L,0),0) -> 22959960 | N33: =IFERROR(_xlfn.XLOOKUP($B33,PIVOT!$B:$B,PIVOT!T:T,0),0) -> 0.098304131 | O33: =IFERROR(M33/M$7,0) -> 0.048237969 | P33: =IFERROR(_xlfn.XLOOKUP($B33,PIVOT!$B:$B,PIVOT!AA:AA,0),0) -> 0.33329153 | Q33: =IFERROR(_xlfn.XLOOKUP($B33,PIVOT!$B:$B,PIVOT!AB:AB,0),0) -> 4.0180849 | R33: =IFERROR(_xlfn.XLOOKUP($B33,PIVOT!$B:$B,PIVOT!P:P,0),0) -> 693 | S33: =IFERROR(_xlfn.XLOOKUP($B33,PIVOT!$B:$B,PIVOT!V:V,0),0) -> 0.18461538 | T33: =IFERROR(R33/R$7,0) -> 0.052639575 | U33: =IFERROR(_xlfn.XLOOKUP($B33,PIVOT!$B:$B,PIVOT!Y:Y,0),0) -> 0.28728447
B34: MAR | D34: =IFERROR(_xlfn.XLOOKUP($B34,PIVOT!$B:$B,PIVOT!F:F,0),0) -> 63742 | E34: =IFERROR(_xlfn.XLOOKUP($B34,PIVOT!$B:$B,PIVOT!Q:Q,0),0) -> 0.01569546 | F34: =IFERROR(D34/D$7,0) -> 0.15903732 | G34: =IFERROR(_xlfn.XLOOKUP($B34,PIVOT!$B:$B,PIVOT!H:H,0),0) -> 31842170 | H34: =IFERROR(_xlfn.XLOOKUP($B34,PIVOT!$B:$B,PIVOT!R:R,0),0) -> 0.061476078 | I34: =IFERROR(G34/G$7,0) -> 0.15603508 | J34: =IFERROR(_xlfn.XLOOKUP($B34,PIVOT!$B:$B,PIVOT!J:J,0),0) -> 36139 | K34: =IFERROR(_xlfn.XLOOKUP($B34,PIVOT!$B:$B,PIVOT!S:S,0),0) -> 0.10052378 | L34: =IFERROR(J34/J$7,0) -> 0.094998134 | M34: =IFERROR(_xlfn.XLOOKUP($B34,PIVOT!$B:$B,PIVOT!L:L,0),0) -> 43984440 | N34: =IFERROR(_xlfn.XLOOKUP($B34,PIVOT!$B:$B,PIVOT!T:T,0),0) -> 0.13332778 | O34: =IFERROR(M34/M$7,0) -> 0.09240957 | P34: =IFERROR(_xlfn.XLOOKUP($B34,PIVOT!$B:$B,PIVOT!AA:AA,0),0) -> 0.43709708 | Q34: =IFERROR(_xlfn.XLOOKUP($B34,PIVOT!$B:$B,PIVOT!AB:AB,0),0) -> 2.5930021 | R34: =IFERROR(_xlfn.XLOOKUP($B34,PIVOT!$B:$B,PIVOT!P:P,0),0) -> 1228 | S34: =IFERROR(_xlfn.XLOOKUP($B34,PIVOT!$B:$B,PIVOT!V:V,0),0) -> 0.063203463 | T34: =IFERROR(R34/R$7,0) -> 0.09327763 | U34: =IFERROR(_xlfn.XLOOKUP($B34,PIVOT!$B:$B,PIVOT!Y:Y,0),0) -> -0.11927549
B35: APR | D35: =IFERROR(_xlfn.XLOOKUP($B35,PIVOT!$B:$B,PIVOT!F:F,0),0) -> 71107 | E35: =IFERROR(_xlfn.XLOOKUP($B35,PIVOT!$B:$B,PIVOT!Q:Q,0),0) -> 0.036288383 | F35: =IFERROR(D35/D$7,0) -> 0.17741312 | G35: =IFERROR(_xlfn.XLOOKUP($B35,PIVOT!$B:$B,PIVOT!H:H,0),0) -> 37523700 | H35: =IFERROR(_xlfn.XLOOKUP($B35,PIVOT!$B:$B,PIVOT!R:R,0),0) -> 0.083972112 | I35: =IFERROR(G35/G$7,0) -> 0.18387609 | J35: =IFERROR(_xlfn.XLOOKUP($B35,PIVOT!$B:$B,PIVOT!J:J,0),0) -> 49108 | K35: =IFERROR(_xlfn.XLOOKUP($B35,PIVOT!$B:$B,PIVOT!S:S,0),0) -> 0.066128262 | L35: =IFERROR(J35/J$7,0) -> 0.12908958 | M35: =IFERROR(_xlfn.XLOOKUP($B35,PIVOT!$B:$B,PIVOT!L:L,0),0) -> 61358090 | N35: =IFERROR(_xlfn.XLOOKUP($B35,PIVOT!$B:$B,PIVOT!T:T,0),0) -> 0.1140618 | O35: =IFERROR(M35/M$7,0) -> 0.12891092 | P35: =IFERROR(_xlfn.XLOOKUP($B35,PIVOT!$B:$B,PIVOT!AA:AA,0),0) -> 0.52110536 | Q35: =IFERROR(_xlfn.XLOOKUP($B35,PIVOT!$B:$B,PIVOT!AB:AB,0),0) -> 1.6468243 | R35: =IFERROR(_xlfn.XLOOKUP($B35,PIVOT!$B:$B,PIVOT!P:P,0),0) -> 1695 | S35: =IFERROR(_xlfn.XLOOKUP($B35,PIVOT!$B:$B,PIVOT!V:V,0),0) -> 0.058052434 | T35: =IFERROR(R35/R$7,0) -> 0.12875047 | U35: =IFERROR(_xlfn.XLOOKUP($B35,PIVOT!$B:$B,PIVOT!Y:Y,0),0) -> -0.026344945
B36: MAY | D36: =IFERROR(_xlfn.XLOOKUP($B36,PIVOT!$B:$B,PIVOT!F:F,0),0) -> 0 | E36: =IFERROR(_xlfn.XLOOKUP($B36,PIVOT!$B:$B,PIVOT!Q:Q,0),0) -> 0 | F36: =IFERROR(D36/D$7,0) -> 0 | G36: =IFERROR(_xlfn.XLOOKUP($B36,PIVOT!$B:$B,PIVOT!H:H,0),0) -> 0 | H36: =IFERROR(_xlfn.XLOOKUP($B36,PIVOT!$B:$B,PIVOT!R:R,0),0) -> 0 | I36: =IFERROR(G36/G$7,0) -> 0 | J36: =IFERROR(_xlfn.XLOOKUP($B36,PIVOT!$B:$B,PIVOT!J:J,0),0) -> 33465 | K36: =IFERROR(_xlfn.XLOOKUP($B36,PIVOT!$B:$B,PIVOT!S:S,0),0) -> 0.062684577 | L36: =IFERROR(J36/J$7,0) -> 0.087969024 | M36: =IFERROR(_xlfn.XLOOKUP($B36,PIVOT!$B:$B,PIVOT!L:L,0),0) -> 42383730 | N36: =IFERROR(_xlfn.XLOOKUP($B36,PIVOT!$B:$B,PIVOT!T:T,0),0) -> 0.10970649 | O36: =IFERROR(M36/M$7,0) -> 0.089046542 | P36: =IFERROR(_xlfn.XLOOKUP($B36,PIVOT!$B:$B,PIVOT!AA:AA,0),0) -> 0.67705392 | Q36: =IFERROR(_xlfn.XLOOKUP($B36,PIVOT!$B:$B,PIVOT!AB:AB,0),0) -> 0.75070507 | R36: =IFERROR(_xlfn.XLOOKUP($B36,PIVOT!$B:$B,PIVOT!P:P,0),0) -> 1190 | S36: =IFERROR(_xlfn.XLOOKUP($B36,PIVOT!$B:$B,PIVOT!V:V,0),0) -> 0.095764273 | T36: =IFERROR(R36/R$7,0) -> 0.090391189 | U36: =IFERROR(_xlfn.XLOOKUP($B36,PIVOT!$B:$B,PIVOT!Y:Y,0),0) -> 0.10734962
B37: JUN | D37: =IFERROR(_xlfn.XLOOKUP($B37,PIVOT!$B:$B,PIVOT!F:F,0),0) -> 0 | E37: =IFERROR(_xlfn.XLOOKUP($B37,PIVOT!$B:$B,PIVOT!Q:Q,0),0) -> 0 | F37: =IFERROR(D37/D$7,0) -> 0 | G37: =IFERROR(_xlfn.XLOOKUP($B37,PIVOT!$B:$B,PIVOT!H:H,0),0) -> 0 | H37: =IFERROR(_xlfn.XLOOKUP($B37,PIVOT!$B:$B,PIVOT!R:R,0),0) -> 0 | I37: =IFERROR(G37/G$7,0) -> 0 | J37: =IFERROR(_xlfn.XLOOKUP($B37,PIVOT!$B:$B,PIVOT!J:J,0),0) -> 24366 | K37: =IFERROR(_xlfn.XLOOKUP($B37,PIVOT!$B:$B,PIVOT!S:S,0),0) -> 0.019242031 | L37: =IFERROR(J37/J$7,0) -> 0.064050597 | M37: =IFERROR(_xlfn.XLOOKUP($B37,PIVOT!$B:$B,PIVOT!L:L,0),0) -> 31342860 | N37: =IFERROR(_xlfn.XLOOKUP($B37,PIVOT!$B:$B,PIVOT!T:T,0),0) -> 0.081000376 | O37: =IFERROR(M37/M$7,0) -> 0.06585011 | P37: =IFERROR(_xlfn.XLOOKUP($B37,PIVOT!$B:$B,PIVOT!AA:AA,0),0) -> 0.79060068 | Q37: =IFERROR(_xlfn.XLOOKUP($B37,PIVOT!$B:$B,PIVOT!AB:AB,0),0) -> -0.41353624 | R37: =IFERROR(_xlfn.XLOOKUP($B37,PIVOT!$B:$B,PIVOT!P:P,0),0) -> 916 | S37: =IFERROR(_xlfn.XLOOKUP($B37,PIVOT!$B:$B,PIVOT!V:V,0),0) -> 0.061413673 | T37: =IFERROR(R37/R$7,0) -> 0.069578428 | U37: =IFERROR(_xlfn.XLOOKUP($B37,PIVOT!$B:$B,PIVOT!Y:Y,0),0) -> 0.14936439
B38: JUL | D38: =IFERROR(_xlfn.XLOOKUP($B38,PIVOT!$B:$B,PIVOT!F:F,0),0) -> 0 | E38: =IFERROR(_xlfn.XLOOKUP($B38,PIVOT!$B:$B,PIVOT!Q:Q,0),0) -> 0 | F38: =IFERROR(D38/D$7,0) -> 0 | G38: =IFERROR(_xlfn.XLOOKUP($B38,PIVOT!$B:$B,PIVOT!H:H,0),0) -> 0 | H38: =IFERROR(_xlfn.XLOOKUP($B38,PIVOT!$B:$B,PIVOT!R:R,0),0) -> 0 | I38: =IFERROR(G38/G$7,0) -> 0 | J38: =IFERROR(_xlfn.XLOOKUP($B38,PIVOT!$B:$B,PIVOT!J:J,0),0) -> 12959 | K38: =IFERROR(_xlfn.XLOOKUP($B38,PIVOT!$B:$B,PIVOT!S:S,0),0) -> 0.016551616 | L38: =IFERROR(J38/J$7,0) -> 0.03406516 | M38: =IFERROR(_xlfn.XLOOKUP($B38,PIVOT!$B:$B,PIVOT!L:L,0),0) -> 16771610 | N38: =IFERROR(_xlfn.XLOOKUP($B38,PIVOT!$B:$B,PIVOT!T:T,0),0) -> 0.057361893 | O38: =IFERROR(M38/M$7,0) -> 0.03523649 | P38: =IFERROR(_xlfn.XLOOKUP($B38,PIVOT!$B:$B,PIVOT!AA:AA,0),0) -> 0.85099026 | Q38: =IFERROR(_xlfn.XLOOKUP($B38,PIVOT!$B:$B,PIVOT!AB:AB,0),0) -> -1.0503568 | R38: =IFERROR(_xlfn.XLOOKUP($B38,PIVOT!$B:$B,PIVOT!P:P,0),0) -> 537 | S38: =IFERROR(_xlfn.XLOOKUP($B38,PIVOT!$B:$B,PIVOT!V:V,0),0) -> 0.11180124 | T38: =IFERROR(R38/R$7,0) -> 0.040789973 | U38: =IFERROR(_xlfn.XLOOKUP($B38,PIVOT!$B:$B,PIVOT!Y:Y,0),0) -> 0.35500864
B39: AUG | D39: =IFERROR(_xlfn.XLOOKUP($B39,PIVOT!$B:$B,PIVOT!F:F,0),0) -> 71620 | E39: =IFERROR(_xlfn.XLOOKUP($B39,PIVOT!$B:$B,PIVOT!Q:Q,0),0) -> 0.16476118 | F39: =IFERROR(D39/D$7,0) -> 0.17869306 | G39: =IFERROR(_xlfn.XLOOKUP($B39,PIVOT!$B:$B,PIVOT!H:H,0),0) -> 37216290 | H39: =IFERROR(_xlfn.XLOOKUP($B39,PIVOT!$B:$B,PIVOT!R:R,0),0) -> 0.22474139 | I39: =IFERROR(G39/G$7,0) -> 0.1823697 | J39: =IFERROR(_xlfn.XLOOKUP($B39,PIVOT!$B:$B,PIVOT!J:J,0),0) -> 27525 | K39: =IFERROR(_xlfn.XLOOKUP($B39,PIVOT!$B:$B,PIVOT!S:S,0),0) -> 0.16814497 | L39: =IFERROR(J39/J$7,0) -> 0.07235462 | M39: =IFERROR(_xlfn.XLOOKUP($B39,PIVOT!$B:$B,PIVOT!L:L,0),0) -> 35166790 | N39: =IFERROR(_xlfn.XLOOKUP($B39,PIVOT!$B:$B,PIVOT!T:T,0),0) -> 0.2311806 | O39: =IFERROR(M39/M$7,0) -> 0.073884036 | P39: =IFERROR(_xlfn.XLOOKUP($B39,PIVOT!$B:$B,PIVOT!AA:AA,0),0) -> 0.73421264 | Q39: =IFERROR(_xlfn.XLOOKUP($B39,PIVOT!$B:$B,PIVOT!AB:AB,0),0) -> -1.0784348 | R39: =IFERROR(_xlfn.XLOOKUP($B39,PIVOT!$B:$B,PIVOT!P:P,0),0) -> 950 | S39: =IFERROR(_xlfn.XLOOKUP($B39,PIVOT!$B:$B,PIVOT!V:V,0),0) -> 0.20253165 | T39: =IFERROR(R39/R$7,0) -> 0.072161033 | U39: =IFERROR(_xlfn.XLOOKUP($B39,PIVOT!$B:$B,PIVOT!Y:Y,0),0) -> 0.09869381
B40: SEP | D40: =IFERROR(_xlfn.XLOOKUP($B40,PIVOT!$B:$B,PIVOT!F:F,0),0) -> 79512 | E40: =IFERROR(_xlfn.XLOOKUP($B40,PIVOT!$B:$B,PIVOT!Q:Q,0),0) -> 0.21570546 | F40: =IFERROR(D40/D$7,0) -> 0.19838373 | G40: =IFERROR(_xlfn.XLOOKUP($B40,PIVOT!$B:$B,PIVOT!H:H,0),0) -> 39913850 | H40: =IFERROR(_xlfn.XLOOKUP($B40,PIVOT!$B:$B,PIVOT!R:R,0),0) -> 0.16902309 | I40: =IFERROR(G40/G$7,0) -> 0.19558846 | J40: =IFERROR(_xlfn.XLOOKUP($B40,PIVOT!$B:$B,PIVOT!J:J,0),0) -> 47923 | K40: =IFERROR(_xlfn.XLOOKUP($B40,PIVOT!$B:$B,PIVOT!S:S,0),0) -> 0.17262895 | L40: =IFERROR(J40/J$7,0) -> 0.12597459 | M40: =IFERROR(_xlfn.XLOOKUP($B40,PIVOT!$B:$B,PIVOT!L:L,0),0) -> 59885080 | N40: =IFERROR(_xlfn.XLOOKUP($B40,PIVOT!$B:$B,PIVOT!T:T,0),0) -> 0.17838574 | O40: =IFERROR(M40/M$7,0) -> 0.12581619 | P40: =IFERROR(_xlfn.XLOOKUP($B40,PIVOT!$B:$B,PIVOT!AA:AA,0),0) -> 0.7056234 | Q40: =IFERROR(_xlfn.XLOOKUP($B40,PIVOT!$B:$B,PIVOT!AB:AB,0),0) -> -1.4652077 | R40: =IFERROR(_xlfn.XLOOKUP($B40,PIVOT!$B:$B,PIVOT!P:P,0),0) -> 1572 | S40: =IFERROR(_xlfn.XLOOKUP($B40,PIVOT!$B:$B,PIVOT!V:V,0),0) -> 0.11173975 | T40: =IFERROR(R40/R$7,0) -> 0.11940752 | U40: =IFERROR(_xlfn.XLOOKUP($B40,PIVOT!$B:$B,PIVOT!Y:Y,0),0) -> -0.17965765
B41: OCT | D41: =IFERROR(_xlfn.XLOOKUP($B41,PIVOT!$B:$B,PIVOT!F:F,0),0) -> 68009 | E41: =IFERROR(_xlfn.XLOOKUP($B41,PIVOT!$B:$B,PIVOT!Q:Q,0),0) -> -0.13125287 | F41: =IFERROR(D41/D$7,0) -> 0.16968356 | G41: =IFERROR(_xlfn.XLOOKUP($B41,PIVOT!$B:$B,PIVOT!H:H,0),0) -> 34495580 | H41: =IFERROR(_xlfn.XLOOKUP($B41,PIVOT!$B:$B,PIVOT!R:R,0),0) -> -0.080460181 | I41: =IFERROR(G41/G$7,0) -> 0.1690375 | J41: =IFERROR(_xlfn.XLOOKUP($B41,PIVOT!$B:$B,PIVOT!J:J,0),0) -> 58139 | K41: =IFERROR(_xlfn.XLOOKUP($B41,PIVOT!$B:$B,PIVOT!S:S,0),0) -> 0.040053667 | L41: =IFERROR(J41/J$7,0) -> 0.15282926 | M41: =IFERROR(_xlfn.XLOOKUP($B41,PIVOT!$B:$B,PIVOT!L:L,0),0) -> 71876530 | N41: =IFERROR(_xlfn.XLOOKUP($B41,PIVOT!$B:$B,PIVOT!T:T,0),0) -> 0.067614386 | O41: =IFERROR(M41/M$7,0) -> 0.15100975 | P41: =IFERROR(_xlfn.XLOOKUP($B41,PIVOT!$B:$B,PIVOT!AA:AA,0),0) -> 0.72902559 | Q41: =IFERROR(_xlfn.XLOOKUP($B41,PIVOT!$B:$B,PIVOT!AB:AB,0),0) -> 0.99770856 | R41: =IFERROR(_xlfn.XLOOKUP($B41,PIVOT!$B:$B,PIVOT!P:P,0),0) -> 1854 | S41: =IFERROR(_xlfn.XLOOKUP($B41,PIVOT!$B:$B,PIVOT!V:V,0),0) -> -0.028301887 | T41: =IFERROR(R41/R$7,0) -> 0.14082795 | U41: =IFERROR(_xlfn.XLOOKUP($B41,PIVOT!$B:$B,PIVOT!Y:Y,0),0) -> -0.22432859
B42: NOV | D42: =IFERROR(_xlfn.XLOOKUP($B42,PIVOT!$B:$B,PIVOT!F:F,0),0) -> 0 | E42: =IFERROR(_xlfn.XLOOKUP($B42,PIVOT!$B:$B,PIVOT!Q:Q,0),0) -> 0 | F42: =IFERROR(D42/D$7,0) -> 0 | G42: =IFERROR(_xlfn.XLOOKUP($B42,PIVOT!$B:$B,PIVOT!H:H,0),0) -> 0 | H42: =IFERROR(_xlfn.XLOOKUP($B42,PIVOT!$B:$B,PIVOT!R:R,0),0) -> 0 | I42: =IFERROR(G42/G$7,0) -> 0 | J42: =IFERROR(_xlfn.XLOOKUP($B42,PIVOT!$B:$B,PIVOT!J:J,0),0) -> 40027 | K42: =IFERROR(_xlfn.XLOOKUP($B42,PIVOT!$B:$B,PIVOT!S:S,0),0) -> -0.015664962 | L42: =IFERROR(J42/J$7,0) -> 0.10521847 | M42: =IFERROR(_xlfn.XLOOKUP($B42,PIVOT!$B:$B,PIVOT!L:L,0),0) -> 50283820 | N42: =IFERROR(_xlfn.XLOOKUP($B42,PIVOT!$B:$B,PIVOT!T:T,0),0) -> 0.0287052 | O42: =IFERROR(M42/M$7,0) -> 0.10564432 | P42: =IFERROR(_xlfn.XLOOKUP($B42,PIVOT!$B:$B,PIVOT!AA:AA,0),0) -> 0.8213109 | Q42: =IFERROR(_xlfn.XLOOKUP($B42,PIVOT!$B:$B,PIVOT!AB:AB,0),0) -> -0.03892185 | R42: =IFERROR(_xlfn.XLOOKUP($B42,PIVOT!$B:$B,PIVOT!P:P,0),0) -> 1317 | S42: =IFERROR(_xlfn.XLOOKUP($B42,PIVOT!$B:$B,PIVOT!V:V,0),0) -> -0.10347175 | T42: =IFERROR(R42/R$7,0) -> 0.10003798 | U42: =IFERROR(_xlfn.XLOOKUP($B42,PIVOT!$B:$B,PIVOT!Y:Y,0),0) -> -0.32225291
B43: DEC | D43: =IFERROR(_xlfn.XLOOKUP($B43,PIVOT!$B:$B,PIVOT!F:F,0),0) -> 0 | E43: =IFERROR(_xlfn.XLOOKUP($B43,PIVOT!$B:$B,PIVOT!Q:Q,0),0) -> 0 | F43: =IFERROR(D43/D$7,0) -> 0 | G43: =IFERROR(_xlfn.XLOOKUP($B43,PIVOT!$B:$B,PIVOT!H:H,0),0) -> 0 | H43: =IFERROR(_xlfn.XLOOKUP($B43,PIVOT!$B:$B,PIVOT!R:R,0),0) -> 0 | I43: =IFERROR(G43/G$7,0) -> 0 | J43: =IFERROR(_xlfn.XLOOKUP($B43,PIVOT!$B:$B,PIVOT!J:J,0),0) -> 24190 | K43: =IFERROR(_xlfn.XLOOKUP($B43,PIVOT!$B:$B,PIVOT!S:S,0),0) -> -0.04786271 | L43: =IFERROR(J43/J$7,0) -> 0.063587948 | M43: =IFERROR(_xlfn.XLOOKUP($B43,PIVOT!$B:$B,PIVOT!L:L,0),0) -> 30510260 | N43: =IFERROR(_xlfn.XLOOKUP($B43,PIVOT!$B:$B,PIVOT!T:T,0),0) -> -0.033409959 | O43: =IFERROR(M43/M$7,0) -> 0.06410085 | P43: =IFERROR(_xlfn.XLOOKUP($B43,PIVOT!$B:$B,PIVOT!AA:AA,0),0) -> 0.8770828 | Q43: =IFERROR(_xlfn.XLOOKUP($B43,PIVOT!$B:$B,PIVOT!AB:AB,0),0) -> -0.87518627 | R43: =IFERROR(_xlfn.XLOOKUP($B43,PIVOT!$B:$B,PIVOT!P:P,0),0) -> 910 | S43: =IFERROR(_xlfn.XLOOKUP($B43,PIVOT!$B:$B,PIVOT!V:V,0),0) -> -0.029850746 | T43: =IFERROR(R43/R$7,0) -> 0.069122674 | U43: =IFERROR(_xlfn.XLOOKUP($B43,PIVOT!$B:$B,PIVOT!Y:Y,0),0) -> 0.069843826

Sheet PIVOT
E3: Values | F3: Year
E4: Sum of Sell-In Units | G4: Sum of Sell-In Value (CHF) | I4: Sum of Sell-Out Units | K4: Sum of Sell-Out Value (CHF) | M4: Sum of Stock Units | O4: Sum of Returns Units | Q4: SELL-IN UNITS | R4: SELL-IN VALUE | S4: SELL-OUT UNITS | T4: SELL-OUT VALUE | U4: STOCK UNITS | V4: RETURNS UNITS | W4: RETURNS UNITS ON SELLOUT | X4: RETURNS UNITS ON SELLOUT | Y4: RETURNS UNITS ON SELLOUT | Z4: SELL-THROUGH | AA4: SELL-THROUGH | AB4: SELL-THROUGH | AC4: CUM SELL-IN UNITS | AD4: CUM SELL-IN UNITS | AE4: CUM SELL-OUT UNITS | AF4: CUM SELL-OUT UNITS | AG4: OPENING STOCK 1 JAN
C5: Account Type | D5: Month # | E5: 2024 | F5: 2025 | G5: 2024 | H5: 2025 | I5: 2024 | J5: 2025 | K5: 2024 | L5: 2025 | M5: 2024 | N5: 2025 | O5: 2024 | P5: 2025 | Q5: vs LY | R5: vs LY | S5: vs LY | T5: vs LY | U5: vs LY | V5: vs LY | W5: 2024 | X5: 2025 | Y5: vs LY ppts | Z5: 2024 | AA5: 2025 | AB5: vs LY ppts | AC5: 2024 | AD5: 2025 | AE5: 2024 | AF5: 2025 | AG5: 2025
C6: Franchise | D6: 1 | E6: 0 | F6: 0 | G6: 0 | H6: 0 | I6: 0 | J6: 2658 | K6: 0 | L6: 3890030 | M6: 0 | N6: 13380 | O6: 0 | P6: 167 | Q6: =IFERROR(F6/E6-1,0) -> 0 | R6: =IFERROR(H6/G6-1,0) -> 0 | S6: =IFERROR(J6/I6-1,0) -> 0 | T6: =IFERROR(L6/K6-1,0) -> 0 | U6: =IFERROR(N6/M6-1,0) -> 0 | V6: =IFERROR(P6/O6-1,0) -> 0 | W6: =IFERROR(O6/I6,0) -> 0 | X6: =IFERROR(P6/J6,0) -> 0.062829195 | Y6: =IFERROR((X6-W6)*100,0) -> 6.2829195 | Z6: =IFERROR(AE6/AC6,0) -> 0 | AA6: =IFERROR(AF6/($AG6+AD6),0) -> 0.16402345 | AB6: =IFERROR((AA6-Z6)*100,0) -> 16.402345 | AC6: =SUMIFS(E$6:E$29,$C$6:$C$29,$C6,$D$6:$D$29,"<="&$D6) -> 0 | AD6: =SUMIFS(F$6:F$29,$C$6:$C$29,$C6,$D$6:$D$29,"<="&$D6) -> 0 | AE6: =SUMIFS(I$6:I$29,$C$6:$C$29,$C6,$D$6:$D$29,"<="&$D6) -> 0 | AF6: =SUMIFS(J$6:J$29,$C$6:$C$29,$C6,$D$6:$D$29,"<="&$D6) -> 2658 | AG6: =SUMIFS(M$6:M$29,$C$6:$C$29,$C6,$D$6:$D$29,12) -> 16205
C7: Franchise | D7: 2 | E7: 10339 | F7: 11477 | G7: 6066280 | H7: 6717900 | I7: 2186 | J7: 4173 | K7: 3197040 | L7: 6048540 | M7: 7994 | N7: 20388 | O7: 159 | P7: 296 | Q7: =IFERROR(F7/E7-1,0) -> 0.11006867 | R7: =IFERROR(H7/G7-1,0) -> 0.10741674 | S7: =IFERROR(J7/I7-1,0) -> 0.90896615 | T7: =IFERROR(L7/K7-1,0) -> 0.89191877 | U7: =IFERROR(N7/M7-1,0) -> 1.5504128 | V7: =IFERROR(P7/O7-1,0) -> 0.86163522 | W7: =IFERROR(O7/I7,0) -> 0.07273559 | X7: =IFERROR(P7/J7,0) -> 0.070932183 | Y7: =IFERROR((X7-W7)*100,0) -> -0.1803407 | Z7: =IFERROR(AE7/AC7,0) -> 0.21143244 | AA7: =IFERROR(AF7/($AG7+AD7),0) -> 0.24676685 | AB7: =IFERROR((AA7-Z7)*100,0) -> 3.5334412 | AC7: =SUMIFS(E$6:E$29,$C$6:$C$29,$C7,$D$6:$D$29,"<="&$D7) -> 10339 | AD7: =SUMIFS(F$6:F$29,$C$6:$C$29,$C7,$D$6:$D$29,"<="&$D7) -> 11477 | AE7: =SUMIFS(I$6:I$29,$C$6:$C$29,$C7,$D$6:$D$29,"<="&$D7) -> 2186 | AF7: =SUMIFS(J$6:J$29,$C$6:$C$29,$C7,$D$6:$D$29,"<="&$D7) -> 6831 | AG7: =SUMIFS(M$6:M$29,$C$6:$C$29,$C7,$D$6:$D$29,12) -> 16205
C8: Franchise | D8: 3 | E8: 19021 | F8: 17731 | G8: 11406630 | H8: 10081110 | I8: 6265 | J8: 7744 | K8: 9248780 | L8: 11159510 | M8: 20347 | N8: 29922 | O8: 403 | P8: 453 | Q8: =IFERROR(F8/E8-1,0) -> -0.067819778 | R8: =IFERROR(H8/G8-1,0) -> -0.1162061 | S8: =IFERROR(J8/I8-1,0) -> 0.23607342 | T8: =IFERROR(L8/K8-1,0) -> 0.20659265 | U8: =IFERROR(N8/M8-1,0) -> 0.47058534 | V8: =IFERROR(P8/O8-1,0) -> 0.12406948 | W8: =IFERROR(O8/I8,0) -> 0.064325619 | X8: =IFERROR(P8/J8,0) -> 0.058496901 | Y8: =IFERROR((X8-W8)*100,0) -> -0.58287177 | Z8: =IFERROR(AE8/AC8,0) -> 0.2878406 | AA8: =IFERROR(AF8/($AG8+AD8),0) -> 0.32094334 | AB8: =IFERROR((AA8-Z8)*100,0) -> 3.3102743 | AC8: =SUMIFS(E$6:E$29,$C$6:$C$29,$C8,$D$6:$D$29,"<="&$D8) -> 29360 | AD8: =SUMIFS(F$6:F$29,$C$6:$C$29,$C8,$D$6:$D$29,"<="&$D8) -> 29208 | AE8: =SUMIFS(I$6:I$29,$C$6:$C$29,$C8,$D$6:$D$29,"<="&$D8) -> 8451 | AF8: =SUMIFS(J$6:J$29,$C$6:$C$29,$C8,$D$6:$D$29,"<="&$D8) -> 14575 | AG8: =SUMIFS(M$6:M$29,$C$6:$C$29,$C8,$D$6:$D$29,12) -> 16205
C9: Franchise | D9: 4 | E9: 20438 | F9: 18547 | G9: 11957210 | H9: 10689440 | I9: 9898 | J9: 9971 | K9: 14485190 | L9: 14274840 | M9: 30323 | N9: 37899 | O9: 564 | P9: 599 | Q9: =IFERROR(F9/E9-1,0) -> -0.09252373 | R9: =IFERROR(H9/G9-1,0) -> -0.10602557 | S9: =IFERROR(J9/I9-1,0) -> 0.0073752273 | T9: =IFERROR(L9/K9-1,0) -> -0.014521729 | U9: =IFERROR(N9/M9-1,0) -> 0.24984335 | V9: =IFERROR(P9/O9-1,0) -> 0.062056738 | W9: =IFERROR(O9/I9,0) -> 0.056981208 | X9: =IFERROR(P9/J9,0) -> 0.060074215 | Y9: =IFERROR((X9-W9)*100,0) -> 0.30930069 | Z9: =IFERROR(AE9/AC9,0) -> 0.36846861 | AA9: =IFERROR(AF9/($AG9+AD9),0) -> 0.38377111 | AB9: =IFERROR((AA9-Z9)*100,0) -> 1.5302494 | AC9: =SUMIFS(E$6:E$29,$C$6:$C$29,$C9,$D$6:$D$29,"<="&$D9) -> 49798 | AD9: =SUMIFS(F$6:F$29,$C$6:$C$29,$C9,$D$6:$D$29,"<="&$D9) -> 47755 | AE9: =SUMIFS(I$6:I$29,$C$6:$C$29,$C9,$D$6:$D$29,"<="&$D9) -> 18349 | AF9: =SUMIFS(J$6:J$29,$C$6:$C$29,$C9,$D$6:$D$29,"<="&$D9) -> 24546 | AG9: =SUMIFS(M$6:M$29,$C$6:$C$29,$C9,$D$6:$D$29,12) -> 16205
C10: Franchise | D10: 5 | E10: 0 | F10: 0 | G10: 0 | H10: 0 | I10: 7707 | J10: 8243 | K10: 11290900 | L10: 11805510 | M10: 22180 | N10: 29162 | O10: 436 | P10: 494 | Q10: =IFERROR(F10/E10-1,0) -> 0 | R10: =IFERROR(H10/G10-1,0) -> 0 | S10: =IFERROR(J10/I10-1,0) -> 0.069547165 | T10: =IFERROR(L10/K10-1,0) -> 0.045577412 | U10: =IFERROR(N10/M10-1,0) -> 0.3147881 | V10: =IFERROR(P10/O10-1,0) -> 0.13302752 | W10: =IFERROR(O10/I10,0) -> 0.056571948 | X10: =IFERROR(P10/J10,0) -> 0.059929637 | Y10: =IFERROR((X10-W10)*100,0) -> 0.33576897 | Z10: =IFERROR(AE10/AC10,0) -> 0.52323386 | AA10: =IFERROR(AF10/($AG10+AD10),0) -> 0.51264853 | AB10: =IFERROR((AA10-Z10)*100,0) -> -1.0585334 | AC10: =SUMIFS(E$6:E$29,$C$6:$C$29,$C10,$D$6:$D$29,"<="&$D10) -> 49798 | AD10: =SUMIFS(F$6:F$29,$C$6:$C$29,$C10,$D$6:$D$29,"<="&$D10) -> 47755 | AE10: =SUMIFS(I$6:I$29,$C$6:$C$29,$C10,$D$6:$D$29,"<="&$D10) -> 26056 | AF10: =SUMIFS(J$6:J$29,$C$6:$C$29,$C10,$D$6:$D$29,"<="&$D10) -> 32789 | AG10: =SUMIFS(M$6:M$29,$C$6:$C$29,$C10,$D$6:$D$29,12) -> 16205
C11: Franchise | D11: 6 | E11: 0 | F11: 0 | G11: 0 | H11: 0 | I11: 6657 | J11: 7165 | K11: 9733290 | L11: 10286060 | M11: 15126 | N11: 21554 | O11: 397 | P11: 443 | Q11: =IFERROR(F11/E11-1,0) -> 0 | R11: =IFERROR(H11/G11-1,0) -> 0 | S11: =IFERROR(J11/I11-1,0) -> 0.07631065 | T11: =IFERROR(L11/K11-1,0) -> 0.056791691 | U11: =IFERROR(N11/M11-1,0) -> 0.42496364 | V11: =IFERROR(P11/O11-1,0) -> 0.11586902 | W11: =IFERROR(O11/I11,0) -> 0.059636473 | X11: =IFERROR(P11/J11,0) -> 0.061828332 | Y11: =IFERROR((X11-W11)*100,0) -> 0.21918593 | Z11: =IFERROR(AE11/AC11,0) -> 0.65691393 | AA11: =IFERROR(AF11/($AG11+AD11),0) -> 0.62467167 | AB11: =IFERROR((AA11-Z11)*100,0) -> -3.2242262 | AC11: =SUMIFS(E$6:E$29,$C$6:$C$29,$C11,$D$6:$D$29,"<="&$D11) -> 49798 | AD11: =SUMIFS(F$6:F$29,$C$6:$C$29,$C11,$D$6:$D$29,"<="&$D11) -> 47755 | AE11: =SUMIFS(I$6:I$29,$C$6:$C$29,$C11,$D$6:$D$29,"<="&$D11) -> 32713 | AF11: =SUMIFS(J$6:J$29,$C$6:$C$29,$C11,$D$6:$D$29,"<="&$D11) -> 39954 | AG11: =SUMIFS(M$6:M$29,$C$6:$C$29,$C11,$D$6:$D$29,12) -> 16205
C12: Franchise | D12: 7 | E12: 0 | F12: 0 | G12: 0 | H12: 0 | I12: 4380 | J12: 4884 | K12: 6397050 | L12: 6993270 | M12: 10493 | N12: 16361 | O12: 253 | P12: 309 | Q12: =IFERROR(F12/E12-1,0) -> 0 | R12: =IFERROR(H12/G12-1,0) -> 0 | S12: =IFERROR(J12/I12-1,0) -> 0.11506849 | T12: =IFERROR(L12/K12-1,0) -> 0.093202335 | U12: =IFERROR(N12/M12-1,0) -> 0.55922996 | V12: =IFERROR(P12/O12-1,0) -> 0.22134387 | W12: =IFERROR(O12/I12,0) -> 0.057762557 | X12: =IFERROR(P12/J12,0) -> 0.063267813 | Y12: =IFERROR((X12-W12)*100,0) -> 0.55052562 | Z12: =IFERROR(AE12/AC12,0) -> 0.74486927 | AA12: =IFERROR(AF12/($AG12+AD12),0) -> 0.70103189 | AB12: =IFERROR((AA12-Z12)*100,0) -> -4.3837377 | AC12: =SUMIFS(E$6:E$29,$C$6:$C$29,$C12,$D$6:$D$29,"<="&$D12) -> 49798 | AD12: =SUMIFS(F$6:F$29,$C$6:$C$29,$C12,$D$6:$D$29,"<="&$D12) -> 47755 | AE12: =SUMIFS(I$6:I$29,$C$6:$C$29,$C12,$D$6:$D$29,"<="&$D12) -> 37093 | AF12: =SUMIFS(J$6:J$29,$C$6:$C$29,$C12,$D$6:$D$29,"<="&$D12) -> 44838 | AG12: =SUMIFS(M$6:M$29,$C$6:$C$29,$C12,$D$6:$D$29,12) -> 16205
C13: Franchise | D13: 8 | E13: 15340 | F13: 20192 | G13: 8966740 | H13: 11324880 | I13: 5379 | J13: 6380 | K13: 7858150 | L13: 9023560 | M13: 20178 | N13: 29815 | O13: 276 | P13: 358 | Q13: =IFERROR(F13/E13-1,0) -> 0.31629726 | R13: =IFERROR(H13/G13-1,0) -> 0.26298744 | S13: =IFERROR(J13/I13-1,0) -> 0.18609407 | T13: =IFERROR(L13/K13-1,0) -> 0.1483059 | U13: =IFERROR(N13/M13-1,0) -> 0.47759937 | V13: =IFERROR(P13/O13-1,0) -> 0.29710145 | W13: =IFERROR(O13/I13,0) -> 0.051310653 | X13: =IFERROR(P13/J13,0) -> 0.056112853 | Y13: =IFERROR((X13-W13)*100,0) -> 0.48022001 | Z13: =IFERROR(AE13/AC13,0) -> 0.65203107 | AA13: =IFERROR(AF13/($AG13+AD13),0) -> 0.60863675 | AB13: =IFERROR((AA13-Z13)*100,0) -> -4.339432 | AC13: =SUMIFS(E$6:E$29,$C$6:$C$29,$C13,$D$6:$D$29,"<="&$D13) -> 65138 | AD13: =SUMIFS(F$6:F$29,$C$6:$C$29,$C13,$D$6:$D$29,"<="&$D13) -> 67947 | AE13: =SUMIFS(I$6:I$29,$C$6:$C$29,$C13,$D$6:$D$29,"<="&$D13) -> 42472 | AF13: =SUMIFS(J$6:J$29,$C$6:$C$29,$C13,$D$6:$D$29,"<="&$D13) -> 51218 | AG13: =SUMIFS(M$6:M$29,$C$6:$C$29,$C13,$D$6:$D$29,12) -> 16205
C14: Franchise | D14: 9 | E14: 18733 | F14: 18870 | G14: 10839530 | H14: 10290960 | I14: 8870 | J14: 8892 | K14: 12809280 | L14: 12332690 | M14: 29501 | N14: 39301 | O14: 540 | P14: 492 | Q14: =IFERROR(F14/E14-1,0) -> 0.0073132974 | R14: =IFERROR(H14/G14-1,0) -> -0.050608283 | S14: =IFERROR(J14/I14-1,0) -> 0.0024802706 | T14: =IFERROR(L14/K14-1,0) -> -0.037206619 | U14: =IFERROR(N14/M14-1,0) -> 0.33219213 | V14: =IFERROR(P14/O14-1,0) -> -0.088888889 | W14: =IFERROR(O14/I14,0) -> 0.060879369 | X14: =IFERROR(P14/J14,0) -> 0.055330634 | Y14: =IFERROR((X14-W14)*100,0) -> -0.55487344 | Z14: =IFERROR(AE14/AC14,0) -> 0.61215438 | AA14: =IFERROR(AF14/($AG14+AD14),0) -> 0.58346761 | AB14: =IFERROR((AA14-Z14)*100,0) -> -2.8686771 | AC14: =SUMIFS(E$6:E$29,$C$6:$C$29,$C14,$D$6:$D$29,"<="&$D14) -> 83871 | AD14: =SUMIFS(F$6:F$29,$C$6:$C$29,$C14,$D$6:$D$29,"<="&$D14) -> 86817 | AE14: =SUMIFS(I$6:I$29,$C$6:$C$29,$C14,$D$6:$D$29,"<="&$D14) -> 51342 | AF14: =SUMIFS(J$6:J$29,$C$6:$C$29,$C14,$D$6:$D$29,"<="&$D14) -> 60110 | AG14: =SUMIFS(M$6:M$29,$C$6:$C$29,$C14,$D$6:$D$29,12) -> 16205
C15: Franchise | D15: 10 | E15: 14298 | F15: 15605 | G15: 8587050 | H15: 8749480 | I15: 10276 | J15: 10765 | K15: 14994350 | L15: 14985780 | M15: 32856 | N15: 43580 | O15: 667 | P15: 561 | Q15: =IFERROR(F15/E15-1,0) -> 0.091411386 | R15: =IFERROR(H15/G15-1,0) -> 0.018915693 | S15: =IFERROR(J15/I15-1,0) -> 0.04758661 | T15: =IFERROR(L15/K15-1,0) -> -0.00057154862 | U15: =IFERROR(N15/M15-1,0) -> 0.32639396 | V15: =IFERROR(P15/O15-1,0) -> -0.15892054 | W15: =IFERROR(O15/I15,0) -> 0.064908525 | X15: =IFERROR(P15/J15,0) -> 0.05211333 | Y15: =IFERROR((X15-W15)*100,0) -> -1.2795194 | Z15: =IFERROR(AE15/AC15,0) -> 0.62767269 | AA15: =IFERROR(AF15/($AG15+AD15),0) -> 0.59746095 | AB15: =IFERROR((AA15-Z15)*100,0) -> -3.0211738 | AC15: =SUMIFS(E$6:E$29,$C$6:$C$29,$C15,$D$6:$D$29,"<="&$D15) -> 98169 | AD15: =SUMIFS(F$6:F$29,$C$6:$C$29,$C15,$D$6:$D$29,"<="&$D15) -> 102422 | AE15: =SUMIFS(I$6:I$29,$C$6:$C$29,$C15,$D$6:$D$29,"<="&$D15) -> 61618 | AF15: =SUMIFS(J$6:J$29,$C$6:$C$29,$C15,$D$6:$D$29,"<="&$D15) -> 70875 | AG15: =SUMIFS(M$6:M$29,$C$6:$C$29,$C15,$D$6:$D$29,12) -> 16205
C16: Franchise | D16: 11 | E16: 0 | F16: 0 | G16: 0 | H16: 0 | I16: 8738 | J16: 9277 | K16: 12785040 | L16: 12905100 | M16: 23519 | N16: 33789 | O16: 599 | P16: 514 | Q16: =IFERROR(F16/E16-1,0) -> 0 | R16: =IFERROR(H16/G16-1,0) -> 0 | S16: =IFERROR(J16/I16-1,0) -> 0.061684596 | T16: =IFERROR(L16/K16-1,0) -> 0.0093906628 | U16: =IFERROR(N16/M16-1,0) -> 0.43666823 | V16: =IFERROR(P16/O16-1,0) -> -0.14190317 | W16: =IFERROR(O16/I16,0) -> 0.068551156 | X16: =IFERROR(P16/J16,0) -> 0.055405842 | Y16: =IFERROR((X16-W16)*100,0) -> -1.3145313 | Z16: =IFERROR(AE16/AC16,0) -> 0.71668246 | AA16: =IFERROR(AF16/($AG16+AD16),0) -> 0.67566406 | AB16: =IFERROR((AA16-Z16)*100,0) -> -4.10184 | AC16: =SUMIFS(E$6:E$29,$C$6:$C$29,$C16,$D$6:$D$29,"<="&$D16) -> 98169 | AD16: =SUMIFS(F$6:F$29,$C$6:$C$29,$C16,$D$6:$D$29,"<="&$D16) -> 102422 | AE16: =SUMIFS(I$6:I$29,$C$6:$C$29,$C16,$D$6:$D$29,"<="&$D16) -> 70356 | AF16: =SUMIFS(J$6:J$29,$C$6:$C$29,$C16,$D$6:$D$29,"<="&$D16) -> 80152 | AG16: =SUMIFS(M$6:M$29,$C$6:$C$29,$C16,$D$6:$D$29,12) -> 16205
C17: Franchise | D17: 12 | E17: 0 | F17: 0 | G17: 0 | H17: 0 | I17: 6862 | J17: 7215 | K17: 10037250 | L17: 10040260 | M17: 16205 | N17: 26136 | O17: 452 | P17: 438 | Q17: =IFERROR(F17/E17-1,0) -> 0 | R17: =IFERROR(H17/G17-1,0) -> 0 | S17: =IFERROR(J17/I17-1,0) -> 0.051442728 | T17: =IFERROR(L17/K17-1,0) -> 0.00029988294 | U17: =IFERROR(N17/M17-1,0) -> 0.61283554 | V17: =IFERROR(P17/O17-1,0) -> -0.030973451 | W17: =IFERROR(O17/I17,0) -> 0.065870009 | X17: =IFERROR(P17/J17,0) -> 0.060706861 | Y17: =IFERROR((X17-W17)*100,0) -> -0.5163148 | Z17: =IFERROR(AE17/AC17,0) -> 0.78658232 | AA17: =IFERROR(AF17/($AG17+AD17),0) -> 0.73648495 | AB17: =IFERROR((AA17-Z17)*100,0) -> -5.0097374 | AC17: =SUMIFS(E$6:E$29,$C$6:$C$29,$C17,$D$6:$D$29,"<="&$D17) -> 98169 | AD17: =SUMIFS(F$6:F$29,$C$6:$C$29,$C17,$D$6:$D$29,"<="&$D17) -> 102422 | AE17: =SUMIFS(I$6:I$29,$C$6:$C$29,$C17,$D$6:$D$29,"<="&$D17) -> 77218 | AF17: =SUMIFS(J$6:J$29,$C$6:$C$29,$C17,$D$6:$D$29,"<="&$D17) -> 87367 | AG17: =SUMIFS(M$6:M$29,$C$6:$C$29,$C17,$D$6:$D$29,12) -> 16205
... C29: Wholesale | D29: 12 | E29: 0 | F29: 0 | G29: 0 | H29: 0 | I29: 18544 | J29: 16975 | K29: 21527590 | L29: 20470000 | M29: 16727 | N29: 14012 | O29: 486 | P29: 472 | Q29: =IFERROR(F29/E29-1,0) -> 0 | R29: =IFERROR(H29/G29-1,0) -> 0 | S29: =IFERROR(J29/I29-1,0) -> -0.084609577 | T29: =IFERROR(L29/K29-1,0) -> -0.04912719 | U29: =IFERROR(N29/M29-1,0) -> -0.16231243 | V29: =IFERROR(P29/O29-1,0) -> -0.028806584 | W29: =IFERROR(O29/I29,0) -> 0.026207938 | X29: =IFERROR(P29/J29,0) -> 0.027805596 | Y29: =IFERROR((X29-W29)*100,0) -> 0.15976586 | Z29: =IFERROR(AE29/AC29,0) -> 0.9185346 | AA29: =IFERROR(AF29/($AG29+AD29),0) -> 0.93001358 | AB29: =IFERROR((AA29-Z29)*100,0) -> 1.147898 | AC29: =SUMIFS(E$6:E$29,$C$6:$C$29,$C29,$D$6:$D$29,"<="&$D29) -> 297967 | AD29: =SUMIFS(F$6:F$29,$C$6:$C$29,$C29,$D$6:$D$29,"<="&$D29) -> 298377 | AE29: =SUMIFS(I$6:I$29,$C$6:$C$29,$C29,$D$6:$D$29,"<="&$D29) -> 273693 | AF29: =SUMIFS(J$6:J$29,$C$6:$C$29,$C29,$D$6:$D$29,"<="&$D29) -> 293051 | AG29: =SUMIFS(M$6:M$29,$C$6:$C$29,$C29,$D$6:$D$29,12) -> 16727
B30: =C30 -> Franchise | C30: Franchise | E30: =SUMIF($C$6:$C$29,$C30,E$6:E$29) -> 98169 | F30: =SUMIF($C$6:$C$29,$C30,F$6:F$29) -> 102422 | G30: =SUMIF($C$6:$C$29,$C30,G$6:G$29) -> 57823440 | H30: =SUMIF($C$6:$C$29,$C30,H$6:H$29) -> 57853770 | I30: =SUMIF($C$6:$C$29,$C30,I$6:I$29) -> 77218 | J30: =SUMIF($C$6:$C$29,$C30,J$6:J$29) -> 87367 | K30: =SUMIF($C$6:$C$29,$C30,K$6:K$29) -> 112836320 | L30: =SUMIF($C$6:$C$29,$C30,L$6:L$29) -> 123745150 | ... P30: =SUMIF($C$6:$C$29,$C30,P$6:P$29) -> 5124 | Q30: =IFERROR(F30/E30-1,0) -> 0.043323249 | R30: =IFERROR(H30/G30-1,0) -> 0.00052452777 | S30: =IFERROR(J30/I30-1,0) -> 0.13143309 | T30: =IFERROR(L30/K30-1,0) -> 0.096678357 | U30: =IFERROR(N30/M30-1,0) -> 0.49214767 | V30: =IFERROR(P30/O30-1,0) -> 0.079646018 | W30: =IFERROR(O30/I30,0) -> 0.061462353 | X30: =IFERROR(P30/J30,0) -> 0.058649147 | Y30: =IFERROR((X30-W30)*100,0) -> -0.28132066 | Z30: =IFERROR(AE30/AC30,0) -> 0.78658232 | AA30: =IFERROR(AF30/($AG30+AD30),0) -> 0.73648495 | AB30: =IFERROR((AA30-Z30)*100,0) -> -5.0097374 | AC30: =SUMIFS(E$6:E$29,$C$6:$C$29,$C30) -> 98169 | AD30: =SUMIFS(F$6:F$29,$C$6:$C$29,$C30) -> 102422 | AE30: =SUMIFS(I$6:I$29,$C$6:$C$29,$C30) -> 77218 | AF30: =SUMIFS(J$6:J$29,$C$6:$C$29,$C30) -> 87367 | AG30: =SUMIFS(M$6:M$29,$C$6:$C$29,$C30,$D$6:$D$29,12) -> 16205
B31: =C31 -> Wholesale | C31: Wholesale | E31: =SUMIF($C$6:$C$29,$C31,E$6:E$29) -> 297967 | F31: =SUMIF($C$6:$C$29,$C31,F$6:F$29) -> 298377 | G31: =SUMIF($C$6:$C$29,$C31,G$6:G$29) -> 138527500 | H31: =SUMIF($C$6:$C$29,$C31,H$6:H$29) -> 146216810 | I31: =SUMIF($C$6:$C$29,$C31,I$6:I$29) -> 273693 | J31: =SUMIF($C$6:$C$29,$C31,J$6:J$29) -> 293051 | K31: =SUMIF($C$6:$C$29,$C31,K$6:K$29) -> 312157330 | L31: =SUMIF($C$6:$C$29,$C31,L$6:L$29) -> 352227630 | ... P31: =SUMIF($C$6:$C$29,$C31,P$6:P$29) -> 8041 | Q31: =IFERROR(F31/E31-1,0) -> 0.0013759913 | R31: =IFERROR(H31/G31-1,0) -> 0.055507462 | S31: =IFERROR(J31/I31-1,0) -> 0.070728882 | T31: =IFERROR(L31/K31-1,0) -> 0.12836572 | U31: =IFERROR(N31/M31-1,0) -> 0.0024667783 | V31: =IFERROR(P31/O31-1,0) -> 0.065456473 | W31: =IFERROR(O31/I31,0) -> 0.027574691 | X31: =IFERROR(P31/J31,0) -> 0.02743891 | Y31: =IFERROR((X31-W31)*100,0) -> -0.01357814 | Z31: =IFERROR(AE31/AC31,0) -> 0.9185346 | AA31: =IFERROR(AF31/($AG31+AD31),0) -> 0.93001358 | AB31: =IFERROR((AA31-Z31)*100,0) -> 1.147898 | AC31: =SUMIFS(E$6:E$29,$C$6:$C$29,$C31) -> 297967 | AD31: =SUMIFS(F$6:F$29,$C$6:$C$29,$C31) -> 298377 | AE31: =SUMIFS(I$6:I$29,$C$6:$C$29,$C31) -> 273693 | AF31: =SUMIFS(J$6:J$29,$C$6:$C$29,$C31) -> 293051 | AG31: =SUMIFS(M$6:M$29,$C$6:$C$29,$C31,$D$6:$D$29,12) -> 16727
B32: =C32 -> TOTAL | C32: TOTAL | E32: =E30+E31 -> 396136 | F32: =F30+F31 -> 400799 | G32: =G30+G31 -> 196350940 | H32: =H30+H31 -> 204070580 | I32: =I30+I31 -> 350911 | J32: =J30+J31 -> 380418 | K32: =K30+K31 -> 424993650 | L32: =L30+L31 -> 475972780 | ... P32: =P30+P31 -> 13165 | Q32: =IFERROR(F32/E32-1,0) -> 0.01177121 | R32: =IFERROR(H32/G32-1,0) -> 0.039315524 | S32: =IFERROR(J32/I32-1,0) -> 0.084086848 | T32: =IFERROR(L32/K32-1,0) -> 0.11995269 | U32: =IFERROR(N32/M32-1,0) -> 0.1751202 | V32: =IFERROR(P32/O32-1,0) -> 0.070934678 | W32: =IFERROR(O32/I32,0) -> 0.035031675 | X32: =IFERROR(P32/J32,0) -> 0.03460667 | Y32: =IFERROR((X32-W32)*100,0) -> -0.042500519 | Z32: =IFERROR(AE32/AC32,0) -> 0.88583466 | AA32: =IFERROR(AF32/($AG32+AD32),0) -> 0.8770828 | AB32: =IFERROR((AA32-Z32)*100,0) -> -0.87518627 | AC32: =AC30+AC31 -> 396136 | AD32: =AD30+AD31 -> 400799 | AE32: =AE30+AE31 -> 350911 | AF32: =AF30+AF31 -> 380418 | AG32: =AG30+AG31 -> 32932
E38: Values | F38: Year
E39: Sum of Sell-In Units | G39: Sum of Sell-In Value (CHF) | I39: Sum of Sell-Out Units | K39: Sum of Sell-Out Value (CHF) | M39: Sum of Stock Units | O39: Sum of Returns Units | Q39: SELL-IN UNITS | R39: SELL-IN VALUE | S39: SELL-OUT UNITS | T39: SELL-OUT VALUE | U39: STOCK UNITS | V39: RETURNS UNITS | W39: RETURNS UNITS ON SELLOUT | X39: RETURNS UNITS ON SELLOUT | Y39: RETURNS UNITS ON SELLOUT | Z39: SELL-THROUGH | AA39: SELL-THROUGH | AB39: SELL-THROUGH | AC39: CUM SELL-IN UNITS | AD39: CUM SELL-IN UNITS | AE39: CUM SELL-OUT UNITS | AF39: CUM SELL-OUT UNITS | AG39: OPENING STOCK 1 JAN
C40: Category | D40: Month # | E40: 2024 | F40: 2025 | G40: 2024 | H40: 2025 | I40: 2024 | J40: 2025 | K40: 2024 | L40: 2025 | M40: 2024 | N40: 2025 | O40: 2024 | P40: 2025 | Q40: vs LY | R40: vs LY | S40: vs LY | T40: vs LY | U40: vs LY | V40: vs LY | W40: 2024 | X40: 2025 | Y40: vs LY ppts | Z40: 2024 | AA40: 2025 | AB40: vs LY ppts | AC40: 2024 | AD40: 2025 | AE40: 2024 | AF40: 2025 | AG40: 2025
C41: Leather Goods | D41: 1 | E41: 0 | F41: 0 | G41: 0 | H41: 0 | I41: 0 | J41: 1815 | K41: 0 | L41: 1046640 | M41: 0 | N41: 4244 | O41: 0 | P41: 49 | Q41: =IFERROR(F41/E41-1,0) -> 0 | R41: =IFERROR(H41/G41-1,0) -> 0 | S41: =IFERROR(J41/I41-1,0) -> 0 | T41: =IFERROR(L41/K41-1,0) -> 0 | U41: =IFERROR(N41/M41-1,0) -> 0 | V41: =IFERROR(P41/O41-1,0) -> 0 | W41: =IFERROR(O41/I41,0) -> 0 | X41: =IFERROR(P41/J41,0) -> 0.026997245 | Y41: =IFERROR((X41-W41)*100,0) -> 2.6997245 | Z41: =IFERROR(AE41/AC41,0) -> 0 | AA41: =IFERROR(AF41/($AG41+AD41),0) -> 0.29715128 | AB41: =IFERROR((AA41-Z41)*100,0) -> 29.715128 | AC41: =SUMIFS(E$41:E$76,$C$41:$C$76,$C41,$D$41:$D$76,"<="&$D41) -> 0 | AD41: =SUMIFS(F$41:F$76,$C$41:$C$76,$C41,$D$41:$D$76,"<="&$D41) -> 0 | AE41: =SUMIFS(I$41:I$76,$C$41:$C$76,$C41,$D$41:$D$76,"<="&$D41) -> 0 | AF41: =SUMIFS(J$41:J$76,$C$41:$C$76,$C41,$D$41:$D$76,"<="&$D41) -> 1815 | AG41: =SUMIFS(M$41:M$76,$C$41:$C$76,$C41,$D$41:$D$76,12) -> 6108
C42: Leather Goods | D42: 2 | E42: 17335 | F42: 12954 | G42: 4217550 | H42: 3395720 | I42: 5773 | J42: 5594 | K42: 3304600 | L42: 3432440 | M42: 11401 | N42: 11460 | O42: 161 | P42: 144 | Q42: =IFERROR(F42/E42-1,0) -> -0.2527257 | R42: =IFERROR(H42/G42-1,0) -> -0.19485957 | S42: =IFERROR(J42/I42-1,0) -> -0.031006409 | T42: =IFERROR(L42/K42-1,0) -> 0.038685469 | U42: =IFERROR(N42/M42-1,0) -> 0.0051749847 | V42: =IFERROR(P42/O42-1,0) -> -0.10559006 | W42: =IFERROR(O42/I42,0) -> 0.027888446 | X42: =IFERROR(P42/J42,0) -> 0.025741866 | Y42: =IFERROR((X42-W42)*100,0) -> -0.21465799 | Z42: =IFERROR(AE42/AC42,0) -> 0.33302567 | AA42: =IFERROR(AF42/($AG42+AD42),0) -> 0.38867905 | AB42: =IFERROR((AA42-Z42)*100,0) -> 5.5653377 | AC42: =SUMIFS(E$41:E$76,$C$41:$C$76,$C42,$D$41:$D$76,"<="&$D42) -> 17335 | AD42: =SUMIFS(F$41:F$76,$C$41:$C$76,$C42,$D$41:$D$76,"<="&$D42) -> 12954 | AE42: =SUMIFS(I$41:I$76,$C$41:$C$76,$C42,$D$41:$D$76,"<="&$D42) -> 5773 | AF42: =SUMIFS(J$41:J$76,$C$41:$C$76,$C42,$D$41:$D$76,"<="&$D42) -> 7409 | AG42: =SUMIFS(M$41:M$76,$C$41:$C$76,$C42,$D$41:$D$76,12) -> 6108
C43: Leather Goods | D43: 3 | E43: 21408 | F43: 15746 | G43: 5467180 | H43: 4158860 | I43: 11113 | J43: 10138 | K43: 6659840 | L43: 6349860 | M43: 21379 | N43: 16799 | O43: 317 | P43: 269 | Q43: =IFERROR(F43/E43-1,0) -> -0.26448057 | R43: =IFERROR(H43/G43-1,0) -> -0.23930436 | S43: =IFERROR(J43/I43-1,0) -> -0.087735085 | T43: =IFERROR(L43/K43-1,0) -> -0.046544662 | U43: =IFERROR(N43/M43-1,0) -> -0.21422892 | V43: =IFERROR(P43/O43-1,0) -> -0.15141956 | W43: =IFERROR(O43/I43,0) -> 0.028525151 | X43: =IFERROR(P43/J43,0) -> 0.026533833 | Y43: =IFERROR((X43-W43)*100,0) -> -0.19913176 | Z43: =IFERROR(AE43/AC43,0) -> 0.43584648 | AA43: =IFERROR(AF43/($AG43+AD43),0) -> 0.50410825 | AB43: =IFERROR((AA43-Z43)*100,0) -> 6.8261775 | AC43: =SUMIFS(E$41:E$76,$C$41:$C$76,$C43,$D$41:$D$76,"<="&$D43) -> 38743 | AD43: =SUMIFS(F$41:F$76,$C$41:$C$76,$C43,$D$41:$D$76,"<="&$D43) -> 28700 | AE43: =SUMIFS(I$41:I$76,$C$41:$C$76,$C43,$D$41:$D$76,"<="&$D43) -> 16886 | AF43: =SUMIFS(J$41:J$76,$C$41:$C$76,$C43,$D$41:$D$76,"<="&$D43) -> 17547 | AG43: =SUMIFS(M$41:M$76,$C$41:$C$76,$C43,$D$41:$D$76,12) -> 6108
C44: Leather Goods | D44: 4 | E44: 18928 | F44: 12073 | G44: 5120020 | H44: 3063620 | I44: 14979 | J44: 11525 | K44: 9197620 | L44: 7030880 | M44: 24882 | N44: 17016 | O44: 446 | P44: 331 | Q44: =IFERROR(F44/E44-1,0) -> -0.36216188 | R44: =IFERROR(H44/G44-1,0) -> -0.40163906 | S44: =IFERROR(J44/I44-1,0) -> -0.23058949 | T44: =IFERROR(L44/K44-1,0) -> -0.23557616 | U44: =IFERROR(N44/M44-1,0) -> -0.31613214 | V44: =IFERROR(P44/O44-1,0) -> -0.25784753 | W44: =IFERROR(O44/I44,0) -> 0.029775018 | X44: =IFERROR(P44/J44,0) -> 0.028720174 | Y44: =IFERROR((X44-W44)*100,0) -> -0.10548448 | Z44: =IFERROR(AE44/AC44,0) -> 0.55253073 | AA44: =IFERROR(AF44/($AG44+AD44),0) -> 0.62012329 | AB44: =IFERROR((AA44-Z44)*100,0) -> 6.7592556 | AC44: =SUMIFS(E$41:E$76,$C$41:$C$76,$C44,$D$41:$D$76,"<="&$D44) -> 57671 | AD44: =SUMIFS(F$41:F$76,$C$41:$C$76,$C44,$D$41:$D$76,"<="&$D44) -> 40773 | AE44: =SUMIFS(I$41:I$76,$C$41:$C$76,$C44,$D$41:$D$76,"<="&$D44) -> 31865 | AF44: =SUMIFS(J$41:J$76,$C$41:$C$76,$C44,$D$41:$D$76,"<="&$D44) -> 29072 | AG44: =SUMIFS(M$41:M$76,$C$41:$C$76,$C44,$D$41:$D$76,12) -> 6108
C45: Leather Goods | D45: 5 | E45: 0 | F45: 0 | G45: 0 | H45: 0 | I45: 9742 | J45: 7290 | K45: 5984470 | L45: 4405100 | M45: 14875 | N45: 9516 | O45: 265 | P45: 210 | Q45: =IFERROR(F45/E45-1,0) -> 0 | R45: =IFERROR(H45/G45-1,0) -> 0 | S45: =IFERROR(J45/I45-1,0) -> -0.2516937 | T45: =IFERROR(L45/K45-1,0) -> -0.26391142 | U45: =IFERROR(N45/M45-1,0) -> -0.36026891 | V45: =IFERROR(P45/O45-1,0) -> -0.20754717 | W45: =IFERROR(O45/I45,0) -> 0.027201807 | X45: =IFERROR(P45/J45,0) -> 0.028806584 | Y45: =IFERROR((X45-W45)*100,0) -> 0.16047778 | Z45: =IFERROR(AE45/AC45,0) -> 0.72145446 | AA45: =IFERROR(AF45/($AG45+AD45),0) -> 0.77562339 | AB45: =IFERROR((AA45-Z45)*100,0) -> 5.416893 | AC45: =SUMIFS(E$41:E$76,$C$41:$C$76,$C45,$D$41:$D$76,"<="&$D45) -> 57671 | AD45: =SUMIFS(F$41:F$76,$C$41:$C$76,$C45,$D$41:$D$76,"<="&$D45) -> 40773 | AE45: =SUMIFS(I$41:I$76,$C$41:$C$76,$C45,$D$41:$D$76,"<="&$D45) -> 41607 | AF45: =SUMIFS(J$41:J$76,$C$41:$C$76,$C45,$D$41:$D$76,"<="&$D45) -> 36362 | AG45: =SUMIFS(M$41:M$76,$C$41:$C$76,$C45,$D$41:$D$76,12) -> 6108
C46: Leather Goods | D46: 6 | E46: 0 | F46: 0 | G46: 0 | H46: 0 | I46: 7285 | J46: 4692 | K46: 4400370 | L46: 2831300 | M46: 7391 | N46: 4701 | O46: 199 | P46: 123 | Q46: =IFERROR(F46/E46-1,0) -> 0 | R46: =IFERROR(H46/G46-1,0) -> 0 | S46: =IFERROR(J46/I46-1,0) -> -0.35593686 | T46: =IFERROR(L46/K46-1,0) -> -0.35657683 | U46: =IFERROR(N46/M46-1,0) -> -0.36395616 | V46: =IFERROR(P46/O46-1,0) -> -0.38190955 | W46: =IFERROR(O46/I46,0) -> 0.027316404 | X46: =IFERROR(P46/J46,0) -> 0.026214834 | Y46: =IFERROR((X46-W46)*100,0) -> -0.11015698 | Z46: =IFERROR(AE46/AC46,0) -> 0.84777444 | AA46: =IFERROR(AF46/($AG46+AD46),0) -> 0.87570658 | AB46: =IFERROR((AA46-Z46)*100,0) -> 2.7932132 | AC46: =SUMIFS(E$41:E$76,$C$41:$C$76,$C46,$D$41:$D$76,"<="&$D46) -> 57671 | AD46: =SUMIFS(F$41:F$76,$C$41:$C$76,$C46,$D$41:$D$76,"<="&$D46) -> 40773 | AE46: =SUMIFS(I$41:I$76,$C$41:$C$76,$C46,$D$41:$D$76,"<="&$D46) -> 48892 | AF46: =SUMIFS(J$41:J$76,$C$41:$C$76,$C46,$D$41:$D$76,"<="&$D46) -> 41054 | AG46: =SUMIFS(M$41:M$76,$C$41:$C$76,$C46,$D$41:$D$76,12) -> 6108
C47: Leather Goods | D47: 7 | E47: 0 | F47: 0 | G47: 0 | H47: 0 | I47: 3345 | J47: 2289 | K47: 2024440 | L47: 1358960 | M47: 3959 | N47: 2350 | O47: 87 | P47: 62 | Q47: =IFERROR(F47/E47-1,0) -> 0 | R47: =IFERROR(H47/G47-1,0) -> 0 | S47: =IFERROR(J47/I47-1,0) -> -0.31569507 | T47: =IFERROR(L47/K47-1,0) -> -0.328723 | U47: =IFERROR(N47/M47-1,0) -> -0.40641576 | V47: =IFERROR(P47/O47-1,0) -> -0.28735632 | W47: =IFERROR(O47/I47,0) -> 0.026008969 | X47: =IFERROR(P47/J47,0) -> 0.027086064 | Y47: =IFERROR((X47-W47)*100,0) -> 0.10770952 | Z47: =IFERROR(AE47/AC47,0) -> 0.90577587 | AA47: =IFERROR(AF47/($AG47+AD47),0) -> 0.92453233 | AB47: =IFERROR((AA47-Z47)*100,0) -> 1.875646 | AC47: =SUMIFS(E$41:E$76,$C$41:$C$76,$C47,$D$41:$D$76,"<="&$D47) -> 57671 | AD47: =SUMIFS(F$41:F$76,$C$41:$C$76,$C47,$D$41:$D$76,"<="&$D47) -> 40773 | AE47: =SUMIFS(I$41:I$76,$C$41:$C$76,$C47,$D$41:$D$76,"<="&$D47) -> 52237 | AF47: =SUMIFS(J$41:J$76,$C$41:$C$76,$C47,$D$41:$D$76,"<="&$D47) -> 43343 | AG47: =SUMIFS(M$41:M$76,$C$41:$C$76,$C47,$D$41:$D$76,12) -> 6108
C48: Leather Goods | D48: 8 | E48: 16253 | F48: 11878 | G48: 4072020 | H48: 3104990 | I48: 6483 | J48: 5026 | K48: 3812060 | L48: 3076060 | M48: 13553 | N48: 9067 | O48: 176 | P48: 135 | Q48: =IFERROR(F48/E48-1,0) -> -0.26918107 | R48: =IFERROR(H48/G48-1,0) -> -0.23748164 | S48: =IFERROR(J48/I48-1,0) -> -0.22474163 | T48: =IFERROR(L48/K48-1,0) -> -0.19307146 | U48: =IFERROR(N48/M48-1,0) -> -0.33099683 | V48: =IFERROR(P48/O48-1,0) -> -0.23295455 | W48: =IFERROR(O48/I48,0) -> 0.027147925 | X48: =IFERROR(P48/J48,0) -> 0.026860326 | Y48: =IFERROR((X48-W48)*100,0) -> -0.028759904 | Z48: =IFERROR(AE48/AC48,0) -> 0.79432931 | AA48: =IFERROR(AF48/($AG48+AD48),0) -> 0.82317602 | AB48: =IFERROR((AA48-Z48)*100,0) -> 2.8846713 | AC48: =SUMIFS(E$41:E$76,$C$41:$C$76,$C48,$D$41:$D$76,"<="&$D48) -> 73924 | AD48: =SUMIFS(F$41:F$76,$C$41:$C$76,$C48,$D$41:$D$76,"<="&$D48) -> 52651 | AE48: =SUMIFS(I$41:I$76,$C$41:$C$76,$C48,$D$41:$D$76,"<="&$D48) -> 58720 | AF48: =SUMIFS(J$41:J$76,$C$41:$C$76,$C48,$D$41:$D$76,"<="&$D48) -> 48369 | AG48: =SUMIFS(M$41:M$76,$C$41:$C$76,$C48,$D$41:$D$76,12) -> 6108
C49: Leather Goods | D49: 9 | E49: 13810 | F49: 17446 | G49: 3278900 | H49: 4645250 | I49: 10608 | J49: 10247 | K49: 6117380 | L49: 6424740 | M49: 16487 | N49: 16004 | O49: 268 | P49: 262 | Q49: =IFERROR(F49/E49-1,0) -> 0.26328747 | R49: =IFERROR(H49/G49-1,0) -> 0.41670987 | S49: =IFERROR(J49/I49-1,0) -> -0.03403092 | T49: =IFERROR(L49/K49-1,0) -> 0.050243732 | U49: =IFERROR(N49/M49-1,0) -> -0.029295809 | V49: =IFERROR(P49/O49-1,0) -> -0.02238806 | W49: =IFERROR(O49/I49,0) -> 0.025263952 | X49: =IFERROR(P49/J49,0) -> 0.025568459 | Y49: =IFERROR((X49-W49)*100,0) -> 0.030450733 | Z49: =IFERROR(AE49/AC49,0) -> 0.79020676 | AA49: =IFERROR(AF49/($AG49+AD49),0) -> 0.76918837 | AB49: =IFERROR((AA49-Z49)*100,0) -> -2.1018388 | AC49: =SUMIFS(E$41:E$76,$C$41:$C$76,$C49,$D$41:$D$76,"<="&$D49) -> 87734 | AD49: =SUMIFS(F$41:F$76,$C$41:$C$76,$C49,$D$41:$D$76,"<="&$D49) -> 70097 | AE49: =SUMIFS(I$41:I$76,$C$41:$C$76,$C49,$D$41:$D$76,"<="&$D49) -> 69328 | AF49: =SUMIFS(J$41:J$76,$C$41:$C$76,$C49,$D$41:$D$76,"<="&$D49) -> 58616 | AG49: =SUMIFS(M$41:M$76,$C$41:$C$76,$C49,$D$41:$D$76,12) -> 6108
C50: Leather Goods | D50: 10 | E50: 27275 | F50: 14695 | G50: 6957950 | H50: 4042210 | I50: 17542 | J50: 13557 | K50: 10580630 | L50: 8614650 | M50: 25759 | N50: 16790 | O50: 461 | P50: 352 | Q50: =IFERROR(F50/E50-1,0) -> -0.46122823 | R50: =IFERROR(H50/G50-1,0) -> -0.41905159 | S50: =IFERROR(J50/I50-1,0) -> -0.22716908 | T50: =IFERROR(L50/K50-1,0) -> -0.18580935 | U50: =IFERROR(N50/M50-1,0) -> -0.34818898 | V50: =IFERROR(P50/O50-1,0) -> -0.23644252 | W50: =IFERROR(O50/I50,0) -> 0.026279786 | X50: =IFERROR(P50/J50,0) -> 0.025964446 | Y50: =IFERROR((X50-W50)*100,0) -> -0.031533925 | Z50: =IFERROR(AE50/AC50,0) -> 0.75533219 | AA50: =IFERROR(AF50/($AG50+AD50),0) -> 0.7939824 | AB50: =IFERROR((AA50-Z50)*100,0) -> 3.8650207 | AC50: =SUMIFS(E$41:E$76,$C$41:$C$76,$C50,$D$41:$D$76,"<="&$D50) -> 115009 | AD50: =SUMIFS(F$41:F$76,$C$41:$C$76,$C50,$D$41:$D$76,"<="&$D50) -> 84792 | AE50: =SUMIFS(I$41:I$76,$C$41:$C$76,$C50,$D$41:$D$76,"<="&$D50) -> 86870 | AF50: =SUMIFS(J$41:J$76,$C$41:$C$76,$C50,$D$41:$D$76,"<="&$D50) -> 72173 | AG50: =SUMIFS(M$41:M$76,$C$41:$C$76,$C50,$D$41:$D$76,12) -> 6108
C51: Leather Goods | D51: 11 | E51: 0 | F51: 0 | G51: 0 | H51: 0 | I51: 12484 | J51: 8277 | K51: 7305870 | L51: 5294620 | M51: 12938 | N51: 8285 | O51: 337 | P51: 228 | Q51: =IFERROR(F51/E51-1,0) -> 0 | R51: =IFERROR(H51/G51-1,0) -> 0 | S51: =IFERROR(J51/I51-1,0) -> -0.33699135 | T51: =IFERROR(L51/K51-1,0) -> -0.27529233 | U51: =IFERROR(N51/M51-1,0) -> -0.35963827 | V51: =IFERROR(P51/O51-1,0) -> -0.32344214 | W51: =IFERROR(O51/I51,0) -> 0.026994553 | X51: =IFERROR(P51/J51,0) -> 0.027546212 | Y51: =IFERROR((X51-W51)*100,0) -> 0.055165937 | Z51: =IFERROR(AE51/AC51,0) -> 0.86388022 | AA51: =IFERROR(AF51/($AG51+AD51),0) -> 0.8850385 | AB51: =IFERROR((AA51-Z51)*100,0) -> 2.1158286 | AC51: =SUMIFS(E$41:E$76,$C$41:$C$76,$C51,$D$41:$D$76,"<="&$D51) -> 115009 | AD51: =SUMIFS(F$41:F$76,$C$41:$C$76,$C51,$D$41:$D$76,"<="&$D51) -> 84792 | AE51: =SUMIFS(I$41:I$76,$C$41:$C$76,$C51,$D$41:$D$76,"<="&$D51) -> 99354 | AF51: =SUMIFS(J$41:J$76,$C$41:$C$76,$C51,$D$41:$D$76,"<="&$D51) -> 80450 | AG51: =SUMIFS(M$41:M$76,$C$41:$C$76,$C51,$D$41:$D$76,12) -> 6108
C52: Leather Goods | D52: 12 | E52: 0 | F52: 0 | G52: 0 | H52: 0 | I52: 6658 | J52: 4638 | K52: 3943040 | L52: 2887330 | M52: 6108 | N52: 3523 | O52: 172 | P52: 124 | Q52: =IFERROR(F52/E52-1,0) -> 0 | R52: =IFERROR(H52/G52-1,0) -> 0 | S52: =IFERROR(J52/I52-1,0) -> -0.30339441 | T52: =IFERROR(L52/K52-1,0) -> -0.26774012 | U52: =IFERROR(N52/M52-1,0) -> -0.42321546 | V52: =IFERROR(P52/O52-1,0) -> -0.27906977 | W52: =IFERROR(O52/I52,0) -> 0.025833584 | X52: =IFERROR(P52/J52,0) -> 0.026735662 | Y52: =IFERROR((X52-W52)*100,0) -> 0.090207826 | Z52: =IFERROR(AE52/AC52,0) -> 0.92177134 | AA52: =IFERROR(AF52/($AG52+AD52),0) -> 0.93606161 | AB52: =IFERROR((AA52-Z52)*100,0) -> 1.4290267 | AC52: =SUMIFS(E$41:E$76,$C$41:$C$76,$C52,$D$41:$D$76,"<="&$D52) -> 115009 | AD52: =SUMIFS(F$41:F$76,$C$41:$C$76,$C52,$D$41:$D$76,"<="&$D52) -> 84792 | AE52: =SUMIFS(I$41:I$76,$C$41:$C$76,$C52,$D$41:$D$76,"<="&$D52) -> 106012 | AF52: =SUMIFS(J$41:J$76,$C$41:$C$76,$C52,$D$41:$D$76,"<="&$D52) -> 85088 | AG52: =SUMIFS(M$41:M$76,$C$41:$C$76,$C52,$D$41:$D$76,12) -> 6108
... C76: Women's Footwear | D76: 12 | E76: 0 | F76: 0 | G76: 0 | H76: 0 | I76: 9185 | J76: 9265 | K76: 14916550 | L76: 13879020 | M76: 12877 | N76: 18552 | O76: 341 | P76: 381 | Q76: =IFERROR(F76/E76-1,0) -> 0 | R76: =IFERROR(H76/G76-1,0) -> 0 | S76: =IFERROR(J76/I76-1,0) -> 0.008709853 | T76: =IFERROR(L76/K76-1,0) -> -0.069555628 | U76: =IFERROR(N76/M76-1,0) -> 0.44070824 | V76: =IFERROR(P76/O76-1,0) -> 0.11730205 | W76: =IFERROR(O76/I76,0) -> 0.037125749 | X76: =IFERROR(P76/J76,0) -> 0.041122504 | Y76: =IFERROR((X76-W76)*100,0) -> 0.39967555 | Z76: =IFERROR(AE76/AC76,0) -> 0.8763754 | AA76: =IFERROR(AF76/($AG76+AD76),0) -> 0.86985332 | AB76: =IFERROR((AA76-Z76)*100,0) -> -0.6522071 | AC76: =SUMIFS(E$41:E$76,$C$41:$C$76,$C76,$D$41:$D$76,"<="&$D76) -> 141323 | AD76: =SUMIFS(F$41:F$76,$C$41:$C$76,$C76,$D$41:$D$76,"<="&$D76) -> 175157 | AE76: =SUMIFS(I$41:I$76,$C$41:$C$76,$C76,$D$41:$D$76,"<="&$D76) -> 123852 | AF76: =SUMIFS(J$41:J$76,$C$41:$C$76,$C76,$D$41:$D$76,"<="&$D76) -> 163562 | AG76: =SUMIFS(M$41:M$76,$C$41:$C$76,$C76,$D$41:$D$76,12) -> 12877
B77: =C77 -> Leather Goods | C77: Leather Goods | E77: =SUMIF($C$41:$C$76,$C77,E$41:E$76) -> 115009 | F77: =SUMIF($C$41:$C$76,$C77,F$41:F$76) -> 84792 | G77: =SUMIF($C$41:$C$76,$C77,G$41:G$76) -> 29113620 | H77: =SUMIF($C$41:$C$76,$C77,H$41:H$76) -> 22410650 | I77: =SUMIF($C$41:$C$76,$C77,I$41:I$76) -> 106012 | J77: =SUMIF($C$41:$C$76,$C77,J$41:J$76) -> 85088 | K77: =SUMIF($C$41:$C$76,$C77,K$41:K$76) -> 63330320 | L77: =SUMIF($C$41:$C$76,$C77,L$41:L$76) -> 52752580 | ... P77: =SUMIF($C$41:$C$76,$C77,P$41:P$76) -> 2289 | Q77: =IFERROR(F77/E77-1,0) -> -0.26273596 | R77: =IFERROR(H77/G77-1,0) -> -0.23023485 | S77: =IFERROR(J77/I77-1,0) -> -0.19737388 | T77: =IFERROR(L77/K77-1,0) -> -0.16702489 | U77: =IFERROR(N77/M77-1,0) -> -0.24555225 | V77: =IFERROR(P77/O77-1,0) -> -0.20768432 | W77: =IFERROR(O77/I77,0) -> 0.027251632 | X77: =IFERROR(P77/J77,0) -> 0.026901561 | Y77: =IFERROR((X77-W77)*100,0) -> -0.035007115 | Z77: =IFERROR(AE77/AC77,0) -> 0.92177134 | AA77: =IFERROR(AF77/($AG77+AD77),0) -> 0.93606161 | AB77: =IFERROR((AA77-Z77)*100,0) -> 1.4290267 | AC77: =SUMIFS(E$41:E$76,$C$41:$C$76,$C77) -> 115009 | AD77: =SUMIFS(F$41:F$76,$C$41:$C$76,$C77) -> 84792 | AE77: =SUMIFS(I$41:I$76,$C$41:$C$76,$C77) -> 106012 | AF77: =SUMIFS(J$41:J$76,$C$41:$C$76,$C77) -> 85088 | AG77: =SUMIFS(M$41:M$76,$C$41:$C$76,$C77,$D$41:$D$76,12) -> 6108
B78: =C78 -> Men's Footwear | C78: Men's Footwear | E78: =SUMIF($C$41:$C$76,$C78,E$41:E$76) -> 139804 | F78: =SUMIF($C$41:$C$76,$C78,F$41:F$76) -> 140850 | G78: =SUMIF($C$41:$C$76,$C78,G$41:G$76) -> 75799510 | H78: =SUMIF($C$41:$C$76,$C78,H$41:H$76) -> 76607880 | I78: =SUMIF($C$41:$C$76,$C78,I$41:I$76) -> 121047 | J78: =SUMIF($C$41:$C$76,$C78,J$41:J$76) -> 131768 | K78: =SUMIF($C$41:$C$76,$C78,K$41:K$76) -> 161110700 | L78: =SUMIF($C$41:$C$76,$C78,L$41:L$76) -> 176308800 | ... P78: =SUMIF($C$41:$C$76,$C78,P$41:P$76) -> 4956 | Q78: =IFERROR(F78/E78-1,0) -> 0.0074819032 | R78: =IFERROR(H78/G78-1,0) -> 0.010664581 | S78: =IFERROR(J78/I78-1,0) -> 0.088568903 | T78: =IFERROR(L78/K78-1,0) -> 0.094333275 | U78: =IFERROR(N78/M78-1,0) -> 0.17301892 | V78: =IFERROR(P78/O78-1,0) -> 0.03035343 | W78: =IFERROR(O78/I78,0) -> 0.039736631 | X78: =IFERROR(P78/J78,0) -> 0.03761156 | Y78: =IFERROR((X78-W78)*100,0) -> -0.21250715 | Z78: =IFERROR(AE78/AC78,0) -> 0.8658336 | AA78: =IFERROR(AF78/($AG78+AD78),0) -> 0.85123097 | AB78: =IFERROR((AA78-Z78)*100,0) -> -1.4602629 | AC78: =SUMIFS(E$41:E$76,$C$41:$C$76,$C78) -> 139804 | AD78: =SUMIFS(F$41:F$76,$C$41:$C$76,$C78) -> 140850 | AE78: =SUMIFS(I$41:I$76,$C$41:$C$76,$C78) -> 121047 | AF78: =SUMIFS(J$41:J$76,$C$41:$C$76,$C78) -> 131768 | AG78: =SUMIFS(M$41:M$76,$C$41:$C$76,$C78,$D$41:$D$76,12) -> 13947
B79: =C79 -> Women's Footwear | C79: Women's Footwear | E79: =SUMIF($C$41:$C$76,$C79,E$41:E$76) -> 141323 | F79: =SUMIF($C$41:$C$76,$C79,F$41:F$76) -> 175157 | G79: =SUMIF($C$41:$C$76,$C79,G$41:G$76) -> 91437810 | H79: =SUMIF($C$41:$C$76,$C79,H$41:H$76) -> 105052050 | I79: =SUMIF($C$41:$C$76,$C79,I$41:I$76) -> 123852 | J79: =SUMIF($C$41:$C$76,$C79,J$41:J$76) -> 163562 | K79: =SUMIF($C$41:$C$76,$C79,K$41:K$76) -> 200552630 | L79: =SUMIF($C$41:$C$76,$C79,L$41:L$76) -> 246911400 | ... P79: =SUMIF($C$41:$C$76,$C79,P$41:P$76) -> 5920 | Q79: =IFERROR(F79/E79-1,0) -> 0.23940901 | R79: =IFERROR(H79/G79-1,0) -> 0.14889071 | S79: =IFERROR(J79/I79-1,0) -> 0.32062462 | T79: =IFERROR(L79/K79-1,0) -> 0.23115513 | U79: =IFERROR(N79/M79-1,0) -> 0.4524411 | V79: =IFERROR(P79/O79-1,0) -> 0.28863735 | W79: =IFERROR(O79/I79,0) -> 0.037092659 | X79: =IFERROR(P79/J79,0) -> 0.036194226 | Y79: =IFERROR((X79-W79)*100,0) -> -0.089843294 | Z79: =IFERROR(AE79/AC79,0) -> 0.8763754 | AA79: =IFERROR(AF79/($AG79+AD79),0) -> 0.86985332 | AB79: =IFERROR((AA79-Z79)*100,0) -> -0.6522071 | AC79: =SUMIFS(E$41:E$76,$C$41:$C$76,$C79) -> 141323 | AD79: =SUMIFS(F$41:F$76,$C$41:$C$76,$C79) -> 175157 | AE79: =SUMIFS(I$41:I$76,$C$41:$C$76,$C79) -> 123852 | AF79: =SUMIFS(J$41:J$76,$C$41:$C$76,$C79) -> 163562 | AG79: =SUMIFS(M$41:M$76,$C$41:$C$76,$C79,$D$41:$D$76,12) -> 12877
B80: =C80 -> TOTAL | C80: TOTAL | E80: =SUM(E77:E79) -> 396136 | F80: =SUM(F77:F79) -> 400799 | G80: =SUM(G77:G79) -> 196350940 | H80: =SUM(H77:H79) -> 204070580 | I80: =SUM(I77:I79) -> 350911 | J80: =SUM(J77:J79) -> 380418 | K80: =SUM(K77:K79) -> 424993650 | L80: =SUM(L77:L79) -> 475972780 | ... P80: =SUM(P77:P79) -> 13165 | Q80: =IFERROR(F80/E80-1,0) -> 0.01177121 | R80: =IFERROR(H80/G80-1,0) -> 0.039315524 | S80: =IFERROR(J80/I80-1,0) -> 0.084086848 | T80: =IFERROR(L80/K80-1,0) -> 0.11995269 | U80: =IFERROR(N80/M80-1,0) -> 0.1751202 | V80: =IFERROR(P80/O80-1,0) -> 0.070934678 | W80: =IFERROR(O80/I80,0) -> 0.035031675 | X80: =IFERROR(P80/J80,0) -> 0.03460667 | Y80: =IFERROR((X80-W80)*100,0) -> -0.042500519 | Z80: =IFERROR(AE80/AC80,0) -> 0.88583466 | AA80: =IFERROR(AF80/($AG80+AD80),0) -> 0.8770828 | AB80: =IFERROR((AA80-Z80)*100,0) -> -0.87518627 | AC80: =SUM(AC77:AC79) -> 396136 | AD80: =SUM(AD77:AD79) -> 400799 | AE80: =SUM(AE77:AE79) -> 350911 | AF80: =SUM(AF77:AF79) -> 380418 | AG80: =SUM(AG77:AG79) -> 32932
E85: Values | F85: Year
E86: Sum of Sell-In Units | G86: Sum of Sell-In Value (CHF) | I86: Sum of Sell-Out Units | K86: Sum of Sell-Out Value (CHF) | M86: Sum of Stock Units | O86: Sum of Returns Units | Q86: SELL-IN UNITS | R86: SELL-IN VALUE | S86: SELL-OUT UNITS | T86: SELL-OUT VALUE | U86: STOCK UNITS | V86: RETURNS UNITS | W86: RETURNS UNITS ON SELLOUT | X86: RETURNS UNITS ON SELLOUT | Y86: RETURNS UNITS ON SELLOUT | Z86: SELL-THROUGH | AA86: SELL-THROUGH | AB86: SELL-THROUGH | AC86: CUM SELL-IN UNITS | AD86: CUM SELL-IN UNITS | AE86: CUM SELL-OUT UNITS | AF86: CUM SELL-OUT UNITS | AG86: OPENING STOCK 1 JAN
C87: Country | D87: Month # | E87: 2024 | F87: 2025 | G87: 2024 | H87: 2025 | I87: 2024 | J87: 2025 | K87: 2024 | L87: 2025 | M87: 2024 | N87: 2025 | O87: 2024 | P87: 2025 | Q87: vs LY | R87: vs LY | S87: vs LY | T87: vs LY | U87: vs LY | V87: vs LY | W87: 2024 | X87: 2025 | Y87: vs LY ppts | Z87: 2024 | AA87: 2025 | AB87: vs LY ppts | AC87: 2024 | AD87: 2025 | AE87: 2024 | AF87: 2025 | AG87: 2025
C88: France | D88: 1 | E88: 0 | F88: 0 | G88: 0 | H88: 0 | I88: 0 | J88: 1490 | K88: 0 | L88: 1877880 | M88: 0 | N88: 4104 | O88: 0 | P88: 44 | Q88: =IFERROR(F88/E88-1,0) -> 0 | R88: =IFERROR(H88/G88-1,0) -> 0 | S88: =IFERROR(J88/I88-1,0) -> 0 | T88: =IFERROR(L88/K88-1,0) -> 0 | U88: =IFERROR(N88/M88-1,0) -> 0 | V88: =IFERROR(P88/O88-1,0) -> 0 | W88: =IFERROR(O88/I88,0) -> 0 | X88: =IFERROR(P88/J88,0) -> 0.029530201 | Y88: =IFERROR((X88-W88)*100,0) -> 2.9530201 | Z88: =IFERROR(AE88/AC88,0) -> 0 | AA88: =IFERROR(AF88/($AG88+AD88),0) -> 0.26427811 | AB88: =IFERROR((AA88-Z88)*100,0) -> 26.427811 | AC88: =SUMIFS(E$88:E$159,$C$88:$C$159,$C88,$D$88:$D$159,"<="&$D88) -> 0 | AD88: =SUMIFS(F$88:F$159,$C$88:$C$159,$C88,$D$88:$D$159,"<="&$D88) -> 0 | AE88: =SUMIFS(I$88:I$159,$C$88:$C$159,$C88,$D$88:$D$159,"<="&$D88) -> 0 | AF88: =SUMIFS(J$88:J$159,$C$88:$C$159,$C88,$D$88:$D$159,"<="&$D88) -> 1490 | AG88: =SUMIFS(M$88:M$159,$C$88:$C$159,$C88,$D$88:$D$159,12) -> 5638
C89: France | D89: 2 | E89: 14451 | F89: 6313 | G89: 6990240 | H89: 2728530 | I89: 4381 | J89: 3126 | K89: 5097600 | L89: 3463730 | M89: 9943 | N89: 7204 | O89: 127 | P89: 87 | Q89: =IFERROR(F89/E89-1,0) -> -0.56314442 | R89: =IFERROR(H89/G89-1,0) -> -0.60966576 | S89: =IFERROR(J89/I89-1,0) -> -0.28646428 | T89: =IFERROR(L89/K89-1,0) -> -0.3205175 | U89: =IFERROR(N89/M89-1,0) -> -0.27547018 | V89: =IFERROR(P89/O89-1,0) -> -0.31496063 | W89: =IFERROR(O89/I89,0) -> 0.028988815 | X89: =IFERROR(P89/J89,0) -> 0.027831094 | Y89: =IFERROR((X89-W89)*100,0) -> -0.11577213 | Z89: =IFERROR(AE89/AC89,0) -> 0.30316241 | AA89: =IFERROR(AF89/($AG89+AD89),0) -> 0.38624383 | AB89: =IFERROR((AA89-Z89)*100,0) -> 8.3081418 | AC89: =SUMIFS(E$88:E$159,$C$88:$C$159,$C89,$D$88:$D$159,"<="&$D89) -> 14451 | AD89: =SUMIFS(F$88:F$159,$C$88:$C$159,$C89,$D$88:$D$159,"<="&$D89) -> 6313 | AE89: =SUMIFS(I$88:I$159,$C$88:$C$159,$C89,$D$88:$D$159,"<="&$D89) -> 4381 | AF89: =SUMIFS(J$88:J$159,$C$88:$C$159,$C89,$D$88:$D$159,"<="&$D89) -> 4616 | AG89: =SUMIFS(M$88:M$159,$C$88:$C$159,$C89,$D$88:$D$159,12) -> 5638
C90: France | D90: 3 | E90: 10805 | F90: 16753 | G90: 5053600 | H90: 8757000 | I90: 6808 | J90: 8074 | K90: 7747580 | L90: 10128190 | M90: 13705 | N90: 15653 | O90: 235 | P90: 230 | Q90: =IFERROR(F90/E90-1,0) -> 0.55048589 | R90: =IFERROR(H90/G90-1,0) -> 0.73282413 | S90: =IFERROR(J90/I90-1,0) -> 0.1859577 | T90: =IFERROR(L90/K90-1,0) -> 0.30727143 | U90: =IFERROR(N90/M90-1,0) -> 0.14213791 | V90: =IFERROR(P90/O90-1,0) -> -0.021276596 | W90: =IFERROR(O90/I90,0) -> 0.034518214 | X90: =IFERROR(P90/J90,0) -> 0.0284865 | Y90: =IFERROR((X90-W90)*100,0) -> -0.6031714 | Z90: =IFERROR(AE90/AC90,0) -> 0.44302344 | AA90: =IFERROR(AF90/($AG90+AD90),0) -> 0.44209866 | AB90: =IFERROR((AA90-Z90)*100,0) -> -0.092477777 | AC90: =SUMIFS(E$88:E$159,$C$88:$C$159,$C90,$D$88:$D$159,"<="&$D90) -> 25256 | AD90: =SUMIFS(F$88:F$159,$C$88:$C$159,$C90,$D$88:$D$159,"<="&$D90) -> 23066 | AE90: =SUMIFS(I$88:I$159,$C$88:$C$159,$C90,$D$88:$D$159,"<="&$D90) -> 11189 | AF90: =SUMIFS(J$88:J$159,$C$88:$C$159,$C90,$D$88:$D$159,"<="&$D90) -> 12690 | AG90: =SUMIFS(M$88:M$159,$C$88:$C$159,$C90,$D$88:$D$159,12) -> 5638
C91: France | D91: 4 | E91: 11800 | F91: 14845 | G91: 5825450 | H91: 7975440 | I91: 8194 | J91: 10520 | K91: 9714960 | L91: 13440620 | M91: 17047 | N91: 19663 | O91: 264 | P91: 315 | Q91: =IFERROR(F91/E91-1,0) -> 0.25805085 | R91: =IFERROR(H91/G91-1,0) -> 0.36906848 | S91: =IFERROR(J91/I91-1,0) -> 0.28386624 | T91: =IFERROR(L91/K91-1,0) -> 0.3834972 | U91: =IFERROR(N91/M91-1,0) -> 0.15345809 | V91: =IFERROR(P91/O91-1,0) -> 0.19318182 | W91: =IFERROR(O91/I91,0) -> 0.032218697 | X91: =IFERROR(P91/J91,0) -> 0.029942966 | Y91: =IFERROR((X91-W91)*100,0) -> -0.22757308 | Z91: =IFERROR(AE91/AC91,0) -> 0.52307319 | AA91: =IFERROR(AF91/($AG91+AD91),0) -> 0.53296287 | AB91: =IFERROR((AA91-Z91)*100,0) -> 0.98896829 | AC91: =SUMIFS(E$88:E$159,$C$88:$C$159,$C91,$D$88:$D$159,"<="&$D91) -> 37056 | AD91: =SUMIFS(F$88:F$159,$C$88:$C$159,$C91,$D$88:$D$159,"<="&$D91) -> 37911 | AE91: =SUMIFS(I$88:I$159,$C$88:$C$159,$C91,$D$88:$D$159,"<="&$D91) -> 19383 | AF91: =SUMIFS(J$88:J$159,$C$88:$C$159,$C91,$D$88:$D$159,"<="&$D91) -> 23210 | AG91: =SUMIFS(M$88:M$159,$C$88:$C$159,$C91,$D$88:$D$159,12) -> 5638
C92: France | D92: 5 | E92: 0 | F92: 0 | G92: 0 | H92: 0 | I92: 5692 | J92: 7453 | K92: 6775390 | L92: 9663620 | M92: 11189 | N92: 11990 | O92: 166 | P92: 220 | Q92: =IFERROR(F92/E92-1,0) -> 0 | R92: =IFERROR(H92/G92-1,0) -> 0 | S92: =IFERROR(J92/I92-1,0) -> 0.30938159 | T92: =IFERROR(L92/K92-1,0) -> 0.42628247 | U92: =IFERROR(N92/M92-1,0) -> 0.071588167 | V92: =IFERROR(P92/O92-1,0) -> 0.3253012 | W92: =IFERROR(O92/I92,0) -> 0.029163739 | X92: =IFERROR(P92/J92,0) -> 0.029518315 | Y92: =IFERROR((X92-W92)*100,0) -> 0.035457619 | Z92: =IFERROR(AE92/AC92,0) -> 0.67667854 | AA92: =IFERROR(AF92/($AG92+AD92),0) -> 0.70410342 | AB92: =IFERROR((AA92-Z92)*100,0) -> 2.7424883 | AC92: =SUMIFS(E$88:E$159,$C$88:$C$159,$C92,$D$88:$D$159,"<="&$D92) -> 37056 | AD92: =SUMIFS(F$88:F$159,$C$88:$C$159,$C92,$D$88:$D$159,"<="&$D92) -> 37911 | AE92: =SUMIFS(I$88:I$159,$C$88:$C$159,$C92,$D$88:$D$159,"<="&$D92) -> 25075 | AF92: =SUMIFS(J$88:J$159,$C$88:$C$159,$C92,$D$88:$D$159,"<="&$D92) -> 30663 | AG92: =SUMIFS(M$88:M$159,$C$88:$C$159,$C92,$D$88:$D$159,12) -> 5638
C93: France | D93: 6 | E93: 0 | F93: 0 | G93: 0 | H93: 0 | I93: 4444 | J93: 5374 | K93: 5240220 | L93: 7019700 | M93: 6621 | N93: 6447 | O93: 124 | P93: 169 | Q93: =IFERROR(F93/E93-1,0) -> 0 | R93: =IFERROR(H93/G93-1,0) -> 0 | S93: =IFERROR(J93/I93-1,0) -> 0.20927093 | T93: =IFERROR(L93/K93-1,0) -> 0.33958116 | U93: =IFERROR(N93/M93-1,0) -> -0.026280018 | V93: =IFERROR(P93/O93-1,0) -> 0.36290323 | W93: =IFERROR(O93/I93,0) -> 0.02790279 | X93: =IFERROR(P93/J93,0) -> 0.031447711 | Y93: =IFERROR((X93-W93)*100,0) -> 0.35449209 | Z93: =IFERROR(AE93/AC93,0) -> 0.79660514 | AA93: =IFERROR(AF93/($AG93+AD93),0) -> 0.82750465 | AB93: =IFERROR((AA93-Z93)*100,0) -> 3.0899512 | AC93: =SUMIFS(E$88:E$159,$C$88:$C$159,$C93,$D$88:$D$159,"<="&$D93) -> 37056 | AD93: =SUMIFS(F$88:F$159,$C$88:$C$159,$C93,$D$88:$D$159,"<="&$D93) -> 37911 | AE93: =SUMIFS(I$88:I$159,$C$88:$C$159,$C93,$D$88:$D$159,"<="&$D93) -> 29519 | AF93: =SUMIFS(J$88:J$159,$C$88:$C$159,$C93,$D$88:$D$159,"<="&$D93) -> 36037 | AG93: =SUMIFS(M$88:M$159,$C$88:$C$159,$C93,$D$88:$D$159,12) -> 5638
C94: France | D94: 7 | E94: 0 | F94: 0 | G94: 0 | H94: 0 | I94: 2587 | J94: 2733 | K94: 3125180 | L94: 3578870 | M94: 3959 | N94: 3626 | O94: 75 | P94: 88 | Q94: =IFERROR(F94/E94-1,0) -> 0 | R94: =IFERROR(H94/G94-1,0) -> 0 | S94: =IFERROR(J94/I94-1,0) -> 0.056436026 | T94: =IFERROR(L94/K94-1,0) -> 0.14517244 | U94: =IFERROR(N94/M94-1,0) -> -0.08411215 | V94: =IFERROR(P94/O94-1,0) -> 0.17333333 | W94: =IFERROR(O94/I94,0) -> 0.028991109 | X94: =IFERROR(P94/J94,0) -> 0.032199049 | Y94: =IFERROR((X94-W94)*100,0) -> 0.32079393 | Z94: =IFERROR(AE94/AC94,0) -> 0.86641839 | AA94: =IFERROR(AF94/($AG94+AD94),0) -> 0.89026154 | AB94: =IFERROR((AA94-Z94)*100,0) -> 2.3843151 | AC94: =SUMIFS(E$88:E$159,$C$88:$C$159,$C94,$D$88:$D$159,"<="&$D94) -> 37056 | AD94: =SUMIFS(F$88:F$159,$C$88:$C$159,$C94,$D$88:$D$159,"<="&$D94) -> 37911 | AE94: =SUMIFS(I$88:I$159,$C$88:$C$159,$C94,$D$88:$D$159,"<="&$D94) -> 32106 | AF94: =SUMIFS(J$88:J$159,$C$88:$C$159,$C94,$D$88:$D$159,"<="&$D94) -> 38770 | AG94: =SUMIFS(M$88:M$159,$C$88:$C$159,$C94,$D$88:$D$159,12) -> 5638
C95: France | D95: 8 | E95: 13153 | F95: 13811 | G95: 5552590 | H95: 7275900 | I95: 5176 | J95: 5727 | K95: 5551380 | L95: 7433440 | M95: 11778 | N95: 11516 | O95: 158 | P95: 194 | Q95: =IFERROR(F95/E95-1,0) -> 0.05002661 | R95: =IFERROR(H95/G95-1,0) -> 0.31036147 | S95: =IFERROR(J95/I95-1,0) -> 0.10645286 | T95: =IFERROR(L95/K95-1,0) -> 0.33902561 | U95: =IFERROR(N95/M95-1,0) -> -0.022244863 | V95: =IFERROR(P95/O95-1,0) -> 0.2278481 | W95: =IFERROR(O95/I95,0) -> 0.030525502 | X95: =IFERROR(P95/J95,0) -> 0.033874629 | Y95: =IFERROR((X95-W95)*100,0) -> 0.33491266 | Z95: =IFERROR(AE95/AC95,0) -> 0.7425362 | AA95: =IFERROR(AF95/($AG95+AD95),0) -> 0.77574965 | AB95: =IFERROR((AA95-Z95)*100,0) -> 3.3213453 | AC95: =SUMIFS(E$88:E$159,$C$88:$C$159,$C95,$D$88:$D$159,"<="&$D95) -> 50209 | AD95: =SUMIFS(F$88:F$159,$C$88:$C$159,$C95,$D$88:$D$159,"<="&$D95) -> 51722 | AE95: =SUMIFS(I$88:I$159,$C$88:$C$159,$C95,$D$88:$D$159,"<="&$D95) -> 37282 | AF95: =SUMIFS(J$88:J$159,$C$88:$C$159,$C95,$D$88:$D$159,"<="&$D95) -> 44497 | AG95: =SUMIFS(M$88:M$159,$C$88:$C$159,$C95,$D$88:$D$159,12) -> 5638
C96: France | D96: 9 | E96: 13206 | F96: 14897 | G96: 7305520 | H96: 7128910 | I96: 8773 | J96: 9548 | K96: 10716090 | L96: 11843560 | M96: 15951 | N96: 16572 | O96: 260 | P96: 293 | Q96: =IFERROR(F96/E96-1,0) -> 0.12804786 | R96: =IFERROR(H96/G96-1,0) -> -0.024174871 | S96: =IFERROR(J96/I96-1,0) -> 0.088339223 | T96: =IFERROR(L96/K96-1,0) -> 0.10521282 | U96: =IFERROR(N96/M96-1,0) -> 0.038931728 | V96: =IFERROR(P96/O96-1,0) -> 0.12692308 | W96: =IFERROR(O96/I96,0) -> 0.029636384 | X96: =IFERROR(P96/J96,0) -> 0.030687055 | Y96: =IFERROR((X96-W96)*100,0) -> 0.10506705 | Z96: =IFERROR(AE96/AC96,0) -> 0.72624773 | AA96: =IFERROR(AF96/($AG96+AD96),0) -> 0.74795522 | AB96: =IFERROR((AA96-Z96)*100,0) -> 2.1707482 | AC96: =SUMIFS(E$88:E$159,$C$88:$C$159,$C96,$D$88:$D$159,"<="&$D96) -> 63415 | AD96: =SUMIFS(F$88:F$159,$C$88:$C$159,$C96,$D$88:$D$159,"<="&$D96) -> 66619 | AE96: =SUMIFS(I$88:I$159,$C$88:$C$159,$C96,$D$88:$D$159,"<="&$D96) -> 46055 | AF96: =SUMIFS(J$88:J$159,$C$88:$C$159,$C96,$D$88:$D$159,"<="&$D96) -> 54045 | AG96: =SUMIFS(M$88:M$159,$C$88:$C$159,$C96,$D$88:$D$159,12) -> 5638
C97: France | D97: 10 | E97: 15456 | F97: 15012 | G97: 7894190 | H97: 7468230 | I97: 12128 | J97: 12324 | K97: 15073050 | L97: 14948160 | M97: 18900 | N97: 18887 | O97: 379 | P97: 373 | Q97: =IFERROR(F97/E97-1,0) -> -0.028726708 | R97: =IFERROR(H97/G97-1,0) -> -0.053958671 | S97: =IFERROR(J97/I97-1,0) -> 0.01616095 | T97: =IFERROR(L97/K97-1,0) -> -0.0082856489 | U97: =IFERROR(N97/M97-1,0) -> -0.00068783069 | V97: =IFERROR(P97/O97-1,0) -> -0.015831135 | W97: =IFERROR(O97/I97,0) -> 0.03125 | X97: =IFERROR(P97/J97,0) -> 0.030266147 | Y97: =IFERROR((X97-W97)*100,0) -> -0.098385265 | Z97: =IFERROR(AE97/AC97,0) -> 0.73769827 | AA97: =IFERROR(AF97/($AG97+AD97),0) -> 0.76051061 | AB97: =IFERROR((AA97-Z97)*100,0) -> 2.2812338 | AC97: =SUMIFS(E$88:E$159,$C$88:$C$159,$C97,$D$88:$D$159,"<="&$D97) -> 78871 | AD97: =SUMIFS(F$88:F$159,$C$88:$C$159,$C97,$D$88:$D$159,"<="&$D97) -> 81631 | AE97: =SUMIFS(I$88:I$159,$C$88:$C$159,$C97,$D$88:$D$159,"<="&$D97) -> 58183 | AF97: =SUMIFS(J$88:J$159,$C$88:$C$159,$C97,$D$88:$D$159,"<="&$D97) -> 66369 | AG97: =SUMIFS(M$88:M$159,$C$88:$C$159,$C97,$D$88:$D$159,12) -> 5638
C98: France | D98: 11 | E98: 0 | F98: 0 | G98: 0 | H98: 0 | I98: 7855 | J98: 8962 | K98: 9627060 | L98: 10947050 | M98: 10811 | N98: 9665 | O98: 234 | P98: 260 | Q98: =IFERROR(F98/E98-1,0) -> 0 | R98: =IFERROR(H98/G98-1,0) -> 0 | S98: =IFERROR(J98/I98-1,0) -> 0.14092934 | T98: =IFERROR(L98/K98-1,0) -> 0.13711247 | U98: =IFERROR(N98/M98-1,0) -> -0.10600314 | V98: =IFERROR(P98/O98-1,0) -> 0.11111111 | W98: =IFERROR(O98/I98,0) -> 0.029789943 | X98: =IFERROR(P98/J98,0) -> 0.029011381 | Y98: =IFERROR((X98-W98)*100,0) -> -0.077856132 | Z98: =IFERROR(AE98/AC98,0) -> 0.83729127 | AA98: =IFERROR(AF98/($AG98+AD98),0) -> 0.86320457 | AB98: =IFERROR((AA98-Z98)*100,0) -> 2.5913301 | AC98: =SUMIFS(E$88:E$159,$C$88:$C$159,$C98,$D$88:$D$159,"<="&$D98) -> 78871 | AD98: =SUMIFS(F$88:F$159,$C$88:$C$159,$C98,$D$88:$D$159,"<="&$D98) -> 81631 | AE98: =SUMIFS(I$88:I$159,$C$88:$C$159,$C98,$D$88:$D$159,"<="&$D98) -> 66038 | AF98: =SUMIFS(J$88:J$159,$C$88:$C$159,$C98,$D$88:$D$159,"<="&$D98) -> 75331 | AG98: =SUMIFS(M$88:M$159,$C$88:$C$159,$C98,$D$88:$D$159,12) -> 5638
C99: France | D99: 12 | E99: 0 | F99: 0 | G99: 0 | H99: 0 | I99: 5039 | J99: 4919 | K99: 6433440 | L99: 6012480 | M99: 5638 | N99: 4586 | O99: 134 | P99: 160 | Q99: =IFERROR(F99/E99-1,0) -> 0 | R99: =IFERROR(H99/G99-1,0) -> 0 | S99: =IFERROR(J99/I99-1,0) -> -0.023814249 | T99: =IFERROR(L99/K99-1,0) -> -0.065433112 | U99: =IFERROR(N99/M99-1,0) -> -0.18659099 | V99: =IFERROR(P99/O99-1,0) -> 0.19402985 | W99: =IFERROR(O99/I99,0) -> 0.026592578 | X99: =IFERROR(P99/J99,0) -> 0.032526936 | Y99: =IFERROR((X99-W99)*100,0) -> 0.59343585 | Z99: =IFERROR(AE99/AC99,0) -> 0.90118041 | AA99: =IFERROR(AF99/($AG99+AD99),0) -> 0.91957052 | AB99: =IFERROR((AA99-Z99)*100,0) -> 1.8390115 | AC99: =SUMIFS(E$88:E$159,$C$88:$C$159,$C99,$D$88:$D$159,"<="&$D99) -> 78871 | AD99: =SUMIFS(F$88:F$159,$C$88:$C$159,$C99,$D$88:$D$159,"<="&$D99) -> 81631 | AE99: =SUMIFS(I$88:I$159,$C$88:$C$159,$C99,$D$88:$D$159,"<="&$D99) -> 71077 | AF99: =SUMIFS(J$88:J$159,$C$88:$C$159,$C99,$D$88:$D$159,"<="&$D99) -> 80250 | AG99: =SUMIFS(M$88:M$159,$C$88:$C$159,$C99,$D$88:$D$159,12) -> 5638
... C159: United Kingdom | D159: 12 | E159: 0 | F159: 0 | G159: 0 | H159: 0 | I159: 4339 | J159: 4524 | K159: 5269220 | L159: 5665530 | M159: 4298 | N159: 3792 | O159: 125 | P159: 141 | Q159: =IFERROR(F159/E159-1,0) -> 0 | R159: =IFERROR(H159/G159-1,0) -> 0 | S159: =IFERROR(J159/I159-1,0) -> 0.042636552 | T159: =IFERROR(L159/K159-1,0) -> 0.075212271 | U159: =IFERROR(N159/M159-1,0) -> -0.11772918 | V159: =IFERROR(P159/O159-1,0) -> 0.128 | W159: =IFERROR(O159/I159,0) -> 0.028808481 | X159: =IFERROR(P159/J159,0) -> 0.031167109 | Y159: =IFERROR((X159-W159)*100,0) -> 0.23586275 | Z159: =IFERROR(AE159/AC159,0) -> 0.91167799 | AA159: =IFERROR(AF159/($AG159+AD159),0) -> 0.92454796 | AB159: =IFERROR((AA159-Z159)*100,0) -> 1.2869969 | AC159: =SUMIFS(E$88:E$159,$C$88:$C$159,$C159,$D$88:$D$159,"<="&$D159) -> 71228 | AD159: =SUMIFS(F$88:F$159,$C$88:$C$159,$C159,$D$88:$D$159,"<="&$D159) -> 74401 | AE159: =SUMIFS(I$88:I$159,$C$88:$C$159,$C159,$D$88:$D$159,"<="&$D159) -> 64937 | AF159: =SUMIFS(J$88:J$159,$C$88:$C$159,$C159,$D$88:$D$159,"<="&$D159) -> 72761 | AG159: =SUMIFS(M$88:M$159,$C$88:$C$159,$C159,$D$88:$D$159,12) -> 4298
B160: =C160 -> France | C160: France | E160: =SUMIF($C$88:$C$159,$C160,E$88:E$159) -> 78871 | F160: =SUMIF($C$88:$C$159,$C160,F$88:F$159) -> 81631 | G160: =SUMIF($C$88:$C$159,$C160,G$88:G$159) -> 38621590 | H160: =SUMIF($C$88:$C$159,$C160,H$88:H$159) -> 41334010 | I160: =SUMIF($C$88:$C$159,$C160,I$88:I$159) -> 71077 | J160: =SUMIF($C$88:$C$159,$C160,J$88:J$159) -> 80250 | K160: =SUMIF($C$88:$C$159,$C160,K$88:K$159) -> 85101950 | L160: =SUMIF($C$88:$C$159,$C160,L$88:L$159) -> 100357300 | ... P160: =SUMIF($C$88:$C$159,$C160,P$88:P$159) -> 2433 | Q160: =IFERROR(F160/E160-1,0) -> 0.034993851 | R160: =IFERROR(H160/G160-1,0) -> 0.070230666 | S160: =IFERROR(J160/I160-1,0) -> 0.12905722 | T160: =IFERROR(L160/K160-1,0) -> 0.1792597 | U160: =IFERROR(N160/M160-1,0) -> 0.034817033 | V160: =IFERROR(P160/O160-1,0) -> 0.12847866 | W160: =IFERROR(O160/I160,0) -> 0.030333301 | X160: =IFERROR(P160/J160,0) -> 0.030317757 | Y160: =IFERROR((X160-W160)*100,0) -> -0.0015543496 | Z160: =IFERROR(AE160/AC160,0) -> 0.90118041 | AA160: =IFERROR(AF160/($AG160+AD160),0) -> 0.91957052 | AB160: =IFERROR((AA160-Z160)*100,0) -> 1.8390115 | AC160: =SUMIFS(E$88:E$159,$C$88:$C$159,$C160) -> 78871 | AD160: =SUMIFS(F$88:F$159,$C$88:$C$159,$C160) -> 81631 | AE160: =SUMIFS(I$88:I$159,$C$88:$C$159,$C160) -> 71077 | AF160: =SUMIFS(J$88:J$159,$C$88:$C$159,$C160) -> 80250 | AG160: =SUMIFS(M$88:M$159,$C$88:$C$159,$C160,$D$88:$D$159,12) -> 5638
B161: =C161 -> Germany | C161: Germany | E161: =SUMIF($C$88:$C$159,$C161,E$88:E$159) -> 81762 | F161: =SUMIF($C$88:$C$159,$C161,F$88:F$159) -> 82705 | G161: =SUMIF($C$88:$C$159,$C161,G$88:G$159) -> 39425340 | H161: =SUMIF($C$88:$C$159,$C161,H$88:H$159) -> 41048180 | I161: =SUMIF($C$88:$C$159,$C161,I$88:I$159) -> 73062 | J161: =SUMIF($C$88:$C$159,$C161,J$88:J$159) -> 76217 | K161: =SUMIF($C$88:$C$159,$C161,K$88:K$159) -> 85741830 | L161: =SUMIF($C$88:$C$159,$C161,L$88:L$159) -> 91877120 | ... P161: =SUMIF($C$88:$C$159,$C161,P$88:P$159) -> 2930 | Q161: =IFERROR(F161/E161-1,0) -> 0.011533475 | R161: =IFERROR(H161/G161-1,0) -> 0.041162359 | S161: =IFERROR(J161/I161-1,0) -> 0.043182503 | T161: =IFERROR(L161/K161-1,0) -> 0.071555389 | U161: =IFERROR(N161/M161-1,0) -> 0.3595054 | V161: =IFERROR(P161/O161-1,0) -> 0.041592606 | W161: =IFERROR(O161/I161,0) -> 0.038501547 | X161: =IFERROR(P161/J161,0) -> 0.038442867 | Y161: =IFERROR((X161-W161)*100,0) -> -0.0058679555 | Z161: =IFERROR(AE161/AC161,0) -> 0.8935936 | AA161: =IFERROR(AF161/($AG161+AD161),0) -> 0.8603147 | AB161: =IFERROR((AA161-Z161)*100,0) -> -3.32789 | AC161: =SUMIFS(E$88:E$159,$C$88:$C$159,$C161) -> 81762 | AD161: =SUMIFS(F$88:F$159,$C$88:$C$159,$C161) -> 82705 | AE161: =SUMIFS(I$88:I$159,$C$88:$C$159,$C161) -> 73062 | AF161: =SUMIFS(J$88:J$159,$C$88:$C$159,$C161) -> 76217 | AG161: =SUMIFS(M$88:M$159,$C$88:$C$159,$C161,$D$88:$D$159,12) -> 5887
B162: =C162 -> Italy | C162: Italy | E162: =SUMIF($C$88:$C$159,$C162,E$88:E$159) -> 73399 | F162: =SUMIF($C$88:$C$159,$C162,F$88:F$159) -> 75121 | G162: =SUMIF($C$88:$C$159,$C162,G$88:G$159) -> 35183550 | H162: =SUMIF($C$88:$C$159,$C162,H$88:H$159) -> 37334350 | I162: =SUMIF($C$88:$C$159,$C162,I$88:I$159) -> 64787 | J162: =SUMIF($C$88:$C$159,$C162,J$88:J$159) -> 73123 | K162: =SUMIF($C$88:$C$159,$C162,K$88:K$159) -> 75708770 | L162: =SUMIF($C$88:$C$159,$C162,L$88:L$159) -> 89280690 | ... P162: =SUMIF($C$88:$C$159,$C162,P$88:P$159) -> 2111 | Q162: =IFERROR(F162/E162-1,0) -> 0.02346081 | R162: =IFERROR(H162/G162-1,0) -> 0.061130841 | S162: =IFERROR(J162/I162-1,0) -> 0.12866779 | T162: =IFERROR(L162/K162-1,0) -> 0.17926483 | U162: =IFERROR(N162/M162-1,0) -> 0.13874663 | V162: =IFERROR(P162/O162-1,0) -> 0.19468025 | W162: =IFERROR(O162/I162,0) -> 0.02727399 | X162: =IFERROR(P162/J162,0) -> 0.028869166 | Y162: =IFERROR((X162-W162)*100,0) -> 0.15951755 | Z162: =IFERROR(AE162/AC162,0) -> 0.8826687 | AA162: =IFERROR(AF162/($AG162+AD162),0) -> 0.8921138 | AB162: =IFERROR((AA162-Z162)*100,0) -> 0.94451021 | AC162: =SUMIFS(E$88:E$159,$C$88:$C$159,$C162) -> 73399 | AD162: =SUMIFS(F$88:F$159,$C$88:$C$159,$C162) -> 75121 | AE162: =SUMIFS(I$88:I$159,$C$88:$C$159,$C162) -> 64787 | AF162: =SUMIFS(J$88:J$159,$C$88:$C$159,$C162) -> 73123 | AG162: =SUMIFS(M$88:M$159,$C$88:$C$159,$C162,$D$88:$D$159,12) -> 6845
B163: =C163 -> Spain | C163: Spain | E163: =SUMIF($C$88:$C$159,$C163,E$88:E$159) -> 48954 | F163: =SUMIF($C$88:$C$159,$C163,F$88:F$159) -> 47610 | G163: =SUMIF($C$88:$C$159,$C163,G$88:G$159) -> 26294440 | H163: =SUMIF($C$88:$C$159,$C163,H$88:H$159) -> 25738720 | I163: =SUMIF($C$88:$C$159,$C163,I$88:I$159) -> 39663 | J163: =SUMIF($C$88:$C$159,$C163,J$88:J$159) -> 42272 | K163: =SUMIF($C$88:$C$159,$C163,K$88:K$159) -> 52769090 | L163: =SUMIF($C$88:$C$159,$C163,L$88:L$159) -> 55987170 | ... P163: =SUMIF($C$88:$C$159,$C163,P$88:P$159) -> 2470 | Q163: =IFERROR(F163/E163-1,0) -> -0.027454345 | R163: =IFERROR(H163/G163-1,0) -> -0.021134506 | S163: =IFERROR(J163/I163-1,0) -> 0.06577919 | T163: =IFERROR(L163/K163-1,0) -> 0.060984186 | U163: =IFERROR(N163/M163-1,0) -> 0.48879481 | V163: =IFERROR(P163/O163-1,0) -> 0.013541239 | W163: =IFERROR(O163/I163,0) -> 0.061442654 | X163: =IFERROR(P163/J163,0) -> 0.058431113 | Y163: =IFERROR((X163-W163)*100,0) -> -0.30115416 | Z163: =IFERROR(AE163/AC163,0) -> 0.81020958 | AA163: =IFERROR(AF163/($AG163+AD163),0) -> 0.77614571 | AB163: =IFERROR((AA163-Z163)*100,0) -> -3.4063874 | AC163: =SUMIFS(E$88:E$159,$C$88:$C$159,$C163) -> 48954 | AD163: =SUMIFS(F$88:F$159,$C$88:$C$159,$C163) -> 47610 | AE163: =SUMIFS(I$88:I$159,$C$88:$C$159,$C163) -> 39663 | AF163: =SUMIFS(J$88:J$159,$C$88:$C$159,$C163) -> 42272 | AG163: =SUMIFS(M$88:M$159,$C$88:$C$159,$C163,$D$88:$D$159,12) -> 6854
B164: =C164 -> Sweden | C164: Sweden | E164: =SUMIF($C$88:$C$159,$C164,E$88:E$159) -> 41922 | F164: =SUMIF($C$88:$C$159,$C164,F$88:F$159) -> 39331 | G164: =SUMIF($C$88:$C$159,$C164,G$88:G$159) -> 22538000 | H164: =SUMIF($C$88:$C$159,$C164,H$88:H$159) -> 21179130 | I164: =SUMIF($C$88:$C$159,$C164,I$88:I$159) -> 37385 | J164: =SUMIF($C$88:$C$159,$C164,J$88:J$159) -> 35795 | K164: =SUMIF($C$88:$C$159,$C164,K$88:K$159) -> 49346150 | L164: =SUMIF($C$88:$C$159,$C164,L$88:L$159) -> 48086590 | ... P164: =SUMIF($C$88:$C$159,$C164,P$88:P$159) -> 1075 | Q164: =IFERROR(F164/E164-1,0) -> -0.061805257 | R164: =IFERROR(H164/G164-1,0) -> -0.060292395 | S164: =IFERROR(J164/I164-1,0) -> -0.042530427 | T164: =IFERROR(L164/K164-1,0) -> -0.02552499 | U164: =IFERROR(N164/M164-1,0) -> 0.011752441 | V164: =IFERROR(P164/O164-1,0) -> -0.046140195 | W164: =IFERROR(O164/I164,0) -> 0.03014578 | X164: =IFERROR(P164/J164,0) -> 0.030032127 | Y164: =IFERROR((X164-W164)*100,0) -> -0.0113653 | Z164: =IFERROR(AE164/AC164,0) -> 0.8917752 | AA164: =IFERROR(AF164/($AG164+AD164),0) -> 0.83748625 | AB164: =IFERROR((AA164-Z164)*100,0) -> -5.4288947 | AC164: =SUMIFS(E$88:E$159,$C$88:$C$159,$C164) -> 41922 | AD164: =SUMIFS(F$88:F$159,$C$88:$C$159,$C164) -> 39331 | AE164: =SUMIFS(I$88:I$159,$C$88:$C$159,$C164) -> 37385 | AF164: =SUMIFS(J$88:J$159,$C$88:$C$159,$C164) -> 35795 | AG164: =SUMIFS(M$88:M$159,$C$88:$C$159,$C164,$D$88:$D$159,12) -> 3410
B165: =C165 -> United Kingdom | C165: United Kingdom | E165: =SUMIF($C$88:$C$159,$C165,E$88:E$159) -> 71228 | F165: =SUMIF($C$88:$C$159,$C165,F$88:F$159) -> 74401 | G165: =SUMIF($C$88:$C$159,$C165,G$88:G$159) -> 34288020 | H165: =SUMIF($C$88:$C$159,$C165,H$88:H$159) -> 37436190 | I165: =SUMIF($C$88:$C$159,$C165,I$88:I$159) -> 64937 | J165: =SUMIF($C$88:$C$159,$C165,J$88:J$159) -> 72761 | K165: =SUMIF($C$88:$C$159,$C165,K$88:K$159) -> 76325860 | L165: =SUMIF($C$88:$C$159,$C165,L$88:L$159) -> 90383910 | ... P165: =SUMIF($C$88:$C$159,$C165,P$88:P$159) -> 2146 | Q165: =IFERROR(F165/E165-1,0) -> 0.044547088 | R165: =IFERROR(H165/G165-1,0) -> 0.09181545 | S165: =IFERROR(J165/I165-1,0) -> 0.12048601 | T165: =IFERROR(L165/K165-1,0) -> 0.18418463 | U165: =IFERROR(N165/M165-1,0) -> 0.040963698 | V165: =IFERROR(P165/O165-1,0) -> 0.07676869 | W165: =IFERROR(O165/I165,0) -> 0.030691285 | X165: =IFERROR(P165/J165,0) -> 0.029493822 | Y165: =IFERROR((X165-W165)*100,0) -> -0.11974632 | Z165: =IFERROR(AE165/AC165,0) -> 0.91167799 | AA165: =IFERROR(AF165/($AG165+AD165),0) -> 0.92454796 | AB165: =IFERROR((AA165-Z165)*100,0) -> 1.2869969 | AC165: =SUMIFS(E$88:E$159,$C$88:$C$159,$C165) -> 71228 | AD165: =SUMIFS(F$88:F$159,$C$88:$C$159,$C165) -> 74401 | AE165: =SUMIFS(I$88:I$159,$C$88:$C$159,$C165) -> 64937 | AF165: =SUMIFS(J$88:J$159,$C$88:$C$159,$C165) -> 72761 | AG165: =SUMIFS(M$88:M$159,$C$88:$C$159,$C165,$D$88:$D$159,12) -> 4298
B166: =C166 -> TOTAL | C166: TOTAL | E166: =SUM(E160:E165) -> 396136 | F166: =SUM(F160:F165) -> 400799 | G166: =SUM(G160:G165) -> 196350940 | H166: =SUM(H160:H165) -> 204070580 | I166: =SUM(I160:I165) -> 350911 | J166: =SUM(J160:J165) -> 380418 | K166: =SUM(K160:K165) -> 424993650 | L166: =SUM(L160:L165) -> 475972780 | ... P166: =SUM(P160:P165) -> 13165 | Q166: =IFERROR(F166/E166-1,0) -> 0.01177121 | R166: =IFERROR(H166/G166-1,0) -> 0.039315524 | S166: =IFERROR(J166/I166-1,0) -> 0.084086848 | T166: =IFERROR(L166/K166-1,0) -> 0.11995269 | U166: =IFERROR(N166/M166-1,0) -> 0.1751202 | V166: =IFERROR(P166/O166-1,0) -> 0.070934678 | W166: =IFERROR(O166/I166,0) -> 0.035031675 | X166: =IFERROR(P166/J166,0) -> 0.03460667 | Y166: =IFERROR((X166-W166)*100,0) -> -0.042500519 | Z166: =IFERROR(AE166/AC166,0) -> 0.88583466 | AA166: =IFERROR(AF166/($AG166+AD166),0) -> 0.8770828 | AB166: =IFERROR((AA166-Z166)*100,0) -> -0.87518627 | AC166: =SUM(AC160:AC165) -> 396136 | AD166: =SUM(AD160:AD165) -> 400799 | AE166: =SUM(AE160:AE165) -> 350911 | AF166: =SUM(AF160:AF165) -> 380418 | AG166: =SUM(AG160:AG165) -> 32932
E171: Values | F171: Year
E172: Sum of Sell-In Units | G172: Sum of Sell-In Value (CHF) | I172: Sum of Sell-Out Units | K172: Sum of Sell-Out Value (CHF) | M172: Sum of Stock Units | O172: Sum of Returns Units | Q172: SELL-IN UNITS | R172: SELL-IN VALUE | S172: SELL-OUT UNITS | T172: SELL-OUT VALUE | U172: STOCK UNITS | V172: RETURNS UNITS | W172: RETURNS UNITS ON SELLOUT | X172: RETURNS UNITS ON SELLOUT | Y172: RETURNS UNITS ON SELLOUT | Z172: SELL-THROUGH | AA172: SELL-THROUGH | AB172: SELL-THROUGH | AC172: CUM SELL-IN UNITS | AD172: CUM SELL-IN UNITS | AE172: CUM SELL-OUT UNITS | AF172: CUM SELL-OUT UNITS | AG172: OPENING STOCK 1 JAN
C173: Region | D173: Month # | E173: 2024 | F173: 2025 | G173: 2024 | H173: 2025 | I173: 2024 | J173: 2025 | K173: 2024 | L173: 2025 | M173: 2024 | N173: 2025 | O173: 2024 | P173: 2025 | Q173: vs LY | R173: vs LY | S173: vs LY | T173: vs LY | U173: vs LY | V173: vs LY | W173: 2024 | X173: 2025 | Y173: vs LY ppts | Z173: 2024 | AA173: 2025 | AB173: vs LY ppts | AC173: 2024 | AD173: 2025 | AE173: 2024 | AF173: 2025 | AG173: 2025
C174: DACH | D174: 1 | E174: 0 | F174: 0 | G174: 0 | H174: 0 | I174: 0 | J174: 1297 | K174: 0 | L174: 1545590 | M174: 0 | N174: 4524 | O174: 0 | P174: 66 | Q174: =IFERROR(F174/E174-1,0) -> 0 | R174: =IFERROR(H174/G174-1,0) -> 0 | S174: =IFERROR(J174/I174-1,0) -> 0 | T174: =IFERROR(L174/K174-1,0) -> 0 | U174: =IFERROR(N174/M174-1,0) -> 0 | V174: =IFERROR(P174/O174-1,0) -> 0 | W174: =IFERROR(O174/I174,0) -> 0 | X174: =IFERROR(P174/J174,0) -> 0.050886662 | Y174: =IFERROR((X174-W174)*100,0) -> 5.0886662 | Z174: =IFERROR(AE174/AC174,0) -> 0 | AA174: =IFERROR(AF174/($AG174+AD174),0) -> 0.22031595 | AB174: =IFERROR((AA174-Z174)*100,0) -> 22.031595 | AC174: =SUMIFS(E$174:E$245,$C$174:$C$245,$C174,$D$174:$D$245,"<="&$D174) -> 0 | AD174: =SUMIFS(F$174:F$245,$C$174:$C$245,$C174,$D$174:$D$245,"<="&$D174) -> 0 | AE174: =SUMIFS(I$174:I$245,$C$174:$C$245,$C174,$D$174:$D$245,"<="&$D174) -> 0 | AF174: =SUMIFS(J$174:J$245,$C$174:$C$245,$C174,$D$174:$D$245,"<="&$D174) -> 1297 | AG174: =SUMIFS(M$174:M$245,$C$174:$C$245,$C174,$D$174:$D$245,12) -> 5887
C175: DACH | D175: 2 | E175: 6254 | F175: 10282 | G175: 3335510 | H175: 4952760 | I175: 1876 | J175: 4001 | K175: 2411390 | L175: 4613650 | M175: 4273 | N175: 10647 | O175: 105 | P175: 158 | Q175: =IFERROR(F175/E175-1,0) -> 0.6440678 | R175: =IFERROR(H175/G175-1,0) -> 0.48485839 | S175: =IFERROR(J175/I175-1,0) -> 1.1327292 | T175: =IFERROR(L175/K175-1,0) -> 0.91327409 | U175: =IFERROR(N175/M175-1,0) -> 1.491692 | V175: =IFERROR(P175/O175-1,0) -> 0.5047619 | W175: =IFERROR(O175/I175,0) -> 0.055970149 | X175: =IFERROR(P175/J175,0) -> 0.039490127 | Y175: =IFERROR((X175-W175)*100,0) -> -1.6480022 | Z175: =IFERROR(AE175/AC175,0) -> 0.29996802 | AA175: =IFERROR(AF175/($AG175+AD175),0) -> 0.32766405 | AB175: =IFERROR((AA175-Z175)*100,0) -> 2.7696028 | AC175: =SUMIFS(E$174:E$245,$C$174:$C$245,$C175,$D$174:$D$245,"<="&$D175) -> 6254 | AD175: =SUMIFS(F$174:F$245,$C$174:$C$245,$C175,$D$174:$D$245,"<="&$D175) -> 10282 | AE175: =SUMIFS(I$174:I$245,$C$174:$C$245,$C175,$D$174:$D$245,"<="&$D175) -> 1876 | AF175: =SUMIFS(J$174:J$245,$C$174:$C$245,$C175,$D$174:$D$245,"<="&$D175) -> 5298 | AG175: =SUMIFS(M$174:M$245,$C$174:$C$245,$C175,$D$174:$D$245,12) -> 5887
C176: DACH | D176: 3 | E176: 18077 | F176: 13181 | G176: 8417630 | H176: 6069790 | I176: 8023 | J176: 7871 | K176: 9414820 | L176: 8981180 | M176: 14069 | N176: 15660 | O176: 258 | P176: 297 | Q176: =IFERROR(F176/E176-1,0) -> -0.2708414 | R176: =IFERROR(H176/G176-1,0) -> -0.27891936 | S176: =IFERROR(J176/I176-1,0) -> -0.018945532 | T176: =IFERROR(L176/K176-1,0) -> -0.046059298 | U176: =IFERROR(N176/M176-1,0) -> 0.11308551 | V176: =IFERROR(P176/O176-1,0) -> 0.15116279 | W176: =IFERROR(O176/I176,0) -> 0.032157547 | X176: =IFERROR(P176/J176,0) -> 0.037733452 | Y176: =IFERROR((X176-W176)*100,0) -> 0.55759049 | Z176: =IFERROR(AE176/AC176,0) -> 0.40684723 | AA176: =IFERROR(AF176/($AG176+AD176),0) -> 0.44868825 | AB176: =IFERROR((AA176-Z176)*100,0) -> 4.1841013 | AC176: =SUMIFS(E$174:E$245,$C$174:$C$245,$C176,$D$174:$D$245,"<="&$D176) -> 24331 | AD176: =SUMIFS(F$174:F$245,$C$174:$C$245,$C176,$D$174:$D$245,"<="&$D176) -> 23463 | AE176: =SUMIFS(I$174:I$245,$C$174:$C$245,$C176,$D$174:$D$245,"<="&$D176) -> 9899 | AF176: =SUMIFS(J$174:J$245,$C$174:$C$245,$C176,$D$174:$D$245,"<="&$D176) -> 13169 | AG176: =SUMIFS(M$174:M$245,$C$174:$C$245,$C176,$D$174:$D$245,12) -> 5887
C177: DACH | D177: 4 | E177: 14085 | F177: 14390 | G177: 7117560 | H177: 7482520 | I177: 10847 | J177: 10339 | K177: 12817800 | L177: 12147130 | M177: 16909 | N177: 19334 | O177: 398 | P177: 377 | Q177: =IFERROR(F177/E177-1,0) -> 0.021654242 | R177: =IFERROR(H177/G177-1,0) -> 0.051275999 | S177: =IFERROR(J177/I177-1,0) -> -0.046833226 | T177: =IFERROR(L177/K177-1,0) -> -0.052323332 | U177: =IFERROR(N177/M177-1,0) -> 0.14341475 | V177: =IFERROR(P177/O177-1,0) -> -0.052763819 | W177: =IFERROR(O177/I177,0) -> 0.036692173 | X177: =IFERROR(P177/J177,0) -> 0.036463875 | Y177: =IFERROR((X177-W177)*100,0) -> -0.02282983 | Z177: =IFERROR(AE177/AC177,0) -> 0.5400354 | AA177: =IFERROR(AF177/($AG177+AD177),0) -> 0.53744856 | AB177: =IFERROR((AA177-Z177)*100,0) -> -0.25868422 | AC177: =SUMIFS(E$174:E$245,$C$174:$C$245,$C177,$D$174:$D$245,"<="&$D177) -> 38416 | AD177: =SUMIFS(F$174:F$245,$C$174:$C$245,$C177,$D$174:$D$245,"<="&$D177) -> 37853 | AE177: =SUMIFS(I$174:I$245,$C$174:$C$245,$C177,$D$174:$D$245,"<="&$D177) -> 20746 | AF177: =SUMIFS(J$174:J$245,$C$174:$C$245,$C177,$D$174:$D$245,"<="&$D177) -> 23508 | AG177: =SUMIFS(M$174:M$245,$C$174:$C$245,$C177,$D$174:$D$245,12) -> 5887
C178: DACH | D178: 5 | E178: 0 | F178: 0 | G178: 0 | H178: 0 | I178: 6526 | J178: 6330 | K178: 7825760 | L178: 7550930 | M178: 10140 | N178: 12729 | O178: 243 | P178: 275 | Q178: =IFERROR(F178/E178-1,0) -> 0 | R178: =IFERROR(H178/G178-1,0) -> 0 | S178: =IFERROR(J178/I178-1,0) -> -0.030033711 | T178: =IFERROR(L178/K178-1,0) -> -0.035118634 | U178: =IFERROR(N178/M178-1,0) -> 0.25532544 | V178: =IFERROR(P178/O178-1,0) -> 0.13168724 | W178: =IFERROR(O178/I178,0) -> 0.037235673 | X178: =IFERROR(P178/J178,0) -> 0.043443918 | Y178: =IFERROR((X178-W178)*100,0) -> 0.62082452 | Z178: =IFERROR(AE178/AC178,0) -> 0.70991254 | AA178: =IFERROR(AF178/($AG178+AD178),0) -> 0.68216735 | AB178: =IFERROR((AA178-Z178)*100,0) -> -2.7745184 | AC178: =SUMIFS(E$174:E$245,$C$174:$C$245,$C178,$D$174:$D$245,"<="&$D178) -> 38416 | AD178: =SUMIFS(F$174:F$245,$C$174:$C$245,$C178,$D$174:$D$245,"<="&$D178) -> 37853 | AE178: =SUMIFS(I$174:I$245,$C$174:$C$245,$C178,$D$174:$D$245,"<="&$D178) -> 27272 | AF178: =SUMIFS(J$174:J$245,$C$174:$C$245,$C178,$D$174:$D$245,"<="&$D178) -> 29838 | AG178: =SUMIFS(M$174:M$245,$C$174:$C$245,$C178,$D$174:$D$245,12) -> 5887
C179: DACH | D179: 6 | E179: 0 | F179: 0 | G179: 0 | H179: 0 | I179: 4589 | J179: 4406 | K179: 5503020 | L179: 5495170 | M179: 5366 | N179: 8100 | O179: 185 | P179: 223 | Q179: =IFERROR(F179/E179-1,0) -> 0 | R179: =IFERROR(H179/G179-1,0) -> 0 | S179: =IFERROR(J179/I179-1,0) -> -0.039877969 | T179: =IFERROR(L179/K179-1,0) -> -0.0014264895 | U179: =IFERROR(N179/M179-1,0) -> 0.50950429 | V179: =IFERROR(P179/O179-1,0) -> 0.20540541 | W179: =IFERROR(O179/I179,0) -> 0.040313794 | X179: =IFERROR(P179/J179,0) -> 0.050612801 | Y179: =IFERROR((X179-W179)*100,0) -> 1.0299007 | Z179: =IFERROR(AE179/AC179,0) -> 0.82936797 | AA179: =IFERROR(AF179/($AG179+AD179),0) -> 0.78289895 | AB179: =IFERROR((AA179-Z179)*100,0) -> -4.6469023 | AC179: =SUMIFS(E$174:E$245,$C$174:$C$245,$C179,$D$174:$D$245,"<="&$D179) -> 38416 | AD179: =SUMIFS(F$174:F$245,$C$174:$C$245,$C179,$D$174:$D$245,"<="&$D179) -> 37853 | AE179: =SUMIFS(I$174:I$245,$C$174:$C$245,$C179,$D$174:$D$245,"<="&$D179) -> 31861 | AF179: =SUMIFS(J$174:J$245,$C$174:$C$245,$C179,$D$174:$D$245,"<="&$D179) -> 34244 | AG179: =SUMIFS(M$174:M$245,$C$174:$C$245,$C179,$D$174:$D$245,12) -> 5887
C180: DACH | D180: 7 | E180: 0 | F180: 0 | G180: 0 | H180: 0 | I180: 2275 | J180: 2375 | K180: 2786310 | L180: 2956640 | M180: 2970 | N180: 5604 | O180: 121 | P180: 121 | Q180: =IFERROR(F180/E180-1,0) -> 0 | R180: =IFERROR(H180/G180-1,0) -> 0 | S180: =IFERROR(J180/I180-1,0) -> 0.043956044 | T180: =IFERROR(L180/K180-1,0) -> 0.06113103 | U180: =IFERROR(N180/M180-1,0) -> 0.88686869 | V180: =IFERROR(P180/O180-1,0) -> 0 | W180: =IFERROR(O180/I180,0) -> 0.053186813 | X180: =IFERROR(P180/J180,0) -> 0.050947368 | Y180: =IFERROR((X180-W180)*100,0) -> -0.22394448 | Z180: =IFERROR(AE180/AC180,0) -> 0.88858809 | AA180: =IFERROR(AF180/($AG180+AD180),0) -> 0.83719707 | AB180: =IFERROR((AA180-Z180)*100,0) -> -5.1391015 | AC180: =SUMIFS(E$174:E$245,$C$174:$C$245,$C180,$D$174:$D$245,"<="&$D180) -> 38416 | AD180: =SUMIFS(F$174:F$245,$C$174:$C$245,$C180,$D$174:$D$245,"<="&$D180) -> 37853 | AE180: =SUMIFS(I$174:I$245,$C$174:$C$245,$C180,$D$174:$D$245,"<="&$D180) -> 34136 | AF180: =SUMIFS(J$174:J$245,$C$174:$C$245,$C180,$D$174:$D$245,"<="&$D180) -> 36619 | AG180: =SUMIFS(M$174:M$245,$C$174:$C$245,$C180,$D$174:$D$245,12) -> 5887
C181: DACH | D181: 8 | E181: 11210 | F181: 13668 | G181: 4817580 | H181: 6453530 | I181: 4749 | J181: 5606 | K181: 5102770 | L181: 6602000 | M181: 9272 | N181: 13480 | O181: 159 | P181: 186 | Q181: =IFERROR(F181/E181-1,0) -> 0.21926851 | R181: =IFERROR(H181/G181-1,0) -> 0.33957921 | S181: =IFERROR(J181/I181-1,0) -> 0.18045904 | T181: =IFERROR(L181/K181-1,0) -> 0.29380709 | U181: =IFERROR(N181/M181-1,0) -> 0.45383952 | V181: =IFERROR(P181/O181-1,0) -> 0.16981132 | W181: =IFERROR(O181/I181,0) -> 0.033480733 | X181: =IFERROR(P181/J181,0) -> 0.033178737 | Y181: =IFERROR((X181-W181)*100,0) -> -0.030199572 | Z181: =IFERROR(AE181/AC181,0) -> 0.78356104 | AA181: =IFERROR(AF181/($AG181+AD181),0) -> 0.73552467 | AB181: =IFERROR((AA181-Z181)*100,0) -> -4.8036371 | AC181: =SUMIFS(E$174:E$245,$C$174:$C$245,$C181,$D$174:$D$245,"<="&$D181) -> 49626 | AD181: =SUMIFS(F$174:F$245,$C$174:$C$245,$C181,$D$174:$D$245,"<="&$D181) -> 51521 | AE181: =SUMIFS(I$174:I$245,$C$174:$C$245,$C181,$D$174:$D$245,"<="&$D181) -> 38885 | AF181: =SUMIFS(J$174:J$245,$C$174:$C$245,$C181,$D$174:$D$245,"<="&$D181) -> 42225 | AG181: =SUMIFS(M$174:M$245,$C$174:$C$245,$C181,$D$174:$D$245,12) -> 5887
C182: DACH | D182: 9 | E182: 15407 | F182: 17066 | G182: 8377860 | H182: 9226810 | I182: 9041 | J182: 10223 | K182: 11124650 | L182: 12932290 | M182: 15309 | N182: 19975 | O182: 329 | P182: 348 | Q182: =IFERROR(F182/E182-1,0) -> 0.10767833 | R182: =IFERROR(H182/G182-1,0) -> 0.10133256 | S182: =IFERROR(J182/I182-1,0) -> 0.13073775 | T182: =IFERROR(L182/K182-1,0) -> 0.16248961 | U182: =IFERROR(N182/M182-1,0) -> 0.30478803 | V182: =IFERROR(P182/O182-1,0) -> 0.05775076 | W182: =IFERROR(O182/I182,0) -> 0.03638978 | X182: =IFERROR(P182/J182,0) -> 0.034040888 | Y182: =IFERROR((X182-W182)*100,0) -> -0.23488917 | Z182: =IFERROR(AE182/AC182,0) -> 0.73694893 | AA182: =IFERROR(AF182/($AG182+AD182),0) -> 0.70424578 | AB182: =IFERROR((AA182-Z182)*100,0) -> -3.2703157 | AC182: =SUMIFS(E$174:E$245,$C$174:$C$245,$C182,$D$174:$D$245,"<="&$D182) -> 65033 | AD182: =SUMIFS(F$174:F$245,$C$174:$C$245,$C182,$D$174:$D$245,"<="&$D182) -> 68587 | AE182: =SUMIFS(I$174:I$245,$C$174:$C$245,$C182,$D$174:$D$245,"<="&$D182) -> 47926 | AF182: =SUMIFS(J$174:J$245,$C$174:$C$245,$C182,$D$174:$D$245,"<="&$D182) -> 52448 | AG182: =SUMIFS(M$174:M$245,$C$174:$C$245,$C182,$D$174:$D$245,12) -> 5887
C183: DACH | D183: 10 | E183: 16729 | F183: 14118 | G183: 7359200 | H183: 6862770 | I183: 12258 | J183: 11928 | K183: 14080740 | L183: 14412420 | M183: 19322 | N183: 21756 | O183: 458 | P183: 409 | Q183: =IFERROR(F183/E183-1,0) -> -0.15607627 | R183: =IFERROR(H183/G183-1,0) -> -0.067457061 | S183: =IFERROR(J183/I183-1,0) -> -0.026921194 | T183: =IFERROR(L183/K183-1,0) -> 0.02355558 | U183: =IFERROR(N183/M183-1,0) -> 0.1259704 | V183: =IFERROR(P183/O183-1,0) -> -0.1069869 | W183: =IFERROR(O183/I183,0) -> 0.037363355 | X183: =IFERROR(P183/J183,0) -> 0.034289068 | Y183: =IFERROR((X183-W183)*100,0) -> -0.30742868 | Z183: =IFERROR(AE183/AC183,0) -> 0.73608767 | AA183: =IFERROR(AF183/($AG183+AD183),0) -> 0.72665703 | AB183: =IFERROR((AA183-Z183)*100,0) -> -0.94306346 | AC183: =SUMIFS(E$174:E$245,$C$174:$C$245,$C183,$D$174:$D$245,"<="&$D183) -> 81762 | AD183: =SUMIFS(F$174:F$245,$C$174:$C$245,$C183,$D$174:$D$245,"<="&$D183) -> 82705 | AE183: =SUMIFS(I$174:I$245,$C$174:$C$245,$C183,$D$174:$D$245,"<="&$D183) -> 60184 | AF183: =SUMIFS(J$174:J$245,$C$174:$C$245,$C183,$D$174:$D$245,"<="&$D183) -> 64376 | AG183: =SUMIFS(M$174:M$245,$C$174:$C$245,$C183,$D$174:$D$245,12) -> 5887
C184: DACH | D184: 11 | E184: 0 | F184: 0 | G184: 0 | H184: 0 | I184: 8304 | J184: 7482 | K184: 9362210 | L184: 9179620 | M184: 10676 | N184: 13992 | O184: 342 | P184: 282 | Q184: =IFERROR(F184/E184-1,0) -> 0 | R184: =IFERROR(H184/G184-1,0) -> 0 | S184: =IFERROR(J184/I184-1,0) -> -0.098988439 | T184: =IFERROR(L184/K184-1,0) -> -0.019502874 | U184: =IFERROR(N184/M184-1,0) -> 0.31060322 | V184: =IFERROR(P184/O184-1,0) -> -0.1754386 | W184: =IFERROR(O184/I184,0) -> 0.041184971 | X184: =IFERROR(P184/J184,0) -> 0.037690457 | Y184: =IFERROR((X184-W184)*100,0) -> -0.3494514 | Z184: =IFERROR(AE184/AC184,0) -> 0.83765074 | AA184: =IFERROR(AF184/($AG184+AD184),0) -> 0.81111161 | AB184: =IFERROR((AA184-Z184)*100,0) -> -2.653913 | AC184: =SUMIFS(E$174:E$245,$C$174:$C$245,$C184,$D$174:$D$245,"<="&$D184) -> 81762 | AD184: =SUMIFS(F$174:F$245,$C$174:$C$245,$C184,$D$174:$D$245,"<="&$D184) -> 82705 | AE184: =SUMIFS(I$174:I$245,$C$174:$C$245,$C184,$D$174:$D$245,"<="&$D184) -> 68488 | AF184: =SUMIFS(J$174:J$245,$C$174:$C$245,$C184,$D$174:$D$245,"<="&$D184) -> 71858 | AG184: =SUMIFS(M$174:M$245,$C$174:$C$245,$C184,$D$174:$D$245,12) -> 5887
C185: DACH | D185: 12 | E185: 0 | F185: 0 | G185: 0 | H185: 0 | I185: 4574 | J185: 4359 | K185: 5312360 | L185: 5460500 | M185: 5887 | N185: 9445 | O185: 215 | P185: 188 | Q185: =IFERROR(F185/E185-1,0) -> 0 | R185: =IFERROR(H185/G185-1,0) -> 0 | S185: =IFERROR(J185/I185-1,0) -> -0.04700481 | T185: =IFERROR(L185/K185-1,0) -> 0.027885911 | U185: =IFERROR(N185/M185-1,0) -> 0.60438254 | V185: =IFERROR(P185/O185-1,0) -> -0.1255814 | W185: =IFERROR(O185/I185,0) -> 0.04700481 | X185: =IFERROR(P185/J185,0) -> 0.043129158 | Y185: =IFERROR((X185-W185)*100,0) -> -0.38756517 | Z185: =IFERROR(AE185/AC185,0) -> 0.8935936 | AA185: =IFERROR(AF185/($AG185+AD185),0) -> 0.8603147 | AB185: =IFERROR((AA185-Z185)*100,0) -> -3.32789 | AC185: =SUMIFS(E$174:E$245,$C$174:$C$245,$C185,$D$174:$D$245,"<="&$D185) -> 81762 | AD185: =SUMIFS(F$174:F$245,$C$174:$C$245,$C185,$D$174:$D$245,"<="&$D185) -> 82705 | AE185: =SUMIFS(I$174:I$245,$C$174:$C$245,$C185,$D$174:$D$245,"<="&$D185) -> 73062 | AF185: =SUMIFS(J$174:J$245,$C$174:$C$245,$C185,$D$174:$D$245,"<="&$D185) -> 76217 | AG185: =SUMIFS(M$174:M$245,$C$174:$C$245,$C185,$D$174:$D$245,12) -> 5887
... C245: UK and Ireland | D245: 12 | E245: 0 | F245: 0 | G245: 0 | H245: 0 | I245: 4339 | J245: 4524 | K245: 5269220 | L245: 5665530 | M245: 4298 | N245: 3792 | O245: 125 | P245: 141 | Q245: =IFERROR(F245/E245-1,0) -> 0 | R245: =IFERROR(H245/G245-1,0) -> 0 | S245: =IFERROR(J245/I245-1,0) -> 0.042636552 | T245: =IFERROR(L245/K245-1,0) -> 0.075212271 | U245: =IFERROR(N245/M245-1,0) -> -0.11772918 | V245: =IFERROR(P245/O245-1,0) -> 0.128 | W245: =IFERROR(O245/I245,0) -> 0.028808481 | X245: =IFERROR(P245/J245,0) -> 0.031167109 | Y245: =IFERROR((X245-W245)*100,0) -> 0.23586275 | Z245: =IFERROR(AE245/AC245,0) -> 0.91167799 | AA245: =IFERROR(AF245/($AG245+AD245),0) -> 0.92454796 | AB245: =IFERROR((AA245-Z245)*100,0) -> 1.2869969 | AC245: =SUMIFS(E$174:E$245,$C$174:$C$245,$C245,$D$174:$D$245,"<="&$D245) -> 71228 | AD245: =SUMIFS(F$174:F$245,$C$174:$C$245,$C245,$D$174:$D$245,"<="&$D245) -> 74401 | AE245: =SUMIFS(I$174:I$245,$C$174:$C$245,$C245,$D$174:$D$245,"<="&$D245) -> 64937 | AF245: =SUMIFS(J$174:J$245,$C$174:$C$245,$C245,$D$174:$D$245,"<="&$D245) -> 72761 | AG245: =SUMIFS(M$174:M$245,$C$174:$C$245,$C245,$D$174:$D$245,12) -> 4298
B246: =C246 -> DACH | C246: DACH | E246: =SUMIF($C$174:$C$245,$C246,E$174:E$245) -> 81762 | F246: =SUMIF($C$174:$C$245,$C246,F$174:F$245) -> 82705 | G246: =SUMIF($C$174:$C$245,$C246,G$174:G$245) -> 39425340 | H246: =SUMIF($C$174:$C$245,$C246,H$174:H$245) -> 41048180 | I246: =SUMIF($C$174:$C$245,$C246,I$174:I$245) -> 73062 | J246: =SUMIF($C$174:$C$245,$C246,J$174:J$245) -> 76217 | K246: =SUMIF($C$174:$C$245,$C246,K$174:K$245) -> 85741830 | L246: =SUMIF($C$174:$C$245,$C246,L$174:L$245) -> 91877120 | ... P246: =SUMIF($C$174:$C$245,$C246,P$174:P$245) -> 2930 | Q246: =IFERROR(F246/E246-1,0) -> 0.011533475 | R246: =IFERROR(H246/G246-1,0) -> 0.041162359 | S246: =IFERROR(J246/I246-1,0) -> 0.043182503 | T246: =IFERROR(L246/K246-1,0) -> 0.071555389 | U246: =IFERROR(N246/M246-1,0) -> 0.3595054 | V246: =IFERROR(P246/O246-1,0) -> 0.041592606 | W246: =IFERROR(O246/I246,0) -> 0.038501547 | X246: =IFERROR(P246/J246,0) -> 0.038442867 | Y246: =IFERROR((X246-W246)*100,0) -> -0.0058679555 | Z246: =IFERROR(AE246/AC246,0) -> 0.8935936 | AA246: =IFERROR(AF246/($AG246+AD246),0) -> 0.8603147 | AB246: =IFERROR((AA246-Z246)*100,0) -> -3.32789 | AC246: =SUMIFS(E$174:E$245,$C$174:$C$245,$C246) -> 81762 | AD246: =SUMIFS(F$174:F$245,$C$174:$C$245,$C246) -> 82705 | AE246: =SUMIFS(I$174:I$245,$C$174:$C$245,$C246) -> 73062 | AF246: =SUMIFS(J$174:J$245,$C$174:$C$245,$C246) -> 76217 | AG246: =SUMIFS(M$174:M$245,$C$174:$C$245,$C246,$D$174:$D$245,12) -> 5887
B247: =C247 -> France and Benelux | C247: France and Benelux | E247: =SUMIF($C$174:$C$245,$C247,E$174:E$245) -> 78871 | F247: =SUMIF($C$174:$C$245,$C247,F$174:F$245) -> 81631 | G247: =SUMIF($C$174:$C$245,$C247,G$174:G$245) -> 38621590 | H247: =SUMIF($C$174:$C$245,$C247,H$174:H$245) -> 41334010 | I247: =SUMIF($C$174:$C$245,$C247,I$174:I$245) -> 71077 | J247: =SUMIF($C$174:$C$245,$C247,J$174:J$245) -> 80250 | K247: =SUMIF($C$174:$C$245,$C247,K$174:K$245) -> 85101950 | L247: =SUMIF($C$174:$C$245,$C247,L$174:L$245) -> 100357300 | ... P247: =SUMIF($C$174:$C$245,$C247,P$174:P$245) -> 2433 | Q247: =IFERROR(F247/E247-1,0) -> 0.034993851 | R247: =IFERROR(H247/G247-1,0) -> 0.070230666 | S247: =IFERROR(J247/I247-1,0) -> 0.12905722 | T247: =IFERROR(L247/K247-1,0) -> 0.1792597 | U247: =IFERROR(N247/M247-1,0) -> 0.034817033 | V247: =IFERROR(P247/O247-1,0) -> 0.12847866 | W247: =IFERROR(O247/I247,0) -> 0.030333301 | X247: =IFERROR(P247/J247,0) -> 0.030317757 | Y247: =IFERROR((X247-W247)*100,0) -> -0.0015543496 | Z247: =IFERROR(AE247/AC247,0) -> 0.90118041 | AA247: =IFERROR(AF247/($AG247+AD247),0) -> 0.91957052 | AB247: =IFERROR((AA247-Z247)*100,0) -> 1.8390115 | AC247: =SUMIFS(E$174:E$245,$C$174:$C$245,$C247) -> 78871 | AD247: =SUMIFS(F$174:F$245,$C$174:$C$245,$C247) -> 81631 | AE247: =SUMIFS(I$174:I$245,$C$174:$C$245,$C247) -> 71077 | AF247: =SUMIFS(J$174:J$245,$C$174:$C$245,$C247) -> 80250 | AG247: =SUMIFS(M$174:M$245,$C$174:$C$245,$C247,$D$174:$D$245,12) -> 5638
B248: =C248 -> Iberia | C248: Iberia | E248: =SUMIF($C$174:$C$245,$C248,E$174:E$245) -> 48954 | F248: =SUMIF($C$174:$C$245,$C248,F$174:F$245) -> 47610 | G248: =SUMIF($C$174:$C$245,$C248,G$174:G$245) -> 26294440 | H248: =SUMIF($C$174:$C$245,$C248,H$174:H$245) -> 25738720 | I248: =SUMIF($C$174:$C$245,$C248,I$174:I$245) -> 39663 | J248: =SUMIF($C$174:$C$245,$C248,J$174:J$245) -> 42272 | K248: =SUMIF($C$174:$C$245,$C248,K$174:K$245) -> 52769090 | L248: =SUMIF($C$174:$C$245,$C248,L$174:L$245) -> 55987170 | ... P248: =SUMIF($C$174:$C$245,$C248,P$174:P$245) -> 2470 | Q248: =IFERROR(F248/E248-1,0) -> -0.027454345 | R248: =IFERROR(H248/G248-1,0) -> -0.021134506 | S248: =IFERROR(J248/I248-1,0) -> 0.06577919 | T248: =IFERROR(L248/K248-1,0) -> 0.060984186 | U248: =IFERROR(N248/M248-1,0) -> 0.48879481 | V248: =IFERROR(P248/O248-1,0) -> 0.013541239 | W248: =IFERROR(O248/I248,0) -> 0.061442654 | X248: =IFERROR(P248/J248,0) -> 0.058431113 | Y248: =IFERROR((X248-W248)*100,0) -> -0.30115416 | Z248: =IFERROR(AE248/AC248,0) -> 0.81020958 | AA248: =IFERROR(AF248/($AG248+AD248),0) -> 0.77614571 | AB248: =IFERROR((AA248-Z248)*100,0) -> -3.4063874 | AC248: =SUMIFS(E$174:E$245,$C$174:$C$245,$C248) -> 48954 | AD248: =SUMIFS(F$174:F$245,$C$174:$C$245,$C248) -> 47610 | AE248: =SUMIFS(I$174:I$245,$C$174:$C$245,$C248) -> 39663 | AF248: =SUMIFS(J$174:J$245,$C$174:$C$245,$C248) -> 42272 | AG248: =SUMIFS(M$174:M$245,$C$174:$C$245,$C248,$D$174:$D$245,12) -> 6854
B249: =C249 -> Nordics and Baltics | C249: Nordics and Baltics | E249: =SUMIF($C$174:$C$245,$C249,E$174:E$245) -> 41922 | F249: =SUMIF($C$174:$C$245,$C249,F$174:F$245) -> 39331 | G249: =SUMIF($C$174:$C$245,$C249,G$174:G$245) -> 22538000 | H249: =SUMIF($C$174:$C$245,$C249,H$174:H$245) -> 21179130 | I249: =SUMIF($C$174:$C$245,$C249,I$174:I$245) -> 37385 | J249: =SUMIF($C$174:$C$245,$C249,J$174:J$245) -> 35795 | K249: =SUMIF($C$174:$C$245,$C249,K$174:K$245) -> 49346150 | L249: =SUMIF($C$174:$C$245,$C249,L$174:L$245) -> 48086590 | ... P249: =SUMIF($C$174:$C$245,$C249,P$174:P$245) -> 1075 | Q249: =IFERROR(F249/E249-1,0) -> -0.061805257 | R249: =IFERROR(H249/G249-1,0) -> -0.060292395 | S249: =IFERROR(J249/I249-1,0) -> -0.042530427 | T249: =IFERROR(L249/K249-1,0) -> -0.02552499 | U249: =IFERROR(N249/M249-1,0) -> 0.011752441 | V249: =IFERROR(P249/O249-1,0) -> -0.046140195 | W249: =IFERROR(O249/I249,0) -> 0.03014578 | X249: =IFERROR(P249/J249,0) -> 0.030032127 | Y249: =IFERROR((X249-W249)*100,0) -> -0.0113653 | Z249: =IFERROR(AE249/AC249,0) -> 0.8917752 | AA249: =IFERROR(AF249/($AG249+AD249),0) -> 0.83748625 | AB249: =IFERROR((AA249-Z249)*100,0) -> -5.4288947 | AC249: =SUMIFS(E$174:E$245,$C$174:$C$245,$C249) -> 41922 | AD249: =SUMIFS(F$174:F$245,$C$174:$C$245,$C249) -> 39331 | AE249: =SUMIFS(I$174:I$245,$C$174:$C$245,$C249) -> 37385 | AF249: =SUMIFS(J$174:J$245,$C$174:$C$245,$C249) -> 35795 | AG249: =SUMIFS(M$174:M$245,$C$174:$C$245,$C249,$D$174:$D$245,12) -> 3410
B250: =C250 -> Southern Europe | C250: Southern Europe | E250: =SUMIF($C$174:$C$245,$C250,E$174:E$245) -> 73399 | F250: =SUMIF($C$174:$C$245,$C250,F$174:F$245) -> 75121 | G250: =SUMIF($C$174:$C$245,$C250,G$174:G$245) -> 35183550 | H250: =SUMIF($C$174:$C$245,$C250,H$174:H$245) -> 37334350 | I250: =SUMIF($C$174:$C$245,$C250,I$174:I$245) -> 64787 | J250: =SUMIF($C$174:$C$245,$C250,J$174:J$245) -> 73123 | K250: =SUMIF($C$174:$C$245,$C250,K$174:K$245) -> 75708770 | L250: =SUMIF($C$174:$C$245,$C250,L$174:L$245) -> 89280690 | ... P250: =SUMIF($C$174:$C$245,$C250,P$174:P$245) -> 2111 | Q250: =IFERROR(F250/E250-1,0) -> 0.02346081 | R250: =IFERROR(H250/G250-1,0) -> 0.061130841 | S250: =IFERROR(J250/I250-1,0) -> 0.12866779 | T250: =IFERROR(L250/K250-1,0) -> 0.17926483 | U250: =IFERROR(N250/M250-1,0) -> 0.13874663 | V250: =IFERROR(P250/O250-1,0) -> 0.19468025 | W250: =IFERROR(O250/I250,0) -> 0.02727399 | X250: =IFERROR(P250/J250,0) -> 0.028869166 | Y250: =IFERROR((X250-W250)*100,0) -> 0.15951755 | Z250: =IFERROR(AE250/AC250,0) -> 0.8826687 | AA250: =IFERROR(AF250/($AG250+AD250),0) -> 0.8921138 | AB250: =IFERROR((AA250-Z250)*100,0) -> 0.94451021 | AC250: =SUMIFS(E$174:E$245,$C$174:$C$245,$C250) -> 73399 | AD250: =SUMIFS(F$174:F$245,$C$174:$C$245,$C250) -> 75121 | AE250: =SUMIFS(I$174:I$245,$C$174:$C$245,$C250) -> 64787 | AF250: =SUMIFS(J$174:J$245,$C$174:$C$245,$C250) -> 73123 | AG250: =SUMIFS(M$174:M$245,$C$174:$C$245,$C250,$D$174:$D$245,12) -> 6845
B251: =C251 -> UK and Ireland | C251: UK and Ireland | E251: =SUMIF($C$174:$C$245,$C251,E$174:E$245) -> 71228 | F251: =SUMIF($C$174:$C$245,$C251,F$174:F$245) -> 74401 | G251: =SUMIF($C$174:$C$245,$C251,G$174:G$245) -> 34288020 | H251: =SUMIF($C$174:$C$245,$C251,H$174:H$245) -> 37436190 | I251: =SUMIF($C$174:$C$245,$C251,I$174:I$245) -> 64937 | J251: =SUMIF($C$174:$C$245,$C251,J$174:J$245) -> 72761 | K251: =SUMIF($C$174:$C$245,$C251,K$174:K$245) -> 76325860 | L251: =SUMIF($C$174:$C$245,$C251,L$174:L$245) -> 90383910 | ... P251: =SUMIF($C$174:$C$245,$C251,P$174:P$245) -> 2146 | Q251: =IFERROR(F251/E251-1,0) -> 0.044547088 | R251: =IFERROR(H251/G251-1,0) -> 0.09181545 | S251: =IFERROR(J251/I251-1,0) -> 0.12048601 | T251: =IFERROR(L251/K251-1,0) -> 0.18418463 | U251: =IFERROR(N251/M251-1,0) -> 0.040963698 | V251: =IFERROR(P251/O251-1,0) -> 0.07676869 | W251: =IFERROR(O251/I251,0) -> 0.030691285 | X251: =IFERROR(P251/J251,0) -> 0.029493822 | Y251: =IFERROR((X251-W251)*100,0) -> -0.11974632 | Z251: =IFERROR(AE251/AC251,0) -> 0.91167799 | AA251: =IFERROR(AF251/($AG251+AD251),0) -> 0.92454796 | AB251: =IFERROR((AA251-Z251)*100,0) -> 1.2869969 | AC251: =SUMIFS(E$174:E$245,$C$174:$C$245,$C251) -> 71228 | AD251: =SUMIFS(F$174:F$245,$C$174:$C$245,$C251) -> 74401 | AE251: =SUMIFS(I$174:I$245,$C$174:$C$245,$C251) -> 64937 | AF251: =SUMIFS(J$174:J$245,$C$174:$C$245,$C251) -> 72761 | AG251: =SUMIFS(M$174:M$245,$C$174:$C$245,$C251,$D$174:$D$245,12) -> 4298
B252: =C252 -> TOTAL | C252: TOTAL | E252: =SUM(E246:E251) -> 396136 | F252: =SUM(F246:F251) -> 400799 | G252: =SUM(G246:G251) -> 196350940 | H252: =SUM(H246:H251) -> 204070580 | I252: =SUM(I246:I251) -> 350911 | J252: =SUM(J246:J251) -> 380418 | K252: =SUM(K246:K251) -> 424993650 | L252: =SUM(L246:L251) -> 475972780 | ... P252: =SUM(P246:P251) -> 13165 | Q252: =IFERROR(F252/E252-1,0) -> 0.01177121 | R252: =IFERROR(H252/G252-1,0) -> 0.039315524 | S252: =IFERROR(J252/I252-1,0) -> 0.084086848 | T252: =IFERROR(L252/K252-1,0) -> 0.11995269 | U252: =IFERROR(N252/M252-1,0) -> 0.1751202 | V252: =IFERROR(P252/O252-1,0) -> 0.070934678 | W252: =IFERROR(O252/I252,0) -> 0.035031675 | X252: =IFERROR(P252/J252,0) -> 0.03460667 | Y252: =IFERROR((X252-W252)*100,0) -> -0.042500519 | Z252: =IFERROR(AE252/AC252,0) -> 0.88583466 | AA252: =IFERROR(AF252/($AG252+AD252),0) -> 0.8770828 | AB252: =IFERROR((AA252-Z252)*100,0) -> -0.87518627 | AC252: =SUM(AC246:AC251) -> 396136 | AD252: =SUM(AD246:AD251) -> 400799 | AE252: =SUM(AE246:AE251) -> 350911 | AF252: =SUM(AF246:AF251) -> 380418 | AG252: =SUM(AG246:AG251) -> 32932
E262: Values | F262: Year
E263: Sum of Sell-In Units | G263: Sum of Sell-In Value (CHF) | I263: Sum of Sell-Out Units | K263: Sum of Sell-Out Value (CHF) | M263: Sum of Stock Units | O263: Sum of Returns Units | Q263: SELL-IN UNITS | R263: SELL-IN VALUE | S263: SELL-OUT UNITS | T263: SELL-OUT VALUE | U263: STOCK UNITS | V263: RETURNS UNITS | W263: RETURNS UNITS ON SELLOUT | X263: RETURNS UNITS ON SELLOUT | Y263: RETURNS UNITS ON SELLOUT | Z263: SELL-THROUGH | AA263: SELL-THROUGH | AB263: SELL-THROUGH | AC263: CUM SELL-IN UNITS | AD263: CUM SELL-IN UNITS | AE263: CUM SELL-OUT UNITS | AF263: CUM SELL-OUT UNITS | AG263: OPENING STOCK 1 JAN
C264: Product Name | D264: Month # | E264: 2024 | F264: 2025 | G264: 2024 | H264: 2025 | I264: 2024 | J264: 2025 | K264: 2024 | L264: 2025 | M264: 2024 | N264: 2025 | O264: 2024 | P264: 2025 | Q264: vs LY | R264: vs LY | S264: vs LY | T264: vs LY | U264: vs LY | V264: vs LY | W264: 2024 | X264: 2025 | Y264: vs LY ppts | Z264: 2024 | AA264: 2025 | AB264: vs LY ppts | AC264: 2024 | AD264: 2025 | AE264: 2024 | AF264: 2025 | AG264: 2025
C265: Aurore Ankle Boot | D265: 1 | E265: 0 | F265: 0 | G265: 0 | H265: 0 | I265: 0 | J265: 653 | K265: 0 | L265: 1162340 | M265: 0 | N265: 1930 | O265: 0 | P265: 20 | Q265: =IFERROR(F265/E265-1,0) -> 0 | R265: =IFERROR(H265/G265-1,0) -> 0 | S265: =IFERROR(J265/I265-1,0) -> 0 | T265: =IFERROR(L265/K265-1,0) -> 0 | U265: =IFERROR(N265/M265-1,0) -> 0 | V265: =IFERROR(P265/O265-1,0) -> 0 | W265: =IFERROR(O265/I265,0) -> 0 | X265: =IFERROR(P265/J265,0) -> 0.030627871 | Y265: =IFERROR((X265-W265)*100,0) -> 3.0627871 | Z265: =IFERROR(AE265/AC265,0) -> 0 | AA265: =IFERROR(AF265/($AG265+AD265),0) -> 0.25086439 | AB265: =IFERROR((AA265-Z265)*100,0) -> 25.086439 | AC265: =SUMIFS(E$265:E$432,$C$265:$C$432,$C265,$D$265:$D$432,"<="&$D265) -> 0 | AD265: =SUMIFS(F$265:F$432,$C$265:$C$432,$C265,$D$265:$D$432,"<="&$D265) -> 0 | AE265: =SUMIFS(I$265:I$432,$C$265:$C$432,$C265,$D$265:$D$432,"<="&$D265) -> 0 | AF265: =SUMIFS(J$265:J$432,$C$265:$C$432,$C265,$D$265:$D$432,"<="&$D265) -> 653 | AG265: =SUMIFS(M$265:M$432,$C$265:$C$432,$C265,$D$265:$D$432,12) -> 2603
C266: Aurore Ankle Boot | D266: 2 | E266: 6836 | F266: 4140 | G266: 4853560 | H266: 2939400 | I266: 2027 | J266: 1752 | K266: 3608060 | L266: 3118560 | M266: 4730 | N266: 4260 | O266: 79 | P266: 58 | Q266: =IFERROR(F266/E266-1,0) -> -0.39438268 | R266: =IFERROR(H266/G266-1,0) -> -0.39438268 | S266: =IFERROR(J266/I266-1,0) -> -0.13566848 | T266: =IFERROR(L266/K266-1,0) -> -0.13566848 | U266: =IFERROR(N266/M266-1,0) -> -0.099365751 | V266: =IFERROR(P266/O266-1,0) -> -0.26582278 | W266: =IFERROR(O266/I266,0) -> 0.038973853 | X266: =IFERROR(P266/J266,0) -> 0.033105023 | Y266: =IFERROR((X266-W266)*100,0) -> -0.58688302 | Z266: =IFERROR(AE266/AC266,0) -> 0.29651843 | AA266: =IFERROR(AF266/($AG266+AD266),0) -> 0.35666617 | AB266: =IFERROR((AA266-Z266)*100,0) -> 6.014774 | AC266: =SUMIFS(E$265:E$432,$C$265:$C$432,$C266,$D$265:$D$432,"<="&$D266) -> 6836 | AD266: =SUMIFS(F$265:F$432,$C$265:$C$432,$C266,$D$265:$D$432,"<="&$D266) -> 4140 | AE266: =SUMIFS(I$265:I$432,$C$265:$C$432,$C266,$D$265:$D$432,"<="&$D266) -> 2027 | AF266: =SUMIFS(J$265:J$432,$C$265:$C$432,$C266,$D$265:$D$432,"<="&$D266) -> 2405 | AG266: =SUMIFS(M$265:M$432,$C$265:$C$432,$C266,$D$265:$D$432,12) -> 2603
C267: Aurore Ankle Boot | D267: 3 | E267: 2371 | F267: 3119 | G267: 1683410 | H267: 2214490 | I267: 2475 | J267: 2502 | K267: 4405500 | L267: 4453560 | M267: 4540 | N267: 4800 | O267: 86 | P267: 77 | Q267: =IFERROR(F267/E267-1,0) -> 0.3154787 | R267: =IFERROR(H267/G267-1,0) -> 0.3154787 | S267: =IFERROR(J267/I267-1,0) -> 0.010909091 | T267: =IFERROR(L267/K267-1,0) -> 0.010909091 | U267: =IFERROR(N267/M267-1,0) -> 0.057268722 | V267: =IFERROR(P267/O267-1,0) -> -0.10465116 | W267: =IFERROR(O267/I267,0) -> 0.034747475 | X267: =IFERROR(P267/J267,0) -> 0.03077538 | Y267: =IFERROR((X267-W267)*100,0) -> -0.39720951 | Z267: =IFERROR(AE267/AC267,0) -> 0.48897578 | AA267: =IFERROR(AF267/($AG267+AD267),0) -> 0.49756642 | AB267: =IFERROR((AA267-Z267)*100,0) -> 0.85906373 | AC267: =SUMIFS(E$265:E$432,$C$265:$C$432,$C267,$D$265:$D$432,"<="&$D267) -> 9207 | AD267: =SUMIFS(F$265:F$432,$C$265:$C$432,$C267,$D$265:$D$432,"<="&$D267) -> 7259 | AE267: =SUMIFS(I$265:I$432,$C$265:$C$432,$C267,$D$265:$D$432,"<="&$D267) -> 4502 | AF267: =SUMIFS(J$265:J$432,$C$265:$C$432,$C267,$D$265:$D$432,"<="&$D267) -> 4907 | AG267: =SUMIFS(M$265:M$432,$C$265:$C$432,$C267,$D$265:$D$432,12) -> 2603
C268: Aurore Ankle Boot | D268: 4 | E268: 4985 | F268: 5628 | G268: 3539350 | H268: 3995880 | I268: 3377 | J268: 3495 | K268: 6011060 | L268: 6221100 | M268: 6025 | N268: 6831 | O268: 123 | P268: 102 | Q268: =IFERROR(F268/E268-1,0) -> 0.12898696 | R268: =IFERROR(H268/G268-1,0) -> 0.12898696 | S268: =IFERROR(J268/I268-1,0) -> 0.034942256 | T268: =IFERROR(L268/K268-1,0) -> 0.034942256 | U268: =IFERROR(N268/M268-1,0) -> 0.13377593 | V268: =IFERROR(P268/O268-1,0) -> -0.17073171 | W268: =IFERROR(O268/I268,0) -> 0.036422861 | X268: =IFERROR(P268/J268,0) -> 0.029184549 | Y268: =IFERROR((X268-W268)*100,0) -> -0.72383112 | Z268: =IFERROR(AE268/AC268,0) -> 0.55517193 | AA268: =IFERROR(AF268/($AG268+AD268),0) -> 0.54241446 | AB268: =IFERROR((AA268-Z268)*100,0) -> -1.2757467 | AC268: =SUMIFS(E$265:E$432,$C$265:$C$432,$C268,$D$265:$D$432,"<="&$D268) -> 14192 | AD268: =SUMIFS(F$265:F$432,$C$265:$C$432,$C268,$D$265:$D$432,"<="&$D268) -> 12887 | AE268: =SUMIFS(I$265:I$432,$C$265:$C$432,$C268,$D$265:$D$432,"<="&$D268) -> 7879 | AF268: =SUMIFS(J$265:J$432,$C$265:$C$432,$C268,$D$265:$D$432,"<="&$D268) -> 8402 | AG268: =SUMIFS(M$265:M$432,$C$265:$C$432,$C268,$D$265:$D$432,12) -> 2603
C269: Aurore Ankle Boot | D269: 5 | E269: 0 | F269: 0 | G269: 0 | H269: 0 | I269: 2272 | J269: 2453 | K269: 4044160 | L269: 4366340 | M269: 3682 | N269: 4295 | O269: 71 | P269: 83 | Q269: =IFERROR(F269/E269-1,0) -> 0 | R269: =IFERROR(H269/G269-1,0) -> 0 | S269: =IFERROR(J269/I269-1,0) -> 0.079665493 | T269: =IFERROR(L269/K269-1,0) -> 0.079665493 | U269: =IFERROR(N269/M269-1,0) -> 0.16648561 | V269: =IFERROR(P269/O269-1,0) -> 0.16901408 | W269: =IFERROR(O269/I269,0) -> 0.03125 | X269: =IFERROR(P269/J269,0) -> 0.033836119 | Y269: =IFERROR((X269-W269)*100,0) -> 0.2586119 | Z269: =IFERROR(AE269/AC269,0) -> 0.71526212 | AA269: =IFERROR(AF269/($AG269+AD269),0) -> 0.70077469 | AB269: =IFERROR((AA269-Z269)*100,0) -> -1.4487426 | AC269: =SUMIFS(E$265:E$432,$C$265:$C$432,$C269,$D$265:$D$432,"<="&$D269) -> 14192 | AD269: =SUMIFS(F$265:F$432,$C$265:$C$432,$C269,$D$265:$D$432,"<="&$D269) -> 12887 | AE269: =SUMIFS(I$265:I$432,$C$265:$C$432,$C269,$D$265:$D$432,"<="&$D269) -> 10151 | AF269: =SUMIFS(J$265:J$432,$C$265:$C$432,$C269,$D$265:$D$432,"<="&$D269) -> 10855 | AG269: =SUMIFS(M$265:M$432,$C$265:$C$432,$C269,$D$265:$D$432,12) -> 2603
C270: Aurore Ankle Boot | D270: 6 | E270: 0 | F270: 0 | G270: 0 | H270: 0 | I270: 1636 | J270: 1818 | K270: 2912080 | L270: 3236040 | M270: 1986 | N270: 2420 | O270: 60 | P270: 57 | Q270: =IFERROR(F270/E270-1,0) -> 0 | R270: =IFERROR(H270/G270-1,0) -> 0 | S270: =IFERROR(J270/I270-1,0) -> 0.11124694 | T270: =IFERROR(L270/K270-1,0) -> 0.11124694 | U270: =IFERROR(N270/M270-1,0) -> 0.21852971 | V270: =IFERROR(P270/O270-1,0) -> -0.05 | W270: =IFERROR(O270/I270,0) -> 0.036674817 | X270: =IFERROR(P270/J270,0) -> 0.031353135 | Y270: =IFERROR((X270-W270)*100,0) -> -0.53216813 | Z270: =IFERROR(AE270/AC270,0) -> 0.83053833 | AA270: =IFERROR(AF270/($AG270+AD270),0) -> 0.81814074 | AB270: =IFERROR((AA270-Z270)*100,0) -> -1.2397595 | AC270: =SUMIFS(E$265:E$432,$C$265:$C$432,$C270,$D$265:$D$432,"<="&$D270) -> 14192 | AD270: =SUMIFS(F$265:F$432,$C$265:$C$432,$C270,$D$265:$D$432,"<="&$D270) -> 12887 | AE270: =SUMIFS(I$265:I$432,$C$265:$C$432,$C270,$D$265:$D$432,"<="&$D270) -> 11787 | AF270: =SUMIFS(J$265:J$432,$C$265:$C$432,$C270,$D$265:$D$432,"<="&$D270) -> 12673 | AG270: =SUMIFS(M$265:M$432,$C$265:$C$432,$C270,$D$265:$D$432,12) -> 2603
C271: Aurore Ankle Boot | D271: 7 | E271: 0 | F271: 0 | G271: 0 | H271: 0 | I271: 799 | J271: 953 | K271: 1422220 | L271: 1696340 | M271: 1155 | N271: 1434 | O271: 32 | P271: 33 | Q271: =IFERROR(F271/E271-1,0) -> 0 | R271: =IFERROR(H271/G271-1,0) -> 0 | S271: =IFERROR(J271/I271-1,0) -> 0.19274093 | T271: =IFERROR(L271/K271-1,0) -> 0.19274093 | U271: =IFERROR(N271/M271-1,0) -> 0.24155844 | V271: =IFERROR(P271/O271-1,0) -> 0.03125 | W271: =IFERROR(O271/I271,0) -> 0.040050063 | X271: =IFERROR(P271/J271,0) -> 0.034627492 | Y271: =IFERROR((X271-W271)*100,0) -> -0.54225704 | Z271: =IFERROR(AE271/AC271,0) -> 0.88683766 | AA271: =IFERROR(AF271/($AG271+AD271),0) -> 0.8796643 | AB271: =IFERROR((AA271-Z271)*100,0) -> -0.71733555 | AC271: =SUMIFS(E$265:E$432,$C$265:$C$432,$C271,$D$265:$D$432,"<="&$D271) -> 14192 | AD271: =SUMIFS(F$265:F$432,$C$265:$C$432,$C271,$D$265:$D$432,"<="&$D271) -> 12887 | AE271: =SUMIFS(I$265:I$432,$C$265:$C$432,$C271,$D$265:$D$432,"<="&$D271) -> 12586 | AF271: =SUMIFS(J$265:J$432,$C$265:$C$432,$C271,$D$265:$D$432,"<="&$D271) -> 13626 | AG271: =SUMIFS(M$265:M$432,$C$265:$C$432,$C271,$D$265:$D$432,12) -> 2603
C272: Aurore Ankle Boot | D272: 8 | E272: 3060 | F272: 2932 | G272: 2172600 | H272: 2081720 | I272: 1255 | J272: 1338 | K272: 2233900 | L272: 2381640 | M272: 2920 | N272: 2991 | O272: 40 | P272: 37 | Q272: =IFERROR(F272/E272-1,0) -> -0.041830065 | R272: =IFERROR(H272/G272-1,0) -> -0.041830065 | S272: =IFERROR(J272/I272-1,0) -> 0.066135458 | T272: =IFERROR(L272/K272-1,0) -> 0.066135458 | U272: =IFERROR(N272/M272-1,0) -> 0.024315068 | V272: =IFERROR(P272/O272-1,0) -> -0.075 | W272: =IFERROR(O272/I272,0) -> 0.03187251 | X272: =IFERROR(P272/J272,0) -> 0.027653214 | Y272: =IFERROR((X272-W272)*100,0) -> -0.42192962 | Z272: =IFERROR(AE272/AC272,0) -> 0.80228379 | AA272: =IFERROR(AF272/($AG272+AD272),0) -> 0.81228965 | AB272: =IFERROR((AA272-Z272)*100,0) -> 1.000586 | AC272: =SUMIFS(E$265:E$432,$C$265:$C$432,$C272,$D$265:$D$432,"<="&$D272) -> 17252 | AD272: =SUMIFS(F$265:F$432,$C$265:$C$432,$C272,$D$265:$D$432,"<="&$D272) -> 15819 | AE272: =SUMIFS(I$265:I$432,$C$265:$C$432,$C272,$D$265:$D$432,"<="&$D272) -> 13841 | AF272: =SUMIFS(J$265:J$432,$C$265:$C$432,$C272,$D$265:$D$432,"<="&$D272) -> 14964 | AG272: =SUMIFS(M$265:M$432,$C$265:$C$432,$C272,$D$265:$D$432,12) -> 2603
C273: Aurore Ankle Boot | D273: 9 | E273: 6627 | F273: 3329 | G273: 4705170 | H273: 2363590 | I273: 3160 | J273: 2195 | K273: 5624800 | L273: 3907100 | M273: 6285 | N273: 4051 | O273: 102 | P273: 74 | Q273: =IFERROR(F273/E273-1,0) -> -0.49766108 | R273: =IFERROR(H273/G273-1,0) -> -0.49766108 | S273: =IFERROR(J273/I273-1,0) -> -0.30537975 | T273: =IFERROR(L273/K273-1,0) -> -0.30537975 | U273: =IFERROR(N273/M273-1,0) -> -0.35544948 | V273: =IFERROR(P273/O273-1,0) -> -0.2745098 | W273: =IFERROR(O273/I273,0) -> 0.032278481 | X273: =IFERROR(P273/J273,0) -> 0.033712984 | Y273: =IFERROR((X273-W273)*100,0) -> 0.1434503 | Z273: =IFERROR(AE273/AC273,0) -> 0.71196449 | AA273: =IFERROR(AF273/($AG273+AD273),0) -> 0.78888327 | AB273: =IFERROR((AA273-Z273)*100,0) -> 7.6918782 | AC273: =SUMIFS(E$265:E$432,$C$265:$C$432,$C273,$D$265:$D$432,"<="&$D273) -> 23879 | AD273: =SUMIFS(F$265:F$432,$C$265:$C$432,$C273,$D$265:$D$432,"<="&$D273) -> 19148 | AE273: =SUMIFS(I$265:I$432,$C$265:$C$432,$C273,$D$265:$D$432,"<="&$D273) -> 17001 | AF273: =SUMIFS(J$265:J$432,$C$265:$C$432,$C273,$D$265:$D$432,"<="&$D273) -> 17159 | AG273: =SUMIFS(M$265:M$432,$C$265:$C$432,$C273,$D$265:$D$432,12) -> 2603
C274: Aurore Ankle Boot | D274: 10 | E274: 7404 | F274: 3011 | G274: 5256840 | H274: 2137810 | I274: 5009 | J274: 2397 | K274: 8916020 | L274: 4266660 | M274: 8527 | N274: 4601 | O274: 153 | P274: 64 | Q274: =IFERROR(F274/E274-1,0) -> -0.59332793 | R274: =IFERROR(H274/G274-1,0) -> -0.59332793 | S274: =IFERROR(J274/I274-1,0) -> -0.52146137 | T274: =IFERROR(L274/K274-1,0) -> -0.52146137 | U274: =IFERROR(N274/M274-1,0) -> -0.46041984 | V274: =IFERROR(P274/O274-1,0) -> -0.58169935 | W274: =IFERROR(O274/I274,0) -> 0.030545019 | X274: =IFERROR(P274/J274,0) -> 0.026700042 | Y274: =IFERROR((X274-W274)*100,0) -> -0.38449772 | Z274: =IFERROR(AE274/AC274,0) -> 0.70357702 | AA274: =IFERROR(AF274/($AG274+AD274),0) -> 0.7897585 | AB274: =IFERROR((AA274-Z274)*100,0) -> 8.6181478 | AC274: =SUMIFS(E$265:E$432,$C$265:$C$432,$C274,$D$265:$D$432,"<="&$D274) -> 31283 | AD274: =SUMIFS(F$265:F$432,$C$265:$C$432,$C274,$D$265:$D$432,"<="&$D274) -> 22159 | AE274: =SUMIFS(I$265:I$432,$C$265:$C$432,$C274,$D$265:$D$432,"<="&$D274) -> 22010 | AF274: =SUMIFS(J$265:J$432,$C$265:$C$432,$C274,$D$265:$D$432,"<="&$D274) -> 19556 | AG274: =SUMIFS(M$265:M$432,$C$265:$C$432,$C274,$D$265:$D$432,12) -> 2603
C275: Aurore Ankle Boot | D275: 11 | E275: 0 | F275: 0 | G275: 0 | H275: 0 | I275: 3481 | J275: 1834 | K275: 6196180 | L275: 3264520 | M275: 4940 | N275: 2710 | O275: 106 | P275: 57 | Q275: =IFERROR(F275/E275-1,0) -> 0 | R275: =IFERROR(H275/G275-1,0) -> 0 | S275: =IFERROR(J275/I275-1,0) -> -0.4731399 | T275: =IFERROR(L275/K275-1,0) -> -0.4731399 | U275: =IFERROR(N275/M275-1,0) -> -0.451417 | V275: =IFERROR(P275/O275-1,0) -> -0.46226415 | W275: =IFERROR(O275/I275,0) -> 0.03045102 | X275: =IFERROR(P275/J275,0) -> 0.031079607 | Y275: =IFERROR((X275-W275)*100,0) -> 0.062858759 | Z275: =IFERROR(AE275/AC275,0) -> 0.81485152 | AA275: =IFERROR(AF275/($AG275+AD275),0) -> 0.8638236 | AB275: =IFERROR((AA275-Z275)*100,0) -> 4.8972084 | AC275: =SUMIFS(E$265:E$432,$C$265:$C$432,$C275,$D$265:$D$432,"<="&$D275) -> 31283 | AD275: =SUMIFS(F$265:F$432,$C$265:$C$432,$C275,$D$265:$D$432,"<="&$D275) -> 22159 | AE275: =SUMIFS(I$265:I$432,$C$265:$C$432,$C275,$D$265:$D$432,"<="&$D275) -> 25491 | AF275: =SUMIFS(J$265:J$432,$C$265:$C$432,$C275,$D$265:$D$432,"<="&$D275) -> 21390 | AG275: =SUMIFS(M$265:M$432,$C$265:$C$432,$C275,$D$265:$D$432,12) -> 2603
C276: Aurore Ankle Boot | D276: 12 | E276: 0 | F276: 0 | G276: 0 | H276: 0 | I276: 2270 | J276: 1120 | K276: 4040600 | L276: 1993600 | M276: 2603 | N276: 1552 | O276: 67 | P276: 38 | Q276: =IFERROR(F276/E276-1,0) -> 0 | R276: =IFERROR(H276/G276-1,0) -> 0 | S276: =IFERROR(J276/I276-1,0) -> -0.50660793 | T276: =IFERROR(L276/K276-1,0) -> -0.50660793 | U276: =IFERROR(N276/M276-1,0) -> -0.40376489 | V276: =IFERROR(P276/O276-1,0) -> -0.43283582 | W276: =IFERROR(O276/I276,0) -> 0.029515419 | X276: =IFERROR(P276/J276,0) -> 0.033928571 | Y276: =IFERROR((X276-W276)*100,0) -> 0.44131529 | Z276: =IFERROR(AE276/AC276,0) -> 0.88741489 | AA276: =IFERROR(AF276/($AG276+AD276),0) -> 0.9090542 | AB276: =IFERROR((AA276-Z276)*100,0) -> 2.1639306 | AC276: =SUMIFS(E$265:E$432,$C$265:$C$432,$C276,$D$265:$D$432,"<="&$D276) -> 31283 | AD276: =SUMIFS(F$265:F$432,$C$265:$C$432,$C276,$D$265:$D$432,"<="&$D276) -> 22159 | AE276: =SUMIFS(I$265:I$432,$C$265:$C$432,$C276,$D$265:$D$432,"<="&$D276) -> 27761 | AF276: =SUMIFS(J$265:J$432,$C$265:$C$432,$C276,$D$265:$D$432,"<="&$D276) -> 22510 | AG276: =SUMIFS(M$265:M$432,$C$265:$C$432,$C276,$D$265:$D$432,12) -> 2603
...
